BEGIN:VCALENDAR
VERSION:2.0
PRODID:-//CIEMI - ECPv6.15.13.1//NONSGML v1.0//EN
CALSCALE:GREGORIAN
METHOD:PUBLISH
X-WR-CALNAME:CIEMI
X-ORIGINAL-URL:https://ciemicr.org
X-WR-CALDESC:Eventos para CIEMI
REFRESH-INTERVAL;VALUE=DURATION:PT1H
X-Robots-Tag:noindex
X-PUBLISHED-TTL:PT1H
BEGIN:VTIMEZONE
TZID:America/Costa_Rica
BEGIN:STANDARD
TZOFFSETFROM:-0600
TZOFFSETTO:-0600
TZNAME:CST
DTSTART:20250101T000000
END:STANDARD
END:VTIMEZONE
BEGIN:VEVENT
DTSTART;TZID=America/Costa_Rica:20260702T180000
DTEND;TZID=America/Costa_Rica:20260702T210000
DTSTAMP:20260420T002535
CREATED:20251210T203053Z
LAST-MODIFIED:20251210T203221Z
UID:10002529-1783015200-1783026000@ciemicr.org
SUMMARY:Curso Inspecciones del Proceso Constructivo de Instalaciones Eléctricas de Baja Tensión (hasta 600 voltios)\, en Edificios Industriales\, Comerciales e Institucionales
DESCRIPTION:Inscríbase  \nPrograma
URL:https://ciemicr.org/eventosrefresh_css/curso-inspecciones-del-proceso-constructivo-de-instalaciones-electricas-de-baja-tension-hasta-600-voltios-en-edificios-industriales-comerciales-e-institucionales-8/
LOCATION:Virtual\, Costa Rica
CATEGORIES:Capacitaciones
END:VEVENT
BEGIN:VEVENT
DTSTART;TZID=America/Costa_Rica:20260706T180000
DTEND;TZID=America/Costa_Rica:20260706T210000
DTSTAMP:20260420T002535
CREATED:20251217T183821Z
LAST-MODIFIED:20251217T193742Z
UID:10002544-1783360800-1783371600@ciemicr.org
SUMMARY:Curso Fundamentos de sistemas de supresión contra incendios a base agua NFPA13
DESCRIPTION:Inscríbase  \nPrograma
URL:https://ciemicr.org/eventosrefresh_css/curso-fundamentos-de-sistemas-de-supresion-contra-incendios-a-base-agua-nfpa13/
LOCATION:Virtual\, Costa Rica
CATEGORIES:Capacitaciones
ATTACH;FMTTYPE=image/jpeg:https://ciemicr.org/wp-content/uploads/2025/12/Fund.SistemasdeSupresion.jpg
END:VEVENT
BEGIN:VEVENT
DTSTART;TZID=America/Costa_Rica:20260707T180000
DTEND;TZID=America/Costa_Rica:20260707T210000
DTSTAMP:20260420T002535
CREATED:20251210T201010Z
LAST-MODIFIED:20251210T201010Z
UID:10002523-1783447200-1783458000@ciemicr.org
SUMMARY:Curso CAPDEE M4 Criterios de diseño desde el punto de vista de coordinación de protecciones
DESCRIPTION:Inscríbase  \nPrograma
URL:https://ciemicr.org/eventosrefresh_css/curso-capdee-m4-criterios-de-diseno-desde-el-punto-de-vista-de-coordinacion-de-protecciones/
LOCATION:Virtual\, Costa Rica
CATEGORIES:Capacitaciones
END:VEVENT
BEGIN:VEVENT
DTSTART;TZID=America/Costa_Rica:20260721T180000
DTEND;TZID=America/Costa_Rica:20260721T210000
DTSTAMP:20260420T002535
CREATED:20251217T194257Z
LAST-MODIFIED:20251217T194257Z
UID:10002545-1784656800-1784667600@ciemicr.org
SUMMARY:Curso Introducción al estudio de vehículos de carga\, Módulo I
DESCRIPTION:Inscríbase  \nPrograma
URL:https://ciemicr.org/eventosrefresh_css/curso-introduccion-al-estudio-de-vehiculos-de-carga-modulo-i/
LOCATION:Virtual\, Costa Rica
CATEGORIES:Capacitaciones
ATTACH;FMTTYPE=image/jpeg:https://ciemicr.org/wp-content/uploads/2025/12/IntroEstu_VehiculosCarga.jpg
END:VEVENT
END:VCALENDAR