BEGIN:VCALENDAR
VERSION:2.0
PRODID:-//CIEMI - ECPv6.15.13.1//NONSGML v1.0//EN
CALSCALE:GREGORIAN
METHOD:PUBLISH
X-ORIGINAL-URL:https://ciemicr.org
X-WR-CALDESC:Eventos para CIEMI
REFRESH-INTERVAL;VALUE=DURATION:PT1H
X-Robots-Tag:noindex
X-PUBLISHED-TTL:PT1H
BEGIN:VTIMEZONE
TZID:America/Costa_Rica
BEGIN:STANDARD
TZOFFSETFROM:-0600
TZOFFSETTO:-0600
TZNAME:CST
DTSTART:20250101T000000
END:STANDARD
END:VTIMEZONE
BEGIN:VEVENT
DTSTART;TZID=America/Costa_Rica:20260420T170000
DTEND;TZID=America/Costa_Rica:20260420T200000
DTSTAMP:20260419T230158
CREATED:20260323T224852Z
LAST-MODIFIED:20260323T224852Z
UID:10002567-1776704400-1776715200@ciemicr.org
SUMMARY:Certificación Six Sigma Yellow Belt
DESCRIPTION:Más información
URL:https://ciemicr.org/eventosrefresh_css/certificacion-six-sigma-yellow-belt-2/
LOCATION:Virtual\, Costa Rica
CATEGORIES:Capacitaciones
ATTACH;FMTTYPE=image/jpeg:https://ciemicr.org/wp-content/uploads/2026/03/yellow-CIEMI.jpg
END:VEVENT
BEGIN:VEVENT
DTSTART;TZID=America/Costa_Rica:20260421T080000
DTEND;TZID=America/Costa_Rica:20260421T170000
DTSTAMP:20260419T230158
CREATED:20260323T170154Z
LAST-MODIFIED:20260323T170154Z
UID:10002566-1776758400-1776790800@ciemicr.org
SUMMARY:Curso NFPA 101: Código de Seguridad Humana
DESCRIPTION:Inscríbase  \nPrograma
URL:https://ciemicr.org/eventosrefresh_css/curso-nfpa-101-codigo-de-seguridad-humana-5/
LOCATION:CCCIEMI\, CIEMI\, CIEMI\, Costa Rica
CATEGORIES:Capacitaciones
ATTACH;FMTTYPE=image/png:https://ciemicr.org/wp-content/uploads/2026/03/FB-info.png
END:VEVENT
BEGIN:VEVENT
DTSTART;TZID=America/Costa_Rica:20260427T170000
DTEND;TZID=America/Costa_Rica:20260427T200000
DTSTAMP:20260419T230158
CREATED:20260323T225059Z
LAST-MODIFIED:20260323T225059Z
UID:10002568-1777309200-1777320000@ciemicr.org
SUMMARY:Programa Excel Completo\, básico\, intermedio y avanzado
DESCRIPTION:Más información
URL:https://ciemicr.org/eventosrefresh_css/programa-excel-completo-basico-intermedio-y-avanzado-9/
LOCATION:Virtual\, Costa Rica
CATEGORIES:Capacitaciones
ATTACH;FMTTYPE=image/jpeg:https://ciemicr.org/wp-content/uploads/2026/03/excel-completo-abril.jpg
END:VEVENT
BEGIN:VEVENT
DTSTART;TZID=America/Costa_Rica:20260428T130000
DTEND;TZID=America/Costa_Rica:20260428T200000
DTSTAMP:20260419T230158
CREATED:20260326T163951Z
LAST-MODIFIED:20260407T145938Z
UID:10002569-1777381200-1777406400@ciemicr.org
SUMMARY:Seminario IngenierIA y sus Aplicaciones en la Industria 5.0
DESCRIPTION:Inscríbase \nEjes temáticos
URL:https://ciemicr.org/eventosrefresh_css/seminario-ingenieria-y-sus-aplicaciones-en-la-industria-5-0/
LOCATION:Auditorio del CFIA\, Curridabat\, 2346-1000\, Costa Rica\, Colegio de Ingenieros y Arquitectos\, Costa Rica
CATEGORIES:Eventos
ATTACH;FMTTYPE=image/jpeg:https://ciemicr.org/wp-content/uploads/2026/03/FB-35.jpg
GEO:9.9253512346433;-84.03936233163
X-APPLE-STRUCTURED-LOCATION;VALUE=URI;X-ADDRESS=Auditorio del CFIA Curridabat 2346-1000 Costa Rica Colegio de Ingenieros y Arquitectos Costa Rica;X-APPLE-RADIUS=500;X-TITLE=2346-1000:geo:-84.03936233163,9.9253512346433
END:VEVENT
BEGIN:VEVENT
DTSTART;TZID=America/Costa_Rica:20260505T180000
DTEND;TZID=America/Costa_Rica:20260505T210000
DTSTAMP:20260419T230158
CREATED:20251210T200447Z
LAST-MODIFIED:20251217T205431Z
UID:10002522-1778004000-1778014800@ciemicr.org
SUMMARY:Curso CAPDEE-M3:Criterios de diseño desde el punto de vista de corrientes de cortocircuito
DESCRIPTION:Inscríbase  \nPrograma
URL:https://ciemicr.org/eventosrefresh_css/curso-capdee-m3criterios-de-diseno-desde-el-punto-de-vista-de-corrientes-de-cortocircuito-5/
LOCATION:Virtual\, Costa Rica
CATEGORIES:Capacitaciones
ATTACH;FMTTYPE=image/jpeg:https://ciemicr.org/wp-content/uploads/2025/12/CursoCAPDEE-M3.jpg
END:VEVENT
BEGIN:VEVENT
DTSTART;TZID=America/Costa_Rica:20260512T180000
DTEND;TZID=America/Costa_Rica:20260512T210000
DTSTAMP:20260419T230158
CREATED:20251217T182248Z
LAST-MODIFIED:20260325T220156Z
UID:10002542-1778608800-1778619600@ciemicr.org
SUMMARY:Curso Puesta a Tierra para sistemas complejos
DESCRIPTION:Inscríbase  \nPrograma
URL:https://ciemicr.org/eventosrefresh_css/curso-puesta-a-tierra-para-sistemas-complejos-2/
LOCATION:Virtual\, Costa Rica
CATEGORIES:Capacitaciones
ATTACH;FMTTYPE=image/png:https://ciemicr.org/wp-content/uploads/2025/12/PuestaTierra.png
END:VEVENT
BEGIN:VEVENT
DTSTART;TZID=America/Costa_Rica:20260514T080000
DTEND;TZID=America/Costa_Rica:20260514T190000
DTSTAMP:20260419T230158
CREATED:20260326T170610Z
LAST-MODIFIED:20260415T214451Z
UID:10002570-1778745600-1778785200@ciemicr.org
SUMMARY:Seminario HVAC
DESCRIPTION:Inscríbase \nPrograma
URL:https://ciemicr.org/eventosrefresh_css/seminario-hvac/
CATEGORIES:Eventos
ATTACH;FMTTYPE=image/jpeg:https://ciemicr.org/wp-content/uploads/2026/03/1FB-5.jpg
END:VEVENT
BEGIN:VEVENT
DTSTART;TZID=America/Costa_Rica:20260521T180000
DTEND;TZID=America/Costa_Rica:20260521T210000
DTSTAMP:20260419T230158
CREATED:20251210T212032Z
LAST-MODIFIED:20260416T224103Z
UID:10002533-1779386400-1779397200@ciemicr.org
SUMMARY:Curso # 1 Ingeniería del fuego
DESCRIPTION:Inscríbase  \nPrograma
URL:https://ciemicr.org/eventosrefresh_css/curso-1-ingenieria-del-fuego-3/
LOCATION:Virtual\, Costa Rica
CATEGORIES:Capacitaciones
ATTACH;FMTTYPE=image/png:https://ciemicr.org/wp-content/uploads/2025/12/Curso1_IngdelFuego_14mayo-1.png
END:VEVENT
BEGIN:VEVENT
DTSTART;TZID=America/Costa_Rica:20260610T180000
DTEND;TZID=America/Costa_Rica:20260610T210000
DTSTAMP:20260419T230158
CREATED:20251217T183509Z
LAST-MODIFIED:20251217T183509Z
UID:10002543-1781114400-1781125200@ciemicr.org
SUMMARY:Curso Diseño de instalaciones hidráulicas en edificaciones Módulo I: Sistemas de suministro y distribución de agua
DESCRIPTION:Inscríbase  \nPrograma
URL:https://ciemicr.org/eventosrefresh_css/curso-diseno-de-instalaciones-hidraulicas-en-edificaciones-modulo-i-sistemas-de-suministro-y-distribucion-de-agua/
LOCATION:Virtual\, Costa Rica
CATEGORIES:Capacitaciones
ATTACH;FMTTYPE=image/jpeg:https://ciemicr.org/wp-content/uploads/2025/12/DisenoInstHidraulicas.jpg
END:VEVENT
BEGIN:VEVENT
DTSTART;TZID=America/Costa_Rica:20260616T180000
DTEND;TZID=America/Costa_Rica:20260616T210000
DTSTAMP:20260419T230158
CREATED:20251210T225026Z
LAST-MODIFIED:20251210T225026Z
UID:10002538-1781632800-1781643600@ciemicr.org
SUMMARY:Curso #4 Inspectores de instalaciones de consumo\, almacenamiento y venta de Gas Licuado de Petróleo “Basado en NFPA 58"
DESCRIPTION:Inscríbase  \nPrograma
URL:https://ciemicr.org/eventosrefresh_css/curso-4-inspectores-de-instalaciones-de-consumo-almacenamiento-y-venta-de-gas-licuado-de-petroleo-basado-en-nfpa-58-9/
LOCATION:Virtual\, Costa Rica
CATEGORIES:Capacitaciones
END:VEVENT
BEGIN:VEVENT
DTSTART;TZID=America/Costa_Rica:20260702T180000
DTEND;TZID=America/Costa_Rica:20260702T210000
DTSTAMP:20260419T230158
CREATED:20251210T203053Z
LAST-MODIFIED:20251210T203221Z
UID:10002529-1783015200-1783026000@ciemicr.org
SUMMARY:Curso Inspecciones del Proceso Constructivo de Instalaciones Eléctricas de Baja Tensión (hasta 600 voltios)\, en Edificios Industriales\, Comerciales e Institucionales
DESCRIPTION:Inscríbase  \nPrograma
URL:https://ciemicr.org/eventosrefresh_css/curso-inspecciones-del-proceso-constructivo-de-instalaciones-electricas-de-baja-tension-hasta-600-voltios-en-edificios-industriales-comerciales-e-institucionales-8/
LOCATION:Virtual\, Costa Rica
CATEGORIES:Capacitaciones
END:VEVENT
BEGIN:VEVENT
DTSTART;TZID=America/Costa_Rica:20260706T180000
DTEND;TZID=America/Costa_Rica:20260706T210000
DTSTAMP:20260419T230158
CREATED:20251217T183821Z
LAST-MODIFIED:20251217T193742Z
UID:10002544-1783360800-1783371600@ciemicr.org
SUMMARY:Curso Fundamentos de sistemas de supresión contra incendios a base agua NFPA13
DESCRIPTION:Inscríbase  \nPrograma
URL:https://ciemicr.org/eventosrefresh_css/curso-fundamentos-de-sistemas-de-supresion-contra-incendios-a-base-agua-nfpa13/
LOCATION:Virtual\, Costa Rica
CATEGORIES:Capacitaciones
ATTACH;FMTTYPE=image/jpeg:https://ciemicr.org/wp-content/uploads/2025/12/Fund.SistemasdeSupresion.jpg
END:VEVENT
BEGIN:VEVENT
DTSTART;TZID=America/Costa_Rica:20260707T180000
DTEND;TZID=America/Costa_Rica:20260707T210000
DTSTAMP:20260419T230158
CREATED:20251210T201010Z
LAST-MODIFIED:20251210T201010Z
UID:10002523-1783447200-1783458000@ciemicr.org
SUMMARY:Curso CAPDEE M4 Criterios de diseño desde el punto de vista de coordinación de protecciones
DESCRIPTION:Inscríbase  \nPrograma
URL:https://ciemicr.org/eventosrefresh_css/curso-capdee-m4-criterios-de-diseno-desde-el-punto-de-vista-de-coordinacion-de-protecciones/
LOCATION:Virtual\, Costa Rica
CATEGORIES:Capacitaciones
END:VEVENT
BEGIN:VEVENT
DTSTART;TZID=America/Costa_Rica:20260721T180000
DTEND;TZID=America/Costa_Rica:20260721T210000
DTSTAMP:20260419T230158
CREATED:20251217T194257Z
LAST-MODIFIED:20251217T194257Z
UID:10002545-1784656800-1784667600@ciemicr.org
SUMMARY:Curso Introducción al estudio de vehículos de carga\, Módulo I
DESCRIPTION:Inscríbase  \nPrograma
URL:https://ciemicr.org/eventosrefresh_css/curso-introduccion-al-estudio-de-vehiculos-de-carga-modulo-i/
LOCATION:Virtual\, Costa Rica
CATEGORIES:Capacitaciones
ATTACH;FMTTYPE=image/jpeg:https://ciemicr.org/wp-content/uploads/2025/12/IntroEstu_VehiculosCarga.jpg
END:VEVENT
BEGIN:VEVENT
DTSTART;TZID=America/Costa_Rica:20260803T180000
DTEND;TZID=America/Costa_Rica:20260803T203000
DTSTAMP:20260419T230158
CREATED:20251210T195340Z
LAST-MODIFIED:20251210T195340Z
UID:10002519-1785780000-1785789000@ciemicr.org
SUMMARY:Curso ISO14064-1 e INTE B5 Carbono neutralidad
DESCRIPTION:Inscríbase  \nPrograma
URL:https://ciemicr.org/eventosrefresh_css/curso-iso14064-1-e-inte-b5-carbono-neutralidad/
LOCATION:Virtual\, Costa Rica
CATEGORIES:Capacitaciones
END:VEVENT
BEGIN:VEVENT
DTSTART;TZID=America/Costa_Rica:20260805T180000
DTEND;TZID=America/Costa_Rica:20260805T210000
DTSTAMP:20260419T230158
CREATED:20251217T194612Z
LAST-MODIFIED:20251217T194612Z
UID:10002546-1785952800-1785963600@ciemicr.org
SUMMARY:Curso Diseño de instalaciones hidráulicas en edificaciones Módulo II: Sistemas de suministro y distribución de agua
DESCRIPTION:Inscríbase  \nPrograma
URL:https://ciemicr.org/eventosrefresh_css/curso-diseno-de-instalaciones-hidraulicas-en-edificaciones-modulo-ii-sistemas-de-suministro-y-distribucion-de-agua-4/
LOCATION:Virtual\, Costa Rica
CATEGORIES:Capacitaciones
ATTACH;FMTTYPE=image/jpeg:https://ciemicr.org/wp-content/uploads/2025/12/DisenoInstHidraulicas_ModII.jpg
END:VEVENT
BEGIN:VEVENT
DTSTART;TZID=America/Costa_Rica:20260901T180000
DTEND;TZID=America/Costa_Rica:20260901T210000
DTSTAMP:20260419T230158
CREATED:20251210T201152Z
LAST-MODIFIED:20251210T201223Z
UID:10002524-1788285600-1788296400@ciemicr.org
SUMMARY:Curso CAPDEE-M5: Diseño de Sistemas de puesta a tierra en las instalaciones eléctricas
DESCRIPTION:Inscríbase  \nPrograma
URL:https://ciemicr.org/eventosrefresh_css/curso-capdee-m5-diseno-de-sistemas-de-puesta-a-tierra-en-las-instalaciones-electricas-9/
LOCATION:Virtual\, Costa Rica
CATEGORIES:Capacitaciones
END:VEVENT
BEGIN:VEVENT
DTSTART;TZID=America/Costa_Rica:20260917T180000
DTEND;TZID=America/Costa_Rica:20260917T210000
DTSTAMP:20260419T230158
CREATED:20251210T204459Z
LAST-MODIFIED:20251210T204459Z
UID:10002530-1789668000-1789678800@ciemicr.org
SUMMARY:Curso Seguridad eléctrica y Arc-Flash basado en NFPA 70E\, IEEE 1584
DESCRIPTION:Inscríbase  \nPrograma
URL:https://ciemicr.org/eventosrefresh_css/curso-seguridad-electrica-y-arc-flash-basado-en-nfpa-70e-ieee-1584-6/
LOCATION:Virtual\, Costa Rica
CATEGORIES:Capacitaciones
END:VEVENT
BEGIN:VEVENT
DTSTART;TZID=America/Costa_Rica:20260922T180000
DTEND;TZID=America/Costa_Rica:20260922T210000
DTSTAMP:20260419T230158
CREATED:20251217T195019Z
LAST-MODIFIED:20251217T195019Z
UID:10002547-1790100000-1790110800@ciemicr.org
SUMMARY:Curso Estudios de Modificación y Conversión de Vehículos de Carga\, Módulo II
DESCRIPTION:Inscríbase  \nPrograma
URL:https://ciemicr.org/eventosrefresh_css/curso-estudios-de-modificacion-y-conversion-de-vehiculos-de-carga-modulo-ii/
LOCATION:Virtual\, Costa Rica
CATEGORIES:Capacitaciones
ATTACH;FMTTYPE=image/jpeg:https://ciemicr.org/wp-content/uploads/2025/12/ModuloII-2.jpg
END:VEVENT
BEGIN:VEVENT
DTSTART;TZID=America/Costa_Rica:20261007T180000
DTEND;TZID=America/Costa_Rica:20261007T210000
DTSTAMP:20260419T230158
CREATED:20251217T195242Z
LAST-MODIFIED:20251217T195242Z
UID:10002548-1791396000-1791406800@ciemicr.org
SUMMARY:Curso Diseño de sistemas mecánicos para piscinas
DESCRIPTION:Inscríbase \nPrograma
URL:https://ciemicr.org/eventosrefresh_css/curso-diseno-de-sistemas-mecanicos-para-piscinas-5/
LOCATION:Virtual\, Costa Rica
CATEGORIES:Capacitaciones
ATTACH;FMTTYPE=image/jpeg:https://ciemicr.org/wp-content/uploads/2025/12/CursoCAPDEE-M6.jpg
END:VEVENT
BEGIN:VEVENT
DTSTART;TZID=America/Costa_Rica:20261014T180000
DTEND;TZID=America/Costa_Rica:20261014T210000
DTSTAMP:20260419T230158
CREATED:20251210T211210Z
LAST-MODIFIED:20251210T211210Z
UID:10002531-1792000800-1792011600@ciemicr.org
SUMMARY:Curso Diseño e Inspección de Sistemas de Automatización De Edificios
DESCRIPTION:Inscríbase  \nPrograma
URL:https://ciemicr.org/eventosrefresh_css/curso-diseno-e-inspeccion-de-sistemas-de-automatizacion-de-edificios-5/
LOCATION:Virtual\, Costa Rica
CATEGORIES:Capacitaciones
END:VEVENT
BEGIN:VEVENT
DTSTART;TZID=America/Costa_Rica:20261019T180000
DTEND;TZID=America/Costa_Rica:20261019T210000
DTSTAMP:20260419T230158
CREATED:20251210T201505Z
LAST-MODIFIED:20251210T201505Z
UID:10002525-1792432800-1792443600@ciemicr.org
SUMMARY:Curso CAPDEE-M6: Diseño e inspección de sistemas de detección y activación de incendios
DESCRIPTION:Inscríbase  \nPrograma
URL:https://ciemicr.org/eventosrefresh_css/curso-capdee-m6-diseno-e-inspeccion-de-sistemas-de-deteccion-y-activacion-de-incendios-3/
LOCATION:Virtual\, Costa Rica
CATEGORIES:Capacitaciones
END:VEVENT
END:VCALENDAR