BEGIN:VCALENDAR
VERSION:2.0
PRODID:-//CIEMI - ECPv6.15.13.1//NONSGML v1.0//EN
CALSCALE:GREGORIAN
METHOD:PUBLISH
X-WR-CALNAME:CIEMI
X-ORIGINAL-URL:https://ciemicr.org
X-WR-CALDESC:Eventos para CIEMI
REFRESH-INTERVAL;VALUE=DURATION:PT1H
X-Robots-Tag:noindex
X-PUBLISHED-TTL:PT1H
BEGIN:VTIMEZONE
TZID:America/Costa_Rica
BEGIN:STANDARD
TZOFFSETFROM:-0600
TZOFFSETTO:-0600
TZNAME:CST
DTSTART:20240101T000000
END:STANDARD
END:VTIMEZONE
BEGIN:VEVENT
DTSTART;TZID=America/Costa_Rica:20250807T180000
DTEND;TZID=America/Costa_Rica:20250807T210000
DTSTAMP:20260420T191842
CREATED:20241128T182916Z
LAST-MODIFIED:20250605T165640Z
UID:10001559-1754589600-1754600400@ciemicr.org
SUMMARY:Curso Puesta a Tierra para sistemas complejos
DESCRIPTION:Inscríbase \nPrograma
URL:https://ciemicr.org/eventosrefresh_css/curso-puesta-a-tierra-para-sistemas-complejos/
LOCATION:Virtual\, Costa Rica
CATEGORIES:Capacitaciones
ATTACH;FMTTYPE=image/jpeg:https://ciemicr.org/wp-content/uploads/2024/11/Curso-Puesta-a-Tierra-parasistemas-complejos.jpg
END:VEVENT
BEGIN:VEVENT
DTSTART;TZID=America/Costa_Rica:20250807T180000
DTEND;TZID=America/Costa_Rica:20250807T180000
DTSTAMP:20260420T191842
CREATED:20250729T211412Z
LAST-MODIFIED:20250801T174636Z
UID:10002479-1754589600-1754589600@ciemicr.org
SUMMARY:Webinar: La evolución de la Ingeniería Agrícola y Biosistemas\, una perspectiva desde la Industria Automotriz
DESCRIPTION:Inscríbase 
URL:https://ciemicr.org/eventosrefresh_css/webinar-la-evolucion-de-la-ingenieria-agricola-y-biosistemas/
LOCATION:Virtual\, Costa Rica
CATEGORIES:Conferencias
ATTACH;FMTTYPE=image/jpeg:https://ciemicr.org/wp-content/uploads/2025/07/Webinar-La-evolucion-de-la-Ingenieria-Agricola-2.jpg
END:VEVENT
BEGIN:VEVENT
DTSTART;TZID=America/Costa_Rica:20250731T170000
DTEND;TZID=America/Costa_Rica:20250731T200000
DTSTAMP:20260420T191842
CREATED:20250616T180413Z
LAST-MODIFIED:20250616T180413Z
UID:10002469-1753981200-1753992000@ciemicr.org
SUMMARY:Programa excel completo: básico\, Intermedio y avanzado
DESCRIPTION:Más información
URL:https://ciemicr.org/eventosrefresh_css/programa-excel-completo-basico-intermedio-y-avanzado-7/
LOCATION:Virtual\, Costa Rica
CATEGORIES:Capacitaciones
ATTACH;FMTTYPE=image/jpeg:https://ciemicr.org/wp-content/uploads/2025/06/Excel-completo-CIEMI-julio.jpg
END:VEVENT
BEGIN:VEVENT
DTSTART;TZID=America/Costa_Rica:20250730T180000
DTEND;TZID=America/Costa_Rica:20250730T210000
DTSTAMP:20260420T191842
CREATED:20241126T215033Z
LAST-MODIFIED:20250117T172405Z
UID:10001557-1753898400-1753909200@ciemicr.org
SUMMARY:Curso Fundamentos de Ventilación
DESCRIPTION:Inscríbase \nPrograma
URL:https://ciemicr.org/eventosrefresh_css/curso-fundamentos-de-ventilacion-2/
LOCATION:Virtual\, Costa Rica
CATEGORIES:Capacitaciones
ATTACH;FMTTYPE=image/jpeg:https://ciemicr.org/wp-content/uploads/2024/11/Curso-Fundamentos-de-Ventilacion.jpg
END:VEVENT
BEGIN:VEVENT
DTSTART;TZID=America/Costa_Rica:20250729T180000
DTEND;TZID=America/Costa_Rica:20250729T180000
DTSTAMP:20260420T191842
CREATED:20250723T150142Z
LAST-MODIFIED:20250723T150941Z
UID:10002478-1753812000-1753812000@ciemicr.org
SUMMARY:Webinar ¿Cómo evitar pérdidas millonarias generadas por marea roja?
DESCRIPTION:Inscríbase
URL:https://ciemicr.org/eventosrefresh_css/webinar-como-evitar-perdidas-millonarias-generadas-por-marea-roja/
LOCATION:Virtual\, Costa Rica
CATEGORIES:Conferencias
ATTACH;FMTTYPE=image/jpeg:https://ciemicr.org/wp-content/uploads/2025/07/MR.jpg
END:VEVENT
BEGIN:VEVENT
DTSTART;TZID=America/Costa_Rica:20250728T180000
DTEND;TZID=America/Costa_Rica:20250728T180000
DTSTAMP:20260420T191842
CREATED:20250714T205112Z
LAST-MODIFIED:20250714T215359Z
UID:10002476-1753725600-1753725600@ciemicr.org
SUMMARY:Webinar Energías alternativas y uso eficiente de la energía eléctrica en nuestros hogares y centros de trabajo
DESCRIPTION:Inscríbase
URL:https://ciemicr.org/eventosrefresh_css/webinar-energias-alternativas-y-uso-eficiente-de-la-energia-electrica-en-nuestros-hogares-y-centros-de-trabajo/
LOCATION:Virtual\, Costa Rica
CATEGORIES:Conferencias
ATTACH;FMTTYPE=image/jpeg:https://ciemicr.org/wp-content/uploads/2025/07/Webiar-Energias-Alternativas.jpg
END:VEVENT
BEGIN:VEVENT
DTSTART;TZID=America/Costa_Rica:20250718T170000
DTEND;TZID=America/Costa_Rica:20250718T200000
DTSTAMP:20260420T191842
CREATED:20250616T175549Z
LAST-MODIFIED:20250616T175654Z
UID:10002468-1752858000-1752868800@ciemicr.org
SUMMARY:Programa excel intermedio
DESCRIPTION:Más información
URL:https://ciemicr.org/eventosrefresh_css/programa-excel-intermedio/
LOCATION:Virtual\, Costa Rica
CATEGORIES:Capacitaciones
ATTACH;FMTTYPE=image/jpeg:https://ciemicr.org/wp-content/uploads/2025/06/08-EXCEL-INTERMEDIO-julio.jpg
END:VEVENT
BEGIN:VEVENT
DTSTART;TZID=America/Costa_Rica:20250717T183000
DTEND;TZID=America/Costa_Rica:20250717T183000
DTSTAMP:20260420T191842
CREATED:20250701T213220Z
LAST-MODIFIED:20250701T213324Z
UID:10002473-1752777000-1752777000@ciemicr.org
SUMMARY:Webinar Caso de estudio sistema de puesta a tierra especial
DESCRIPTION:Inscríbase 
URL:https://ciemicr.org/eventosrefresh_css/webinar-caso-de-estudio-sistema-de-puesta-a-tierra-especial/
CATEGORIES:Conferencias
ATTACH;FMTTYPE=image/jpeg:https://ciemicr.org/wp-content/uploads/2025/07/Webinar-Caso-de-estudio-sistema-de-puesta-a-tierra-especial.jpg
END:VEVENT
BEGIN:VEVENT
DTSTART;TZID=America/Costa_Rica:20250714T180000
DTEND;TZID=America/Costa_Rica:20250714T210000
DTSTAMP:20260420T191842
CREATED:20250609T231130Z
LAST-MODIFIED:20250609T231720Z
UID:10002464-1752516000-1752526800@ciemicr.org
SUMMARY:Curso CAPDEE M2: Diseño eléctrico\, residencial y comercial
DESCRIPTION:Inscríbase \nPrograma
URL:https://ciemicr.org/eventosrefresh_css/curso-capdee-m2-diseno-electrico-residencial-y-comercial/
LOCATION:Virtual\, Costa Rica
CATEGORIES:Capacitaciones
ATTACH;FMTTYPE=image/jpeg:https://ciemicr.org/wp-content/uploads/2025/06/CAPDEEM2.jpg
END:VEVENT
BEGIN:VEVENT
DTSTART;TZID=America/Costa_Rica:20250714T100000
DTEND;TZID=America/Costa_Rica:20250714T100000
DTSTAMP:20260420T191842
CREATED:20250710T003507Z
LAST-MODIFIED:20250710T004505Z
UID:10002474-1752487200-1752487200@ciemicr.org
SUMMARY:Webinar Sesión informativa para programa formación Certificación PMP
DESCRIPTION:Inscríbase 
URL:https://ciemicr.org/eventosrefresh_css/webinar-sesion-informativa-para-programa-formacion-certificacion-pmp-4/
LOCATION:Virtual\, Costa Rica
CATEGORIES:Conferencias
ATTACH;FMTTYPE=image/jpeg:https://ciemicr.org/wp-content/uploads/2025/07/WEBINAR-PMP.jpg
END:VEVENT
BEGIN:VEVENT
DTSTART;TZID=America/Costa_Rica:20250704T080000
DTEND;TZID=America/Costa_Rica:20250704T113000
DTSTAMP:20260420T191842
CREATED:20250630T165056Z
LAST-MODIFIED:20250630T165056Z
UID:10002472-1751616000-1751628600@ciemicr.org
SUMMARY:Foro: Servicios Auxiliares y Almacenamiento de Energía
DESCRIPTION:Inscríbase
URL:https://ciemicr.org/eventosrefresh_css/foro-servicios-auxiliares-y-almacenamiento-de-energia/
LOCATION:Auditorio del CFIA\, Curridabat\, 2346-1000\, Costa Rica\, Colegio de Ingenieros y Arquitectos\, Costa Rica
CATEGORIES:Eventos
ATTACH;FMTTYPE=image/jpeg:https://ciemicr.org/wp-content/uploads/2025/06/511021825_1031955692479521_3221723544574279005_n.jpg
GEO:9.9253512346433;-84.03936233163
X-APPLE-STRUCTURED-LOCATION;VALUE=URI;X-ADDRESS=Auditorio del CFIA Curridabat 2346-1000 Costa Rica Colegio de Ingenieros y Arquitectos Costa Rica;X-APPLE-RADIUS=500;X-TITLE=2346-1000:geo:-84.03936233163,9.9253512346433
END:VEVENT
BEGIN:VEVENT
DTSTART;TZID=America/Costa_Rica:20250703T180000
DTEND;TZID=America/Costa_Rica:20250703T210000
DTSTAMP:20260420T191842
CREATED:20241126T215520Z
LAST-MODIFIED:20250605T172222Z
UID:10001558-1751565600-1751576400@ciemicr.org
SUMMARY:Curso #3 Propiedades del Gas LP y Normativa Asociada a las Instalaciones de GLP
DESCRIPTION:Inscríbase \nPrograma
URL:https://ciemicr.org/eventosrefresh_css/curso-3-propiedades-del-gas-lp-y-normativa-asociada-a-las-instalaciones-de-glp-5/
LOCATION:Virtual\, Costa Rica
CATEGORIES:Capacitaciones
ATTACH;FMTTYPE=image/jpeg:https://ciemicr.org/wp-content/uploads/2024/11/Curso-3Propiedades-del-Gas-LP-y-NormativaAsociada-a-las-Instalaciones-de-GL-1.jpg
END:VEVENT
BEGIN:VEVENT
DTSTART;TZID=America/Costa_Rica:20250703T180000
DTEND;TZID=America/Costa_Rica:20250703T180000
DTSTAMP:20260420T191842
CREATED:20250528T231739Z
LAST-MODIFIED:20250616T225347Z
UID:10002458-1751565600-1751565600@ciemicr.org
SUMMARY:Webinar La ingeniería agrícola y de biosistemas en el análisis técnico y modelado de acueductos para la reducción de agua no contabilizada (ANC)
DESCRIPTION:Inscríbase
URL:https://ciemicr.org/eventosrefresh_css/webinar-la-ingenieria-agricola-y-de-biosistemas-en-el-analisis-tecnico-y-modelado-de-acueductos-para-la-reduccion-de-agua-no-contabilizada-anc/
CATEGORIES:Conferencias
ATTACH;FMTTYPE=image/jpeg:https://ciemicr.org/wp-content/uploads/2025/05/WEBINAR-1-04.jpg
END:VEVENT
BEGIN:VEVENT
DTSTART;TZID=America/Costa_Rica:20250703T083000
DTEND;TZID=America/Costa_Rica:20250703T123000
DTSTAMP:20260420T191842
CREATED:20250616T173925Z
LAST-MODIFIED:20250616T180508Z
UID:10002466-1751531400-1751545800@ciemicr.org
SUMMARY:Programa excel completo: básico\, intermedio y avanzado
DESCRIPTION:Más información
URL:https://ciemicr.org/eventosrefresh_css/programa-excel-completo-basico-intermedio-y-avanzado-5/
LOCATION:Virtual\, Costa Rica
CATEGORIES:Capacitaciones
ATTACH;FMTTYPE=image/jpeg:https://ciemicr.org/wp-content/uploads/2025/06/Excel-completo-CIEMI-julio-manana-1.jpg
END:VEVENT
BEGIN:VEVENT
DTSTART;TZID=America/Costa_Rica:20250702T183000
DTEND;TZID=America/Costa_Rica:20250702T183000
DTSTAMP:20260420T191842
CREATED:20250616T230211Z
LAST-MODIFIED:20250619T181805Z
UID:10002470-1751481000-1751481000@ciemicr.org
SUMMARY:Webinar Los ataques cibernéticos en la era de la IA-el adversario artificial
DESCRIPTION:Inscríbase
URL:https://ciemicr.org/eventosrefresh_css/webinar-los-ataques-ciberneticos-en-la-era-de-la-ia-el-adversario-artificial/
LOCATION:Virtual\, Costa Rica
CATEGORIES:Conferencias
ATTACH;FMTTYPE=image/jpeg:https://ciemicr.org/wp-content/uploads/2025/06/WEBINAR-1.jpg
END:VEVENT
BEGIN:VEVENT
DTSTART;TZID=America/Costa_Rica:20250630T080000
DTEND;TZID=America/Costa_Rica:20250630T170000
DTSTAMP:20260420T191842
CREATED:20250225T163539Z
LAST-MODIFIED:20250609T232557Z
UID:10001603-1751270400-1751302800@ciemicr.org
SUMMARY:Curso PVOL350: Tools and Techniques for Operations& Maintenance - en línea
DESCRIPTION:Inscríbase \nPrograma
URL:https://ciemicr.org/eventosrefresh_css/curso-pvol350-tools-and-techniques-for-operations-maintenance-en-linea-2/
LOCATION:Virtual\, Costa Rica
CATEGORIES:Capacitaciones
ATTACH;FMTTYPE=image/png:https://ciemicr.org/wp-content/uploads/2025/02/CIEMI_2025_PVOL350.png
END:VEVENT
BEGIN:VEVENT
DTSTART;TZID=America/Costa_Rica:20250630T080000
DTEND;TZID=America/Costa_Rica:20250630T170000
DTSTAMP:20260420T191842
CREATED:20250225T160304Z
LAST-MODIFIED:20250225T162023Z
UID:10001598-1751270400-1751302800@ciemicr.org
SUMMARY:Curso PVOL303: Advanced PV Multimode & MicrogridDesign (Battery-based) - en línea
DESCRIPTION:Inscríbase \nPrograma
URL:https://ciemicr.org/eventosrefresh_css/curso-pvol303-advanced-pv-multimode-microgriddesign-battery-based-en-linea-2/
CATEGORIES:Capacitaciones
ATTACH;FMTTYPE=image/png:https://ciemicr.org/wp-content/uploads/2025/02/CIEMI_2025_PVOL303.png
END:VEVENT
BEGIN:VEVENT
DTSTART;TZID=America/Costa_Rica:20250630T080000
DTEND;TZID=America/Costa_Rica:20250630T170000
DTSTAMP:20260420T191842
CREATED:20250211T225413Z
LAST-MODIFIED:20250609T230757Z
UID:10001591-1751270400-1751302800@ciemicr.org
SUMMARY:Curso FVOL 203: Fundamentos de Sistemas Fotovoltaicos basados en Baterías - en línea
DESCRIPTION:Inscríbase \nPrograma
URL:https://ciemicr.org/eventosrefresh_css/curso-fvol-203-fundamentos-de-sistemas-fotovoltaicos-basados-en-baterias-en-linea-3/
LOCATION:Virtual\, Costa Rica
CATEGORIES:Capacitaciones
ATTACH;FMTTYPE=image/png:https://ciemicr.org/wp-content/uploads/2025/02/CIEMI_2025_FVOL203.png
END:VEVENT
BEGIN:VEVENT
DTSTART;TZID=America/Costa_Rica:20250630T080000
DTEND;TZID=America/Costa_Rica:20250630T170000
DTSTAMP:20260420T191842
CREATED:20250211T222308Z
LAST-MODIFIED:20250701T204453Z
UID:10001583-1751270400-1751302800@ciemicr.org
SUMMARY:Curso FVOL 101: Diseño e Instalación Solar Eléctrica (Sistemas Interactivos) - en línea
DESCRIPTION:Inscríbase \nPrograma
URL:https://ciemicr.org/eventosrefresh_css/curso-fvol-101-diseno-e-instalacion-solar-electrica-sistemas-interactivos-en-linea-3/
LOCATION:Virtual\, Costa Rica
CATEGORIES:Capacitaciones
ATTACH;FMTTYPE=image/png:https://ciemicr.org/wp-content/uploads/2025/02/CIEMI_2025_FVOL101.png
END:VEVENT
BEGIN:VEVENT
DTSTART;TZID=America/Costa_Rica:20250625T180000
DTEND;TZID=America/Costa_Rica:20250625T180000
DTSTAMP:20260420T191842
CREATED:20250404T194222Z
LAST-MODIFIED:20250526T173447Z
UID:10002033-1750874400-1750874400@ciemicr.org
SUMMARY:Conferencia Proyecto de Ley de Armonización del Sector Eléctrico Nacional
DESCRIPTION:Inscríbase 
URL:https://ciemicr.org/eventosrefresh_css/conferencia-ley-de-armonizacion-del-sector-electrico-nacional/
LOCATION:CIEMI Contiguo al Indoor Club. Urbanización La Alameda\, San José\, CIEMI
CATEGORIES:Conferencias
ATTACH;FMTTYPE=image/jpeg:https://ciemicr.org/wp-content/uploads/2025/04/Imagen-de-WhatsApp-2025-05-26-a-las-10.49.56_35c54680.jpg
END:VEVENT
BEGIN:VEVENT
DTSTART;TZID=America/Costa_Rica:20250625T170000
DTEND;TZID=America/Costa_Rica:20250625T200000
DTSTAMP:20260420T191842
CREATED:20250616T175014Z
LAST-MODIFIED:20250616T193939Z
UID:10002467-1750870800-1750881600@ciemicr.org
SUMMARY:Programa excel completo: básico\, intermedio y avanzado
DESCRIPTION:Más información
URL:https://ciemicr.org/eventosrefresh_css/programa-excel-completo-basico-intermedio-y-avanzado-6/
LOCATION:Virtual\, Costa Rica
CATEGORIES:Capacitaciones
ATTACH;FMTTYPE=image/jpeg:https://ciemicr.org/wp-content/uploads/2025/06/Excel-completo-CIEMI-1.jpg
END:VEVENT
BEGIN:VEVENT
DTSTART;TZID=America/Costa_Rica:20250624T180000
DTEND;TZID=America/Costa_Rica:20250624T180000
DTSTAMP:20260420T191842
CREATED:20250529T003335Z
LAST-MODIFIED:20250605T212515Z
UID:10002461-1750788000-1750788000@ciemicr.org
SUMMARY:Foro La Mujer en la Ingeniería
DESCRIPTION:Inscríbase
URL:https://ciemicr.org/eventosrefresh_css/la-mujer-en-la-ingenieria/
LOCATION:Virtual\, Costa Rica
CATEGORIES:Eventos
ATTACH;FMTTYPE=image/jpeg:https://ciemicr.org/wp-content/uploads/2025/05/Programa-1-01.jpg
END:VEVENT
BEGIN:VEVENT
DTSTART;TZID=America/Costa_Rica:20250623T180000
DTEND;TZID=America/Costa_Rica:20250623T210000
DTSTAMP:20260420T191842
CREATED:20241126T214149Z
LAST-MODIFIED:20250528T231255Z
UID:10001555-1750701600-1750712400@ciemicr.org
SUMMARY:Curso Fundamentos de sistemas de supresión contra incendios a base agua
DESCRIPTION:Inscríbase \nPrograma
URL:https://ciemicr.org/eventosrefresh_css/curso-fundamentos-de-sistemas-de-supresion-contra-incendios-a-base-agua-3/
LOCATION:Virtual\, Costa Rica
CATEGORIES:Capacitaciones
ATTACH;FMTTYPE=image/jpeg:https://ciemicr.org/wp-content/uploads/2024/11/Curso-Fundamentos-de-sistemas-de-supresion-contra-incendios-a-base-agua-2.jpg
END:VEVENT
BEGIN:VEVENT
DTSTART;TZID=America/Costa_Rica:20250619T180000
DTEND;TZID=America/Costa_Rica:20250619T210000
DTSTAMP:20260420T191842
CREATED:20241126T214357Z
LAST-MODIFIED:20250514T004925Z
UID:10001556-1750356000-1750366800@ciemicr.org
SUMMARY:Curso Inspecciones del Proceso Constructivo de Instalaciones Eléctricas de Baja Tensión (hasta 600 voltios)\, en Edificios Industriales\, Comerciales e Institucionales
DESCRIPTION:Inscríbase \nPrograma
URL:https://ciemicr.org/eventosrefresh_css/curso-inspecciones-del-proceso-constructivo-de-instalaciones-electricas-de-baja-tension-hasta-600-voltios-en-edificios-industriales-comerciales-e-institucionales-4/
LOCATION:Virtual\, Costa Rica
CATEGORIES:Capacitaciones
ATTACH;FMTTYPE=image/jpeg:https://ciemicr.org/wp-content/uploads/2024/11/Curso-Inspecciones-del-Proceso-Constructivo-de-Instalaciones-1.jpg
END:VEVENT
BEGIN:VEVENT
DTSTART;TZID=America/Costa_Rica:20250617T180000
DTEND;TZID=America/Costa_Rica:20250617T210000
DTSTAMP:20260420T191842
CREATED:20241126T213311Z
LAST-MODIFIED:20250521T165903Z
UID:10002385-1750183200-1750194000@ciemicr.org
SUMMARY:Curso Fundamentos básicos de sistemas eléctricos de potencia
DESCRIPTION:Inscríbase \nPrograma
URL:https://ciemicr.org/eventosrefresh_css/curso-fundamentos-basicos-de-sistemas-electricos-de-potencia-3/
LOCATION:Virtual\, Costa Rica
CATEGORIES:Capacitaciones
ATTACH;FMTTYPE=image/jpeg:https://ciemicr.org/wp-content/uploads/2024/11/Curso-Fundamentos-basicos-de-sistemas-electricos-de-potencia_-2.jpg
END:VEVENT
BEGIN:VEVENT
DTSTART;TZID=America/Costa_Rica:20250604T133000
DTEND;TZID=America/Costa_Rica:20250604T180000
DTSTAMP:20260420T191842
CREATED:20250505T152717Z
LAST-MODIFIED:20250515T231552Z
UID:10002455-1749043800-1749060000@ciemicr.org
SUMMARY:Jornada Técnica: Proyectos Hospitalarios
DESCRIPTION:Inscríbase \nPrograma
URL:https://ciemicr.org/eventosrefresh_css/jornada-tecnica-proyectos-hospitalarios/
LOCATION:CFIA\, Freses\, San José Province\, Curridabat\, San José\, Colegio de Ingenieros y Arquitectos\, Costa Rica
CATEGORIES:Eventos
ATTACH;FMTTYPE=image/png:https://ciemicr.org/wp-content/uploads/2025/05/Jornada-tecnica-electromedicina.png
END:VEVENT
BEGIN:VEVENT
DTSTART;TZID=America/Costa_Rica:20250531T090000
DTEND;TZID=America/Costa_Rica:20250531T120000
DTSTAMP:20260420T191842
CREATED:20241121T224655Z
LAST-MODIFIED:20250526T163825Z
UID:10001958-1748682000-1748692800@ciemicr.org
SUMMARY:Curso ISO 14064-1 e INTE B5 Carbono neutralidad
DESCRIPTION:Inscríbase \nPrograma
URL:https://ciemicr.org/eventosrefresh_css/curso-en-iso-14064-1-e-inte-b5-2/
LOCATION:Virtual\, Costa Rica
CATEGORIES:Capacitaciones
ATTACH;FMTTYPE=image/jpeg:https://ciemicr.org/wp-content/uploads/2024/11/Curso-ISO-14064-1e-INTE-B5-2-2.jpg
END:VEVENT
BEGIN:VEVENT
DTSTART;TZID=America/Costa_Rica:20250529T180000
DTEND;TZID=America/Costa_Rica:20250529T180000
DTSTAMP:20260420T191842
CREATED:20250303T160259Z
LAST-MODIFIED:20250303T160259Z
UID:10002440-1748541600-1748541600@ciemicr.org
SUMMARY:Webinar Renacimiento de los trenes y ferrovías en Latinoamérica
DESCRIPTION:Inscríbase
URL:https://ciemicr.org/eventosrefresh_css/webinar-renacimiento-de-los-trenes-y-ferrovias-en-latinoamerica-3/
LOCATION:Virtual\, Costa Rica
CATEGORIES:Conferencias
ATTACH;FMTTYPE=image/jpeg:https://ciemicr.org/wp-content/uploads/2025/03/Webinar-trenes-1.jpg
END:VEVENT
BEGIN:VEVENT
DTSTART;TZID=America/Costa_Rica:20250522T180000
DTEND;TZID=America/Costa_Rica:20250522T180000
DTSTAMP:20260420T191842
CREATED:20250429T155454Z
LAST-MODIFIED:20250516T164853Z
UID:10002454-1747936800-1747936800@ciemicr.org
SUMMARY:Webinar "Modificaciones a la Factura Electrónica"
DESCRIPTION:Inscríbase
URL:https://ciemicr.org/eventosrefresh_css/webinar-modificaciones-a-la-factura-electronica/
LOCATION:Virtual\, Costa Rica
CATEGORIES:Conferencias
ATTACH;FMTTYPE=image/jpeg:https://ciemicr.org/wp-content/uploads/2025/04/webinar-mayo.jpg
END:VEVENT
BEGIN:VEVENT
DTSTART;TZID=America/Costa_Rica:20250519T080000
DTEND;TZID=America/Costa_Rica:20250519T173000
DTSTAMP:20260420T191842
CREATED:20250224T175411Z
LAST-MODIFIED:20250303T150208Z
UID:10001594-1747641600-1747675800@ciemicr.org
SUMMARY:Curso NFPA 70\, Fundamentos de Código Eléctrico Nacional 2020
DESCRIPTION:Inscríbase \nPrograma
URL:https://ciemicr.org/eventosrefresh_css/curso-nfpa-70-codigo-electrico-nacional-2020/
LOCATION:CCCIEMI\, CIEMI\, CIEMI\, Costa Rica
CATEGORIES:Capacitaciones
ATTACH;FMTTYPE=image/jpeg:https://ciemicr.org/wp-content/uploads/2025/02/NFPA-70-.jpg
END:VEVENT
END:VCALENDAR