BEGIN:VCALENDAR
VERSION:2.0
PRODID:-//CIEMI - ECPv6.15.13.1//NONSGML v1.0//EN
CALSCALE:GREGORIAN
METHOD:PUBLISH
X-ORIGINAL-URL:https://ciemicr.org
X-WR-CALDESC:Eventos para CIEMI
REFRESH-INTERVAL;VALUE=DURATION:PT1H
X-Robots-Tag:noindex
X-PUBLISHED-TTL:PT1H
BEGIN:VTIMEZONE
TZID:America/Costa_Rica
BEGIN:STANDARD
TZOFFSETFROM:-0600
TZOFFSETTO:-0600
TZNAME:CST
DTSTART:20240101T000000
END:STANDARD
END:VTIMEZONE
BEGIN:VEVENT
DTSTART;TZID=America/Costa_Rica:20250211T170000
DTEND;TZID=America/Costa_Rica:20250211T200000
DTSTAMP:20260421T163851
CREATED:20250128T014618Z
LAST-MODIFIED:20250128T014618Z
UID:10001987-1739293200-1739304000@ciemicr.org
SUMMARY:Certificación Six Sigma\, Green Belt
DESCRIPTION:Más información
URL:https://ciemicr.org/eventosrefresh_css/certificacion-six-sigma-green-belt-3-2/
LOCATION:Virtual\, Costa Rica
CATEGORIES:Capacitaciones
ATTACH;FMTTYPE=image/jpeg:https://ciemicr.org/wp-content/uploads/2025/01/GREEN.jpg
END:VEVENT
BEGIN:VEVENT
DTSTART;TZID=America/Costa_Rica:20250211T170000
DTEND;TZID=America/Costa_Rica:20250211T200000
DTSTAMP:20260421T163851
CREATED:20250128T014618Z
LAST-MODIFIED:20250128T014618Z
UID:10002405-1739293200-1739304000@ciemicr.org
SUMMARY:Certificación Six Sigma\, Green Belt
DESCRIPTION:Más información
URL:https://ciemicr.org/eventosrefresh_css/certificacion-six-sigma-green-belt-3-3/
LOCATION:Virtual\, Costa Rica
CATEGORIES:Capacitaciones
ATTACH;FMTTYPE=image/jpeg:https://ciemicr.org/wp-content/uploads/2025/01/GREEN.jpg
END:VEVENT
BEGIN:VEVENT
DTSTART;TZID=America/Costa_Rica:20250210T180000
DTEND;TZID=America/Costa_Rica:20250210T210000
DTSTAMP:20260421T163851
CREATED:20241126T205546Z
LAST-MODIFIED:20250109T171121Z
UID:10001550-1739210400-1739221200@ciemicr.org
SUMMARY:Curso CAPDEE-M6: Diseño e inspección de sistemas de detección y activación de incendios.
DESCRIPTION:Inscríbase \nPrograma
URL:https://ciemicr.org/eventosrefresh_css/curso-capdee-m6-diseno-e-inspeccion-de-sistemas-de-deteccion-y-activacion-de-incendios/
LOCATION:Virtual\, Costa Rica
CATEGORIES:Capacitaciones
ATTACH;FMTTYPE=image/jpeg:https://ciemicr.org/wp-content/uploads/2024/11/CAPDEE-M6-Diseno-e-inspeccion-de-sistemas-de-deteccion-y-activacion-de-incendios-1.jpg
END:VEVENT
BEGIN:VEVENT
DTSTART;TZID=America/Costa_Rica:20250207T130000
DTEND;TZID=America/Costa_Rica:20250207T170000
DTSTAMP:20260421T163851
CREATED:20250128T014452Z
LAST-MODIFIED:20250128T014452Z
UID:10001573-1738933200-1738947600@ciemicr.org
SUMMARY:Curso Formación integral en tratamiento de aguas residuales
DESCRIPTION:Más información
URL:https://ciemicr.org/eventosrefresh_css/curso-formacion-integral-en-tratamiento-de-aguas-residuales/
LOCATION:Virtual\, Costa Rica
CATEGORIES:Capacitaciones
ATTACH;FMTTYPE=image/jpeg:https://ciemicr.org/wp-content/uploads/2025/01/FORMACION-INTEGRAL-EN-TRATAMIENTO-DE-AGUAS-RESIDUALES.jpg
END:VEVENT
BEGIN:VEVENT
DTSTART;TZID=America/Costa_Rica:20250207T130000
DTEND;TZID=America/Costa_Rica:20250207T170000
DTSTAMP:20260421T163851
CREATED:20250128T014452Z
LAST-MODIFIED:20250128T014452Z
UID:10001986-1738933200-1738947600@ciemicr.org
SUMMARY:Curso Formación integral en tratamiento de aguas residuales
DESCRIPTION:Más información
URL:https://ciemicr.org/eventosrefresh_css/curso-formacion-integral-en-tratamiento-de-aguas-residuales-2/
LOCATION:Virtual\, Costa Rica
CATEGORIES:Capacitaciones
ATTACH;FMTTYPE=image/jpeg:https://ciemicr.org/wp-content/uploads/2025/01/FORMACION-INTEGRAL-EN-TRATAMIENTO-DE-AGUAS-RESIDUALES.jpg
END:VEVENT
BEGIN:VEVENT
DTSTART;TZID=America/Costa_Rica:20250207T130000
DTEND;TZID=America/Costa_Rica:20250207T170000
DTSTAMP:20260421T163851
CREATED:20250128T014452Z
LAST-MODIFIED:20250128T014452Z
UID:10002404-1738933200-1738947600@ciemicr.org
SUMMARY:Curso Formación integral en tratamiento de aguas residuales
DESCRIPTION:Más información
URL:https://ciemicr.org/eventosrefresh_css/curso-formacion-integral-en-tratamiento-de-aguas-residuales-3/
LOCATION:Virtual\, Costa Rica
CATEGORIES:Capacitaciones
ATTACH;FMTTYPE=image/jpeg:https://ciemicr.org/wp-content/uploads/2025/01/FORMACION-INTEGRAL-EN-TRATAMIENTO-DE-AGUAS-RESIDUALES.jpg
END:VEVENT
BEGIN:VEVENT
DTSTART;TZID=America/Costa_Rica:20250206T180000
DTEND;TZID=America/Costa_Rica:20250206T210000
DTSTAMP:20260421T163851
CREATED:20241121T221057Z
LAST-MODIFIED:20250109T172352Z
UID:10001543-1738864800-1738875600@ciemicr.org
SUMMARY:Curso ISO 9001-2015\, ISO 19011-2018
DESCRIPTION:Inscríbase \nPrograma
URL:https://ciemicr.org/eventosrefresh_css/curso-iso-9001-2015-iso-19011-2018/
LOCATION:Virtual\, Costa Rica
CATEGORIES:Capacitaciones
ATTACH;FMTTYPE=image/jpeg:https://ciemicr.org/wp-content/uploads/2024/11/Curso-ISO-9001-2015ISO-19011-2018-1.jpg
END:VEVENT
BEGIN:VEVENT
DTSTART;TZID=America/Costa_Rica:20250206T180000
DTEND;TZID=America/Costa_Rica:20250206T210000
DTSTAMP:20260421T163851
CREATED:20241121T221057Z
LAST-MODIFIED:20241121T221057Z
UID:10001957-1738864800-1738875600@ciemicr.org
SUMMARY:Curso ISO 9001-2015\, ISO 19011-2018
DESCRIPTION:Inscríbase \nPrograma
URL:https://ciemicr.org/eventosrefresh_css/curso-iso-9001-2015-iso-19011-2018-2/
LOCATION:Virtual\, Costa Rica
CATEGORIES:Capacitaciones
ATTACH;FMTTYPE=image/jpeg:https://ciemicr.org/wp-content/uploads/2024/11/Curso-ISO-9001-2015ISO-19011-2018-1.jpg
END:VEVENT
BEGIN:VEVENT
DTSTART;TZID=America/Costa_Rica:20250206T180000
DTEND;TZID=America/Costa_Rica:20250206T210000
DTSTAMP:20260421T163851
CREATED:20241121T221057Z
LAST-MODIFIED:20241121T221057Z
UID:10002375-1738864800-1738875600@ciemicr.org
SUMMARY:Curso ISO 9001-2015\, ISO 19011-2018
DESCRIPTION:Inscríbase \nPrograma
URL:https://ciemicr.org/eventosrefresh_css/curso-iso-9001-2015-iso-19011-2018-3/
LOCATION:Virtual\, Costa Rica
CATEGORIES:Capacitaciones
ATTACH;FMTTYPE=image/jpeg:https://ciemicr.org/wp-content/uploads/2024/11/Curso-ISO-9001-2015ISO-19011-2018-1.jpg
END:VEVENT
BEGIN:VEVENT
DTSTART;TZID=America/Costa_Rica:20250204T180000
DTEND;TZID=America/Costa_Rica:20250204T210000
DTSTAMP:20260421T163851
CREATED:20241126T205014Z
LAST-MODIFIED:20250117T150642Z
UID:10001548-1738692000-1738702800@ciemicr.org
SUMMARY:Curso Instalaciones eléctricas en lugares clasificados como peligrosos
DESCRIPTION:Inscríbase \nPrograma
URL:https://ciemicr.org/eventosrefresh_css/curso-instalaciones-electricas-en-lugares-clasificados-como-peligrosos-3/
LOCATION:Virtual\, Costa Rica
CATEGORIES:Capacitaciones
ATTACH;FMTTYPE=image/jpeg:https://ciemicr.org/wp-content/uploads/2024/11/Instalaciones-electricas-enlugares-clasificados-comopeligrosos-1.jpg
END:VEVENT
BEGIN:VEVENT
DTSTART;TZID=America/Costa_Rica:20250204T180000
DTEND;TZID=America/Costa_Rica:20250204T210000
DTSTAMP:20260421T163851
CREATED:20241126T205014Z
LAST-MODIFIED:20241126T205014Z
UID:10001962-1738692000-1738702800@ciemicr.org
SUMMARY:Curso Instalaciones eléctricas en lugares clasificados como peligrosos
DESCRIPTION:Inscríbase \nPrograma
URL:https://ciemicr.org/eventosrefresh_css/curso-instalaciones-electricas-en-lugares-clasificados-como-peligrosos-3-2/
LOCATION:Virtual\, Costa Rica
CATEGORIES:Capacitaciones
ATTACH;FMTTYPE=image/jpeg:https://ciemicr.org/wp-content/uploads/2024/11/Instalaciones-electricas-enlugares-clasificados-comopeligrosos-1.jpg
END:VEVENT
BEGIN:VEVENT
DTSTART;TZID=America/Costa_Rica:20250204T180000
DTEND;TZID=America/Costa_Rica:20250204T210000
DTSTAMP:20260421T163851
CREATED:20241126T205014Z
LAST-MODIFIED:20241126T205014Z
UID:10002380-1738692000-1738702800@ciemicr.org
SUMMARY:Curso Instalaciones eléctricas en lugares clasificados como peligrosos
DESCRIPTION:Inscríbase \nPrograma
URL:https://ciemicr.org/eventosrefresh_css/curso-instalaciones-electricas-en-lugares-clasificados-como-peligrosos-3-3/
LOCATION:Virtual\, Costa Rica
CATEGORIES:Capacitaciones
ATTACH;FMTTYPE=image/jpeg:https://ciemicr.org/wp-content/uploads/2024/11/Instalaciones-electricas-enlugares-clasificados-comopeligrosos-1.jpg
END:VEVENT
BEGIN:VEVENT
DTSTART;TZID=America/Costa_Rica:20250204T180000
DTEND;TZID=America/Costa_Rica:20250204T210000
DTSTAMP:20260421T163851
CREATED:20241121T205128Z
LAST-MODIFIED:20250103T171415Z
UID:10001535-1738692000-1738702800@ciemicr.org
SUMMARY:Curso Protección Sísmica y Soportería de los Sistemas contra Incendio
DESCRIPTION:Inscríbase \nPrograma
URL:https://ciemicr.org/eventosrefresh_css/curso-proteccion-sismica-y-soporteria-de-los-sistemas-contra-incendio-3/
LOCATION:Virtual\, Costa Rica
CATEGORIES:Capacitaciones
ATTACH;FMTTYPE=image/jpeg:https://ciemicr.org/wp-content/uploads/2024/11/Curso-Proteccion-Sismica_y-Soporteria-de-los-Sistemas_contra-Incendio.jpg
END:VEVENT
BEGIN:VEVENT
DTSTART;TZID=America/Costa_Rica:20250204T180000
DTEND;TZID=America/Costa_Rica:20250204T210000
DTSTAMP:20260421T163851
CREATED:20241121T205128Z
LAST-MODIFIED:20241121T205128Z
UID:10001950-1738692000-1738702800@ciemicr.org
SUMMARY:Curso Protección Sísmica y Soportería de los Sistemas contra Incendio
DESCRIPTION:Inscríbase \nPrograma
URL:https://ciemicr.org/eventosrefresh_css/curso-proteccion-sismica-y-soporteria-de-los-sistemas-contra-incendio-3-2/
LOCATION:Virtual\, Costa Rica
CATEGORIES:Capacitaciones
ATTACH;FMTTYPE=image/jpeg:https://ciemicr.org/wp-content/uploads/2024/11/Curso-Proteccion-Sismica_y-Soporteria-de-los-Sistemas_contra-Incendio.jpg
END:VEVENT
BEGIN:VEVENT
DTSTART;TZID=America/Costa_Rica:20250204T180000
DTEND;TZID=America/Costa_Rica:20250204T210000
DTSTAMP:20260421T163851
CREATED:20241121T205128Z
LAST-MODIFIED:20241121T205128Z
UID:10002368-1738692000-1738702800@ciemicr.org
SUMMARY:Curso Protección Sísmica y Soportería de los Sistemas contra Incendio
DESCRIPTION:Inscríbase \nPrograma
URL:https://ciemicr.org/eventosrefresh_css/curso-proteccion-sismica-y-soporteria-de-los-sistemas-contra-incendio-3-3/
LOCATION:Virtual\, Costa Rica
CATEGORIES:Capacitaciones
ATTACH;FMTTYPE=image/jpeg:https://ciemicr.org/wp-content/uploads/2024/11/Curso-Proteccion-Sismica_y-Soporteria-de-los-Sistemas_contra-Incendio.jpg
END:VEVENT
BEGIN:VEVENT
DTSTART;TZID=America/Costa_Rica:20250129T180000
DTEND;TZID=America/Costa_Rica:20250129T210000
DTSTAMP:20260421T163851
CREATED:20241121T212452Z
LAST-MODIFIED:20241206T230319Z
UID:10001542-1738173600-1738184400@ciemicr.org
SUMMARY:Curso #1 Ingeniería de Fuego
DESCRIPTION:Inscríbase \nPrograma
URL:https://ciemicr.org/eventosrefresh_css/curso-1-ingenieria-de-fuego-4/
LOCATION:Virtual\, Costa Rica
CATEGORIES:Capacitaciones
ATTACH;FMTTYPE=image/jpeg:https://ciemicr.org/wp-content/uploads/2024/11/Curso-1_Ingenieria-de-Fuego-ENE.jpg
END:VEVENT
BEGIN:VEVENT
DTSTART;TZID=America/Costa_Rica:20250129T180000
DTEND;TZID=America/Costa_Rica:20250129T210000
DTSTAMP:20260421T163851
CREATED:20241121T212452Z
LAST-MODIFIED:20241121T212452Z
UID:10001956-1738173600-1738184400@ciemicr.org
SUMMARY:Curso #1 Ingeniería de Fuego
DESCRIPTION:Inscríbase \nPrograma
URL:https://ciemicr.org/eventosrefresh_css/curso-1-ingenieria-de-fuego-4-2/
LOCATION:Virtual\, Costa Rica
CATEGORIES:Capacitaciones
ATTACH;FMTTYPE=image/jpeg:https://ciemicr.org/wp-content/uploads/2024/11/Curso-1_Ingenieria-de-Fuego-ENE.jpg
END:VEVENT
BEGIN:VEVENT
DTSTART;TZID=America/Costa_Rica:20250129T180000
DTEND;TZID=America/Costa_Rica:20250129T210000
DTSTAMP:20260421T163851
CREATED:20241121T212452Z
LAST-MODIFIED:20241121T212452Z
UID:10002374-1738173600-1738184400@ciemicr.org
SUMMARY:Curso #1 Ingeniería de Fuego
DESCRIPTION:Inscríbase \nPrograma
URL:https://ciemicr.org/eventosrefresh_css/curso-1-ingenieria-de-fuego-4-3/
LOCATION:Virtual\, Costa Rica
CATEGORIES:Capacitaciones
ATTACH;FMTTYPE=image/jpeg:https://ciemicr.org/wp-content/uploads/2024/11/Curso-1_Ingenieria-de-Fuego-ENE.jpg
END:VEVENT
BEGIN:VEVENT
DTSTART;TZID=America/Costa_Rica:20250127T180000
DTEND;TZID=America/Costa_Rica:20250127T210000
DTSTAMP:20260421T163851
CREATED:20250108T171804Z
LAST-MODIFIED:20250108T171804Z
UID:10001568-1738000800-1738011600@ciemicr.org
SUMMARY:Curso CAPDEE-M1 Normativa Vigente- y Código Eléctrico (NEC)
DESCRIPTION:Inscríbase \nPrograma
URL:https://ciemicr.org/eventosrefresh_css/curso-capdee-m1-normativa-vigente-y-codigo-electrico-nec-5/
LOCATION:Virtual\, Costa Rica
CATEGORIES:Capacitaciones
ATTACH;FMTTYPE=image/jpeg:https://ciemicr.org/wp-content/uploads/2025/01/CAPDEE-M1-_Normativa-Vigente-y_Codigo-Electrico-Fredy.jpg
END:VEVENT
BEGIN:VEVENT
DTSTART;TZID=America/Costa_Rica:20250127T180000
DTEND;TZID=America/Costa_Rica:20250127T210000
DTSTAMP:20260421T163851
CREATED:20250108T171804Z
LAST-MODIFIED:20250108T171804Z
UID:10001981-1738000800-1738011600@ciemicr.org
SUMMARY:Curso CAPDEE-M1 Normativa Vigente- y Código Eléctrico (NEC)
DESCRIPTION:Inscríbase \nPrograma
URL:https://ciemicr.org/eventosrefresh_css/curso-capdee-m1-normativa-vigente-y-codigo-electrico-nec-5-2/
LOCATION:Virtual\, Costa Rica
CATEGORIES:Capacitaciones
ATTACH;FMTTYPE=image/jpeg:https://ciemicr.org/wp-content/uploads/2025/01/CAPDEE-M1-_Normativa-Vigente-y_Codigo-Electrico-Fredy.jpg
END:VEVENT
BEGIN:VEVENT
DTSTART;TZID=America/Costa_Rica:20250127T180000
DTEND;TZID=America/Costa_Rica:20250127T210000
DTSTAMP:20260421T163851
CREATED:20250108T171804Z
LAST-MODIFIED:20250108T171804Z
UID:10002399-1738000800-1738011600@ciemicr.org
SUMMARY:Curso CAPDEE-M1 Normativa Vigente- y Código Eléctrico (NEC)
DESCRIPTION:Inscríbase \nPrograma
URL:https://ciemicr.org/eventosrefresh_css/curso-capdee-m1-normativa-vigente-y-codigo-electrico-nec-5-3/
LOCATION:Virtual\, Costa Rica
CATEGORIES:Capacitaciones
ATTACH;FMTTYPE=image/jpeg:https://ciemicr.org/wp-content/uploads/2025/01/CAPDEE-M1-_Normativa-Vigente-y_Codigo-Electrico-Fredy.jpg
END:VEVENT
BEGIN:VEVENT
DTSTART;TZID=America/Costa_Rica:20250123T180000
DTEND;TZID=America/Costa_Rica:20250123T210000
DTSTAMP:20260421T163851
CREATED:20241121T171350Z
LAST-MODIFIED:20241202T215103Z
UID:10001532-1737655200-1737666000@ciemicr.org
SUMMARY:Curso CAPDEE-M1 Normativa Vigente- y Código Eléctrico (NEC)
DESCRIPTION:Inscríbase \nPrograma
URL:https://ciemicr.org/eventosrefresh_css/curso-capdee-m1-capdee-m1-normativa-vigente-y-codigo-electrico-nec/
LOCATION:Virtual\, Costa Rica
CATEGORIES:Capacitaciones
ATTACH;FMTTYPE=image/jpeg:https://ciemicr.org/wp-content/uploads/2024/11/CAPDEE-M1-Normativa-Vigente-yCodigo-Electrico-NEC.jpg
END:VEVENT
BEGIN:VEVENT
DTSTART;TZID=America/Costa_Rica:20250123T180000
DTEND;TZID=America/Costa_Rica:20250123T210000
DTSTAMP:20260421T163851
CREATED:20241121T171350Z
LAST-MODIFIED:20241121T171350Z
UID:10001947-1737655200-1737666000@ciemicr.org
SUMMARY:Curso CAPDEE-M1 Normativa Vigente- y Código Eléctrico (NEC)
DESCRIPTION:Inscríbase \nPrograma
URL:https://ciemicr.org/eventosrefresh_css/curso-capdee-m1-capdee-m1-normativa-vigente-y-codigo-electrico-nec-2/
LOCATION:Virtual\, Costa Rica
CATEGORIES:Capacitaciones
ATTACH;FMTTYPE=image/jpeg:https://ciemicr.org/wp-content/uploads/2024/11/CAPDEE-M1-Normativa-Vigente-yCodigo-Electrico-NEC.jpg
END:VEVENT
BEGIN:VEVENT
DTSTART;TZID=America/Costa_Rica:20250123T180000
DTEND;TZID=America/Costa_Rica:20250123T210000
DTSTAMP:20260421T163851
CREATED:20241121T171350Z
LAST-MODIFIED:20241121T171350Z
UID:10002365-1737655200-1737666000@ciemicr.org
SUMMARY:Curso CAPDEE-M1 Normativa Vigente- y Código Eléctrico (NEC)
DESCRIPTION:Inscríbase \nPrograma
URL:https://ciemicr.org/eventosrefresh_css/curso-capdee-m1-capdee-m1-normativa-vigente-y-codigo-electrico-nec-3/
LOCATION:Virtual\, Costa Rica
CATEGORIES:Capacitaciones
ATTACH;FMTTYPE=image/jpeg:https://ciemicr.org/wp-content/uploads/2024/11/CAPDEE-M1-Normativa-Vigente-yCodigo-Electrico-NEC.jpg
END:VEVENT
BEGIN:VEVENT
DTSTART;TZID=America/Costa_Rica:20250122T180000
DTEND;TZID=America/Costa_Rica:20250122T210000
DTSTAMP:20260421T163851
CREATED:20241126T204017Z
LAST-MODIFIED:20241205T172610Z
UID:10001547-1737568800-1737579600@ciemicr.org
SUMMARY:Curso CAPDEE-M4 Criterios de diseño desde el punto de vista de coordinación de protecciones
DESCRIPTION:Inscríbase \nPrograma
URL:https://ciemicr.org/eventosrefresh_css/curso-capdee-m4-criterios-de-diseno-desde-el-punto-de-vista-de-corrientes-de-coordinacion-2/
LOCATION:Virtual\, Costa Rica
CATEGORIES:Capacitaciones
ATTACH;FMTTYPE=image/jpeg:https://ciemicr.org/wp-content/uploads/2024/11/CAPDEE-M4-Criterios-de-diseno-desde-el-punto-de-vista-de-coordinacion-de-proteccione.jpg
END:VEVENT
BEGIN:VEVENT
DTSTART;TZID=America/Costa_Rica:20250122T180000
DTEND;TZID=America/Costa_Rica:20250122T210000
DTSTAMP:20260421T163851
CREATED:20241126T204017Z
LAST-MODIFIED:20241126T204017Z
UID:10001961-1737568800-1737579600@ciemicr.org
SUMMARY:Curso CAPDEE-M4 Criterios de diseño desde el punto de vista de coordinación de protecciones
DESCRIPTION:Inscríbase \nPrograma
URL:https://ciemicr.org/eventosrefresh_css/curso-capdee-m4-criterios-de-diseno-desde-el-punto-de-vista-de-corrientes-de-coordinacion-2-2/
LOCATION:Virtual\, Costa Rica
CATEGORIES:Capacitaciones
ATTACH;FMTTYPE=image/jpeg:https://ciemicr.org/wp-content/uploads/2024/11/CAPDEE-M4-Criterios-de-diseno-desde-el-punto-de-vista-de-coordinacion-de-proteccione.jpg
END:VEVENT
BEGIN:VEVENT
DTSTART;TZID=America/Costa_Rica:20250122T180000
DTEND;TZID=America/Costa_Rica:20250122T210000
DTSTAMP:20260421T163851
CREATED:20241126T204017Z
LAST-MODIFIED:20241126T204017Z
UID:10002379-1737568800-1737579600@ciemicr.org
SUMMARY:Curso CAPDEE-M4 Criterios de diseño desde el punto de vista de coordinación de protecciones
DESCRIPTION:Inscríbase \nPrograma
URL:https://ciemicr.org/eventosrefresh_css/curso-capdee-m4-criterios-de-diseno-desde-el-punto-de-vista-de-corrientes-de-coordinacion-2-3/
LOCATION:Virtual\, Costa Rica
CATEGORIES:Capacitaciones
ATTACH;FMTTYPE=image/jpeg:https://ciemicr.org/wp-content/uploads/2024/11/CAPDEE-M4-Criterios-de-diseno-desde-el-punto-de-vista-de-coordinacion-de-proteccione.jpg
END:VEVENT
BEGIN:VEVENT
DTSTART;TZID=America/Costa_Rica:20250116T180000
DTEND;TZID=America/Costa_Rica:20250116T210000
DTSTAMP:20260421T163851
CREATED:20241121T155658Z
LAST-MODIFIED:20241211T221406Z
UID:10001531-1737050400-1737061200@ciemicr.org
SUMMARY:Curso CAPDEE-M2: Diseño eléctrico residencial\, comercial e industrial
DESCRIPTION:Inscríbase \nPrograma
URL:https://ciemicr.org/eventosrefresh_css/curso-capdee-m2-diseno-electrico-residencial-comercial-e-industrial-8/
LOCATION:Virtual\, Costa Rica
CATEGORIES:Capacitaciones
ATTACH;FMTTYPE=image/jpeg:https://ciemicr.org/wp-content/uploads/2024/11/CAPDEE-M2-Diseno-electrico-residencial-comercial-e-industrial-2.jpg
END:VEVENT
BEGIN:VEVENT
DTSTART;TZID=America/Costa_Rica:20250116T180000
DTEND;TZID=America/Costa_Rica:20250116T210000
DTSTAMP:20260421T163851
CREATED:20241121T155658Z
LAST-MODIFIED:20241121T155658Z
UID:10001946-1737050400-1737061200@ciemicr.org
SUMMARY:Curso CAPDEE-M2: Diseño eléctrico residencial\, comercial e industrial
DESCRIPTION:Inscríbase \nPrograma
URL:https://ciemicr.org/eventosrefresh_css/curso-capdee-m2-diseno-electrico-residencial-comercial-e-industrial-8-2/
LOCATION:Virtual\, Costa Rica
CATEGORIES:Capacitaciones
ATTACH;FMTTYPE=image/jpeg:https://ciemicr.org/wp-content/uploads/2024/11/CAPDEE-M2-Diseno-electrico-residencial-comercial-e-industrial-2.jpg
END:VEVENT
BEGIN:VEVENT
DTSTART;TZID=America/Costa_Rica:20250116T180000
DTEND;TZID=America/Costa_Rica:20250116T210000
DTSTAMP:20260421T163851
CREATED:20241121T155658Z
LAST-MODIFIED:20241121T155658Z
UID:10002364-1737050400-1737061200@ciemicr.org
SUMMARY:Curso CAPDEE-M2: Diseño eléctrico residencial\, comercial e industrial
DESCRIPTION:Inscríbase \nPrograma
URL:https://ciemicr.org/eventosrefresh_css/curso-capdee-m2-diseno-electrico-residencial-comercial-e-industrial-8-3/
LOCATION:Virtual\, Costa Rica
CATEGORIES:Capacitaciones
ATTACH;FMTTYPE=image/jpeg:https://ciemicr.org/wp-content/uploads/2024/11/CAPDEE-M2-Diseno-electrico-residencial-comercial-e-industrial-2.jpg
END:VEVENT
END:VCALENDAR