BEGIN:VCALENDAR
VERSION:2.0
PRODID:-//CIEMI - ECPv6.15.13.1//NONSGML v1.0//EN
CALSCALE:GREGORIAN
METHOD:PUBLISH
X-WR-CALNAME:CIEMI
X-ORIGINAL-URL:https://ciemicr.org
X-WR-CALDESC:Eventos para CIEMI
REFRESH-INTERVAL;VALUE=DURATION:PT1H
X-Robots-Tag:noindex
X-PUBLISHED-TTL:PT1H
BEGIN:VTIMEZONE
TZID:America/Costa_Rica
BEGIN:STANDARD
TZOFFSETFROM:-0600
TZOFFSETTO:-0600
TZNAME:CST
DTSTART:20230101T000000
END:STANDARD
END:VTIMEZONE
BEGIN:VEVENT
DTSTART;TZID=America/Costa_Rica:20241104T080000
DTEND;TZID=America/Costa_Rica:20241104T170000
DTSTAMP:20260422T011228
CREATED:20240322T165450Z
LAST-MODIFIED:20240322T165450Z
UID:10002290-1730707200-1730739600@ciemicr.org
SUMMARY:Curso FVOL101: Diseño e Instalación Solar Eléctrica (sistemas interactivos) – en línea
DESCRIPTION:Inscríbase aquí \nPrograma
URL:https://ciemicr.org/eventosrefresh_css/curso-fvol101-diseno-e-instalacion-solar-electrica-sistemas-interactivos-en-linea-12-3/
LOCATION:Virtual\, Costa Rica
CATEGORIES:Capacitaciones
ATTACH;FMTTYPE=image/jpeg:https://ciemicr.org/wp-content/uploads/2024/03/CIEMI2024_FVOL101.jpg
END:VEVENT
BEGIN:VEVENT
DTSTART;TZID=America/Costa_Rica:20241024T180000
DTEND;TZID=America/Costa_Rica:20241024T210000
DTSTAMP:20260422T011228
CREATED:20240611T213941Z
LAST-MODIFIED:20240930T151742Z
UID:10000847-1729792800-1729803600@ciemicr.org
SUMMARY:Curso Verificaciones de Instalaciones Eléctricas
DESCRIPTION:Inscríbase \nPrograma
URL:https://ciemicr.org/eventosrefresh_css/curso-verificaciones-de-instalaciones-electricas/
LOCATION:Virtual\, Costa Rica
CATEGORIES:Capacitaciones
ATTACH;FMTTYPE=image/jpeg:https://ciemicr.org/wp-content/uploads/2024/06/Verificaciones-de-Instalaciones-Electricas-1.jpg
END:VEVENT
BEGIN:VEVENT
DTSTART;TZID=America/Costa_Rica:20241024T180000
DTEND;TZID=America/Costa_Rica:20241024T210000
DTSTAMP:20260422T011228
CREATED:20240611T213941Z
LAST-MODIFIED:20240611T213941Z
UID:10001912-1729792800-1729803600@ciemicr.org
SUMMARY:Curso Verificaciones de Instalaciones Eléctricas
DESCRIPTION:Inscríbase \nPrograma
URL:https://ciemicr.org/eventosrefresh_css/curso-verificaciones-de-instalaciones-electricas-2/
LOCATION:Virtual\, Costa Rica
CATEGORIES:Capacitaciones
ATTACH;FMTTYPE=image/jpeg:https://ciemicr.org/wp-content/uploads/2024/06/Verificaciones-de-Instalaciones-Electricas-1.jpg
END:VEVENT
BEGIN:VEVENT
DTSTART;TZID=America/Costa_Rica:20241024T180000
DTEND;TZID=America/Costa_Rica:20241024T210000
DTSTAMP:20260422T011228
CREATED:20240611T213941Z
LAST-MODIFIED:20240611T213941Z
UID:10002330-1729792800-1729803600@ciemicr.org
SUMMARY:Curso Verificaciones de Instalaciones Eléctricas
DESCRIPTION:Inscríbase \nPrograma
URL:https://ciemicr.org/eventosrefresh_css/curso-verificaciones-de-instalaciones-electricas-3/
LOCATION:Virtual\, Costa Rica
CATEGORIES:Capacitaciones
ATTACH;FMTTYPE=image/jpeg:https://ciemicr.org/wp-content/uploads/2024/06/Verificaciones-de-Instalaciones-Electricas-1.jpg
END:VEVENT
BEGIN:VEVENT
DTSTART;TZID=America/Costa_Rica:20241024T180000
DTEND;TZID=America/Costa_Rica:20241024T210000
DTSTAMP:20260422T011228
CREATED:20240606T175005Z
LAST-MODIFIED:20240826T172730Z
UID:10000842-1729792800-1729803600@ciemicr.org
SUMMARY:Curso CAPDEE-M2: Diseño eléctrico residencial\, comercial e industrial
DESCRIPTION:Inscríbase \nPrograma
URL:https://ciemicr.org/eventosrefresh_css/curso-capdee-m2-diseno-electrico-residencial-comercial-e-industrial-7/
LOCATION:Virtual\, Costa Rica
CATEGORIES:Capacitaciones
ATTACH;FMTTYPE=image/jpeg:https://ciemicr.org/wp-content/uploads/2024/06/CAPDEE-M2-Diseno-electrico-residencial-comercial-e-industrial.jpg
END:VEVENT
BEGIN:VEVENT
DTSTART;TZID=America/Costa_Rica:20241024T180000
DTEND;TZID=America/Costa_Rica:20241024T210000
DTSTAMP:20260422T011228
CREATED:20240606T175005Z
LAST-MODIFIED:20240606T175005Z
UID:10001907-1729792800-1729803600@ciemicr.org
SUMMARY:Curso CAPDEE-M2: Diseño eléctrico residencial\, comercial e industrial
DESCRIPTION:Inscríbase \nPrograma
URL:https://ciemicr.org/eventosrefresh_css/curso-capdee-m2-diseno-electrico-residencial-comercial-e-industrial-7-2/
LOCATION:Virtual\, Costa Rica
CATEGORIES:Capacitaciones
ATTACH;FMTTYPE=image/jpeg:https://ciemicr.org/wp-content/uploads/2024/06/CAPDEE-M2-Diseno-electrico-residencial-comercial-e-industrial.jpg
END:VEVENT
BEGIN:VEVENT
DTSTART;TZID=America/Costa_Rica:20241024T180000
DTEND;TZID=America/Costa_Rica:20241024T210000
DTSTAMP:20260422T011228
CREATED:20240606T175005Z
LAST-MODIFIED:20240606T175005Z
UID:10002325-1729792800-1729803600@ciemicr.org
SUMMARY:Curso CAPDEE-M2: Diseño eléctrico residencial\, comercial e industrial
DESCRIPTION:Inscríbase \nPrograma
URL:https://ciemicr.org/eventosrefresh_css/curso-capdee-m2-diseno-electrico-residencial-comercial-e-industrial-7-3/
LOCATION:Virtual\, Costa Rica
CATEGORIES:Capacitaciones
ATTACH;FMTTYPE=image/jpeg:https://ciemicr.org/wp-content/uploads/2024/06/CAPDEE-M2-Diseno-electrico-residencial-comercial-e-industrial.jpg
END:VEVENT
BEGIN:VEVENT
DTSTART;TZID=America/Costa_Rica:20241016T180000
DTEND;TZID=America/Costa_Rica:20241016T180000
DTSTAMP:20260422T011228
CREATED:20240611T214354Z
LAST-MODIFIED:20241003T152401Z
UID:10000849-1729101600-1729101600@ciemicr.org
SUMMARY:Curso Fundamentos de diseño en Aire Acondicionado para  Cuartos Limpios
DESCRIPTION:Inscríbase  \nPrograma
URL:https://ciemicr.org/eventosrefresh_css/curso-fundamentos-de-diseno-en-aire-acondicionado-para-cuartos-limpios-4/
LOCATION:Virtual\, Costa Rica
CATEGORIES:Capacitaciones
ATTACH;FMTTYPE=image/jpeg:https://ciemicr.org/wp-content/uploads/2024/06/Fundamentos-de-diseno-en-Aire-Acondicionado-para-Cuartos-Limpios-3.jpg
END:VEVENT
BEGIN:VEVENT
DTSTART;TZID=America/Costa_Rica:20241016T180000
DTEND;TZID=America/Costa_Rica:20241016T180000
DTSTAMP:20260422T011228
CREATED:20240611T214354Z
LAST-MODIFIED:20240611T214354Z
UID:10001914-1729101600-1729101600@ciemicr.org
SUMMARY:Curso Fundamentos de diseño en Aire Acondicionado para  Cuartos Limpios
DESCRIPTION:Inscríbase  \nPrograma
URL:https://ciemicr.org/eventosrefresh_css/curso-fundamentos-de-diseno-en-aire-acondicionado-para-cuartos-limpios-4-2/
LOCATION:Virtual\, Costa Rica
CATEGORIES:Capacitaciones
ATTACH;FMTTYPE=image/jpeg:https://ciemicr.org/wp-content/uploads/2024/06/Fundamentos-de-diseno-en-Aire-Acondicionado-para-Cuartos-Limpios-3.jpg
END:VEVENT
BEGIN:VEVENT
DTSTART;TZID=America/Costa_Rica:20241016T180000
DTEND;TZID=America/Costa_Rica:20241016T180000
DTSTAMP:20260422T011228
CREATED:20240611T214354Z
LAST-MODIFIED:20240611T214354Z
UID:10002332-1729101600-1729101600@ciemicr.org
SUMMARY:Curso Fundamentos de diseño en Aire Acondicionado para  Cuartos Limpios
DESCRIPTION:Inscríbase  \nPrograma
URL:https://ciemicr.org/eventosrefresh_css/curso-fundamentos-de-diseno-en-aire-acondicionado-para-cuartos-limpios-4-3/
LOCATION:Virtual\, Costa Rica
CATEGORIES:Capacitaciones
ATTACH;FMTTYPE=image/jpeg:https://ciemicr.org/wp-content/uploads/2024/06/Fundamentos-de-diseno-en-Aire-Acondicionado-para-Cuartos-Limpios-3.jpg
END:VEVENT
BEGIN:VEVENT
DTSTART;TZID=America/Costa_Rica:20241002T180000
DTEND;TZID=America/Costa_Rica:20241002T210000
DTSTAMP:20260422T011228
CREATED:20240723T180608Z
LAST-MODIFIED:20240826T222414Z
UID:10000868-1727892000-1727902800@ciemicr.org
SUMMARY:Curso CAPDEE-M4: Criterios de diseño desde el punto de vista de corrientes de coordinación
DESCRIPTION:Inscríbase  \nPrograma
URL:https://ciemicr.org/eventosrefresh_css/curso-capdee-m4-criterios-de-diseno-desde-el-punto-de-vista-de-corrientes-de-coordinacion/
LOCATION:Virtual\, Costa Rica
CATEGORIES:Capacitaciones
ATTACH;FMTTYPE=image/jpeg:https://ciemicr.org/wp-content/uploads/2024/07/Curso-CAPDEE-M4-Criterios-de-diseno-desde-el-punto-de-vista-de-corrientes-de-coordinacion-1.jpg
END:VEVENT
BEGIN:VEVENT
DTSTART;TZID=America/Costa_Rica:20241002T180000
DTEND;TZID=America/Costa_Rica:20241002T210000
DTSTAMP:20260422T011228
CREATED:20240723T180608Z
LAST-MODIFIED:20240723T180608Z
UID:10001931-1727892000-1727902800@ciemicr.org
SUMMARY:Curso CAPDEE-M4: Criterios de diseño desde el punto de vista de corrientes de coordinación
DESCRIPTION:Inscríbase  \nPrograma
URL:https://ciemicr.org/eventosrefresh_css/curso-capdee-m4-criterios-de-diseno-desde-el-punto-de-vista-de-corrientes-de-coordinacion-3/
LOCATION:Virtual\, Costa Rica
CATEGORIES:Capacitaciones
ATTACH;FMTTYPE=image/jpeg:https://ciemicr.org/wp-content/uploads/2024/07/Curso-CAPDEE-M4-Criterios-de-diseno-desde-el-punto-de-vista-de-corrientes-de-coordinacion-1.jpg
END:VEVENT
BEGIN:VEVENT
DTSTART;TZID=America/Costa_Rica:20241002T180000
DTEND;TZID=America/Costa_Rica:20241002T210000
DTSTAMP:20260422T011228
CREATED:20240723T180608Z
LAST-MODIFIED:20240723T180608Z
UID:10002349-1727892000-1727902800@ciemicr.org
SUMMARY:Curso CAPDEE-M4: Criterios de diseño desde el punto de vista de corrientes de coordinación
DESCRIPTION:Inscríbase  \nPrograma
URL:https://ciemicr.org/eventosrefresh_css/curso-capdee-m4-criterios-de-diseno-desde-el-punto-de-vista-de-corrientes-de-coordinacion-4/
LOCATION:Virtual\, Costa Rica
CATEGORIES:Capacitaciones
ATTACH;FMTTYPE=image/jpeg:https://ciemicr.org/wp-content/uploads/2024/07/Curso-CAPDEE-M4-Criterios-de-diseno-desde-el-punto-de-vista-de-corrientes-de-coordinacion-1.jpg
END:VEVENT
BEGIN:VEVENT
DTSTART;TZID=America/Costa_Rica:20240930T163000
DTEND;TZID=America/Costa_Rica:20240930T210000
DTSTAMP:20260422T011228
CREATED:20240612T220036Z
LAST-MODIFIED:20240821T225806Z
UID:10000850-1727713800-1727730000@ciemicr.org
SUMMARY:Curso NFPA 72: Código Nacional de Almas de Incendio y Señalización
DESCRIPTION:Inscríbase \nPrograma \n 
URL:https://ciemicr.org/eventosrefresh_css/curso-nfpa-72-codigo-de-senalizacion-y-alarma-contra-incendios/
LOCATION:Virtual\, Costa Rica
CATEGORIES:Capacitaciones
ATTACH;FMTTYPE=image/jpeg:https://ciemicr.org/wp-content/uploads/2024/06/Codigo-Nacional-de-Almas-de-Incendio-y-Senalizacion-6.jpg
END:VEVENT
BEGIN:VEVENT
DTSTART;TZID=America/Costa_Rica:20240930T163000
DTEND;TZID=America/Costa_Rica:20240930T210000
DTSTAMP:20260422T011228
CREATED:20240612T220036Z
LAST-MODIFIED:20240612T220036Z
UID:10001915-1727713800-1727730000@ciemicr.org
SUMMARY:Curso NFPA 72: Código Nacional de Almas de Incendio y Señalización
DESCRIPTION:Inscríbase \nPrograma \n 
URL:https://ciemicr.org/eventosrefresh_css/curso-nfpa-72-codigo-de-senalizacion-y-alarma-contra-incendios-2/
LOCATION:Virtual\, Costa Rica
CATEGORIES:Capacitaciones
ATTACH;FMTTYPE=image/jpeg:https://ciemicr.org/wp-content/uploads/2024/06/Codigo-Nacional-de-Almas-de-Incendio-y-Senalizacion-6.jpg
END:VEVENT
BEGIN:VEVENT
DTSTART;TZID=America/Costa_Rica:20240930T163000
DTEND;TZID=America/Costa_Rica:20240930T210000
DTSTAMP:20260422T011228
CREATED:20240612T220036Z
LAST-MODIFIED:20240612T220036Z
UID:10002333-1727713800-1727730000@ciemicr.org
SUMMARY:Curso NFPA 72: Código Nacional de Almas de Incendio y Señalización
DESCRIPTION:Inscríbase \nPrograma \n 
URL:https://ciemicr.org/eventosrefresh_css/curso-nfpa-72-codigo-de-senalizacion-y-alarma-contra-incendios-3/
LOCATION:Virtual\, Costa Rica
CATEGORIES:Capacitaciones
ATTACH;FMTTYPE=image/jpeg:https://ciemicr.org/wp-content/uploads/2024/06/Codigo-Nacional-de-Almas-de-Incendio-y-Senalizacion-6.jpg
END:VEVENT
BEGIN:VEVENT
DTSTART;TZID=America/Costa_Rica:20240925T044500
DTEND;TZID=America/Costa_Rica:20240925T044500
DTSTAMP:20260422T011228
CREATED:20240801T180222Z
LAST-MODIFIED:20240822T223117Z
UID:10000870-1727239500-1727239500@ciemicr.org
SUMMARY:Gira técnica: Sistema de Almacenamiento Energético con Baterías (SAEB)
DESCRIPTION:Inscríbase  \n 
URL:https://ciemicr.org/eventosrefresh_css/gira-tecnica-sistema-de-almacenamiento-energetico-con-baterias-saeb/
CATEGORIES:Eventos
ATTACH;FMTTYPE=image/jpeg:https://ciemicr.org/wp-content/uploads/2024/08/Gira22.jpg
END:VEVENT
BEGIN:VEVENT
DTSTART;TZID=America/Costa_Rica:20240925T044500
DTEND;TZID=America/Costa_Rica:20240925T044500
DTSTAMP:20260422T011228
CREATED:20240801T180222Z
LAST-MODIFIED:20240801T180222Z
UID:10001932-1727239500-1727239500@ciemicr.org
SUMMARY:Gira técnica: Sistema de Almacenamiento Energético con Baterías (SAEB)
DESCRIPTION:Inscríbase  \n 
URL:https://ciemicr.org/eventosrefresh_css/gira-tecnica-sistema-de-almacenamiento-energetico-con-baterias-saeb-2/
CATEGORIES:Eventos
ATTACH;FMTTYPE=image/jpeg:https://ciemicr.org/wp-content/uploads/2024/08/Gira22.jpg
END:VEVENT
BEGIN:VEVENT
DTSTART;TZID=America/Costa_Rica:20240925T044500
DTEND;TZID=America/Costa_Rica:20240925T044500
DTSTAMP:20260422T011228
CREATED:20240801T180222Z
LAST-MODIFIED:20240801T180222Z
UID:10002350-1727239500-1727239500@ciemicr.org
SUMMARY:Gira técnica: Sistema de Almacenamiento Energético con Baterías (SAEB)
DESCRIPTION:Inscríbase  \n 
URL:https://ciemicr.org/eventosrefresh_css/gira-tecnica-sistema-de-almacenamiento-energetico-con-baterias-saeb-3/
CATEGORIES:Eventos
ATTACH;FMTTYPE=image/jpeg:https://ciemicr.org/wp-content/uploads/2024/08/Gira22.jpg
END:VEVENT
BEGIN:VEVENT
DTSTART;TZID=America/Costa_Rica:20240924T180000
DTEND;TZID=America/Costa_Rica:20240924T210000
DTSTAMP:20260422T011228
CREATED:20240611T214214Z
LAST-MODIFIED:20240805T225813Z
UID:10000848-1727200800-1727211600@ciemicr.org
SUMMARY:Curso Diseño de sistemas mecánicos para piscinas
DESCRIPTION:Inscríbase  \nPrograma
URL:https://ciemicr.org/eventosrefresh_css/curso-diseno-de-sistemas-mecanicos-para-piscinas/
LOCATION:Virtual\, Costa Rica
CATEGORIES:Capacitaciones
ATTACH;FMTTYPE=image/jpeg:https://ciemicr.org/wp-content/uploads/2024/06/Diseno-de-sistemas-mecanicos-para-piscinas-1.jpg
END:VEVENT
BEGIN:VEVENT
DTSTART;TZID=America/Costa_Rica:20240924T180000
DTEND;TZID=America/Costa_Rica:20240924T210000
DTSTAMP:20260422T011228
CREATED:20240611T214214Z
LAST-MODIFIED:20240611T214214Z
UID:10001913-1727200800-1727211600@ciemicr.org
SUMMARY:Curso Diseño de sistemas mecánicos para piscinas
DESCRIPTION:Inscríbase  \nPrograma
URL:https://ciemicr.org/eventosrefresh_css/curso-diseno-de-sistemas-mecanicos-para-piscinas-3/
LOCATION:Virtual\, Costa Rica
CATEGORIES:Capacitaciones
ATTACH;FMTTYPE=image/jpeg:https://ciemicr.org/wp-content/uploads/2024/06/Diseno-de-sistemas-mecanicos-para-piscinas-1.jpg
END:VEVENT
BEGIN:VEVENT
DTSTART;TZID=America/Costa_Rica:20240924T180000
DTEND;TZID=America/Costa_Rica:20240924T210000
DTSTAMP:20260422T011228
CREATED:20240611T214214Z
LAST-MODIFIED:20240611T214214Z
UID:10002331-1727200800-1727211600@ciemicr.org
SUMMARY:Curso Diseño de sistemas mecánicos para piscinas
DESCRIPTION:Inscríbase  \nPrograma
URL:https://ciemicr.org/eventosrefresh_css/curso-diseno-de-sistemas-mecanicos-para-piscinas-4/
LOCATION:Virtual\, Costa Rica
CATEGORIES:Capacitaciones
ATTACH;FMTTYPE=image/jpeg:https://ciemicr.org/wp-content/uploads/2024/06/Diseno-de-sistemas-mecanicos-para-piscinas-1.jpg
END:VEVENT
BEGIN:VEVENT
DTSTART;TZID=America/Costa_Rica:20240924T180000
DTEND;TZID=America/Costa_Rica:20240924T180000
DTSTAMP:20260422T011228
CREATED:20240606T172327Z
LAST-MODIFIED:20240826T223935Z
UID:10000838-1727200800-1727200800@ciemicr.org
SUMMARY:Webinar Consideraciones Técnicas para Diseño de Instalaciones GAS LP
DESCRIPTION:Inscríbase
URL:https://ciemicr.org/eventosrefresh_css/webinar-consideraciones-tecnicas-para-diseno-de-instalaciones-gas-lp/
LOCATION:Virtual\, Costa Rica
CATEGORIES:Conferencias
ATTACH;FMTTYPE=image/jpeg:https://ciemicr.org/wp-content/uploads/2024/06/Webinar-Consideraciones-Tecnicas-para-Diseno-de-Instalaciones-GAS-LP-2.jpg
END:VEVENT
BEGIN:VEVENT
DTSTART;TZID=America/Costa_Rica:20240924T180000
DTEND;TZID=America/Costa_Rica:20240924T180000
DTSTAMP:20260422T011228
CREATED:20240606T172327Z
LAST-MODIFIED:20240606T172327Z
UID:10001903-1727200800-1727200800@ciemicr.org
SUMMARY:Webinar Consideraciones Técnicas para Diseño de Instalaciones GAS LP
DESCRIPTION:Inscríbase
URL:https://ciemicr.org/eventosrefresh_css/webinar-consideraciones-tecnicas-para-diseno-de-instalaciones-gas-lp-2/
LOCATION:Virtual\, Costa Rica
CATEGORIES:Conferencias
ATTACH;FMTTYPE=image/jpeg:https://ciemicr.org/wp-content/uploads/2024/06/Webinar-Consideraciones-Tecnicas-para-Diseno-de-Instalaciones-GAS-LP-2.jpg
END:VEVENT
BEGIN:VEVENT
DTSTART;TZID=America/Costa_Rica:20240924T180000
DTEND;TZID=America/Costa_Rica:20240924T180000
DTSTAMP:20260422T011229
CREATED:20240606T172327Z
LAST-MODIFIED:20240606T172327Z
UID:10002321-1727200800-1727200800@ciemicr.org
SUMMARY:Webinar Consideraciones Técnicas para Diseño de Instalaciones GAS LP
DESCRIPTION:Inscríbase
URL:https://ciemicr.org/eventosrefresh_css/webinar-consideraciones-tecnicas-para-diseno-de-instalaciones-gas-lp-3/
LOCATION:Virtual\, Costa Rica
CATEGORIES:Conferencias
ATTACH;FMTTYPE=image/jpeg:https://ciemicr.org/wp-content/uploads/2024/06/Webinar-Consideraciones-Tecnicas-para-Diseno-de-Instalaciones-GAS-LP-2.jpg
END:VEVENT
BEGIN:VEVENT
DTSTART;TZID=America/Costa_Rica:20240923T080000
DTEND;TZID=America/Costa_Rica:20240923T170000
DTSTAMP:20260422T011229
CREATED:20240326T155038Z
LAST-MODIFIED:20240326T155038Z
UID:10000805-1727078400-1727110800@ciemicr.org
SUMMARY:Curso FVOL 203: Fundamentos de Sistemas Fotovoltaicos basados en Baterías - en línea
DESCRIPTION:Regístrese aquí \nPrograma
URL:https://ciemicr.org/eventosrefresh_css/curso-fvol-203-fundamentos/
LOCATION:Virtual\, Costa Rica
CATEGORIES:Capacitaciones
ATTACH;FMTTYPE=image/jpeg:https://ciemicr.org/wp-content/uploads/2024/02/CIEMI2024_FVOL203.jpg
END:VEVENT
BEGIN:VEVENT
DTSTART;TZID=America/Costa_Rica:20240923T080000
DTEND;TZID=America/Costa_Rica:20240923T170000
DTSTAMP:20260422T011229
CREATED:20240326T155038Z
LAST-MODIFIED:20240326T155038Z
UID:10001875-1727078400-1727110800@ciemicr.org
SUMMARY:Curso FVOL 203: Fundamentos de Sistemas Fotovoltaicos basados en Baterías - en línea
DESCRIPTION:Regístrese aquí \nPrograma
URL:https://ciemicr.org/eventosrefresh_css/curso-fvol-203-fundamentos-2/
LOCATION:Virtual\, Costa Rica
CATEGORIES:Capacitaciones
ATTACH;FMTTYPE=image/jpeg:https://ciemicr.org/wp-content/uploads/2024/02/CIEMI2024_FVOL203.jpg
END:VEVENT
BEGIN:VEVENT
DTSTART;TZID=America/Costa_Rica:20240923T080000
DTEND;TZID=America/Costa_Rica:20240923T170000
DTSTAMP:20260422T011229
CREATED:20240326T155038Z
LAST-MODIFIED:20240326T155038Z
UID:10002293-1727078400-1727110800@ciemicr.org
SUMMARY:Curso FVOL 203: Fundamentos de Sistemas Fotovoltaicos basados en Baterías - en línea
DESCRIPTION:Regístrese aquí \nPrograma
URL:https://ciemicr.org/eventosrefresh_css/curso-fvol-203-fundamentos-3/
LOCATION:Virtual\, Costa Rica
CATEGORIES:Capacitaciones
ATTACH;FMTTYPE=image/jpeg:https://ciemicr.org/wp-content/uploads/2024/02/CIEMI2024_FVOL203.jpg
END:VEVENT
BEGIN:VEVENT
DTSTART;TZID=America/Costa_Rica:20240923T080000
DTEND;TZID=America/Costa_Rica:20240923T170000
DTSTAMP:20260422T011229
CREATED:20240322T164053Z
LAST-MODIFIED:20240322T164053Z
UID:10000800-1727078400-1727110800@ciemicr.org
SUMMARY:Curso FVOL101: Diseño e Instalación Solar Eléctrica (sistemas interactivos) – en línea
DESCRIPTION:Inscríbase aquí \nPrograma
URL:https://ciemicr.org/eventosrefresh_css/curso-fvol101-diseno-e-instalacion-solar-electrica-sistemas-interactivos-en-linea-10/
LOCATION:Virtual\, Costa Rica
CATEGORIES:Capacitaciones
ATTACH;FMTTYPE=image/jpeg:https://ciemicr.org/wp-content/uploads/2024/03/CIEMI2024_FVOL101.jpg
END:VEVENT
BEGIN:VEVENT
DTSTART;TZID=America/Costa_Rica:20240923T080000
DTEND;TZID=America/Costa_Rica:20240923T170000
DTSTAMP:20260422T011229
CREATED:20240322T164053Z
LAST-MODIFIED:20240322T164053Z
UID:10001870-1727078400-1727110800@ciemicr.org
SUMMARY:Curso FVOL101: Diseño e Instalación Solar Eléctrica (sistemas interactivos) – en línea
DESCRIPTION:Inscríbase aquí \nPrograma
URL:https://ciemicr.org/eventosrefresh_css/curso-fvol101-diseno-e-instalacion-solar-electrica-sistemas-interactivos-en-linea-10-2/
LOCATION:Virtual\, Costa Rica
CATEGORIES:Capacitaciones
ATTACH;FMTTYPE=image/jpeg:https://ciemicr.org/wp-content/uploads/2024/03/CIEMI2024_FVOL101.jpg
END:VEVENT
END:VCALENDAR