BEGIN:VCALENDAR
VERSION:2.0
PRODID:-//CIEMI - ECPv6.15.13.1//NONSGML v1.0//EN
CALSCALE:GREGORIAN
METHOD:PUBLISH
X-ORIGINAL-URL:https://ciemicr.org
X-WR-CALDESC:Eventos para CIEMI
REFRESH-INTERVAL;VALUE=DURATION:PT1H
X-Robots-Tag:noindex
X-PUBLISHED-TTL:PT1H
BEGIN:VTIMEZONE
TZID:America/Costa_Rica
BEGIN:STANDARD
TZOFFSETFROM:-0600
TZOFFSETTO:-0600
TZNAME:CST
DTSTART:20230101T000000
END:STANDARD
END:VTIMEZONE
BEGIN:VEVENT
DTSTART;TZID=America/Costa_Rica:20240812T080000
DTEND;TZID=America/Costa_Rica:20240812T170000
DTSTAMP:20260422T144307
CREATED:20240702T193812Z
LAST-MODIFIED:20240702T193812Z
UID:10001918-1723449600-1723482000@ciemicr.org
SUMMARY:Curso NFPA 70B: Mantenimiento de Equipos Eléctricos
DESCRIPTION:Inscríbase aquí \nPrograma
URL:https://ciemicr.org/eventosrefresh_css/curso-nfpa-70b-mantenimiento-de-equipos-electricos-2/
LOCATION:CCCIEMI\, CIEMI\, CIEMI\, Costa Rica
CATEGORIES:Capacitaciones
ATTACH;FMTTYPE=image/jpeg:https://ciemicr.org/wp-content/uploads/2024/07/Curso-NFPA-70B.jpg
END:VEVENT
BEGIN:VEVENT
DTSTART;TZID=America/Costa_Rica:20240812T080000
DTEND;TZID=America/Costa_Rica:20240812T170000
DTSTAMP:20260422T144307
CREATED:20240702T193812Z
LAST-MODIFIED:20240702T193812Z
UID:10002336-1723449600-1723482000@ciemicr.org
SUMMARY:Curso NFPA 70B: Mantenimiento de Equipos Eléctricos
DESCRIPTION:Inscríbase aquí \nPrograma
URL:https://ciemicr.org/eventosrefresh_css/curso-nfpa-70b-mantenimiento-de-equipos-electricos-3/
LOCATION:CCCIEMI\, CIEMI\, CIEMI\, Costa Rica
CATEGORIES:Capacitaciones
ATTACH;FMTTYPE=image/jpeg:https://ciemicr.org/wp-content/uploads/2024/07/Curso-NFPA-70B.jpg
END:VEVENT
BEGIN:VEVENT
DTSTART;TZID=America/Costa_Rica:20240812T080000
DTEND;TZID=America/Costa_Rica:20240812T170000
DTSTAMP:20260422T144307
CREATED:20240322T165057Z
LAST-MODIFIED:20240715T160119Z
UID:10000801-1723449600-1723482000@ciemicr.org
SUMMARY:Curso FVOL101: Diseño e Instalación Solar Eléctrica (sistemas interactivos) – en línea
DESCRIPTION:Inscríbase aquí \nPrograma
URL:https://ciemicr.org/eventosrefresh_css/curso-fvol101-diseno-e-instalacion-solar-electrica-sistemas-interactivos-en-linea-11/
LOCATION:Virtual\, Costa Rica
CATEGORIES:Capacitaciones
ATTACH;FMTTYPE=image/jpeg:https://ciemicr.org/wp-content/uploads/2024/03/CIEMI2024_FVOL101.jpg
END:VEVENT
BEGIN:VEVENT
DTSTART;TZID=America/Costa_Rica:20240812T080000
DTEND;TZID=America/Costa_Rica:20240812T170000
DTSTAMP:20260422T144307
CREATED:20240322T165057Z
LAST-MODIFIED:20240322T165057Z
UID:10001871-1723449600-1723482000@ciemicr.org
SUMMARY:Curso FVOL101: Diseño e Instalación Solar Eléctrica (sistemas interactivos) – en línea
DESCRIPTION:Inscríbase aquí \nPrograma
URL:https://ciemicr.org/eventosrefresh_css/curso-fvol101-diseno-e-instalacion-solar-electrica-sistemas-interactivos-en-linea-11-2/
LOCATION:Virtual\, Costa Rica
CATEGORIES:Capacitaciones
ATTACH;FMTTYPE=image/jpeg:https://ciemicr.org/wp-content/uploads/2024/03/CIEMI2024_FVOL101.jpg
END:VEVENT
BEGIN:VEVENT
DTSTART;TZID=America/Costa_Rica:20240812T080000
DTEND;TZID=America/Costa_Rica:20240812T170000
DTSTAMP:20260422T144307
CREATED:20240322T165057Z
LAST-MODIFIED:20240322T165057Z
UID:10002289-1723449600-1723482000@ciemicr.org
SUMMARY:Curso FVOL101: Diseño e Instalación Solar Eléctrica (sistemas interactivos) – en línea
DESCRIPTION:Inscríbase aquí \nPrograma
URL:https://ciemicr.org/eventosrefresh_css/curso-fvol101-diseno-e-instalacion-solar-electrica-sistemas-interactivos-en-linea-11-3/
LOCATION:Virtual\, Costa Rica
CATEGORIES:Capacitaciones
ATTACH;FMTTYPE=image/jpeg:https://ciemicr.org/wp-content/uploads/2024/03/CIEMI2024_FVOL101.jpg
END:VEVENT
BEGIN:VEVENT
DTSTART;TZID=America/Costa_Rica:20240806T170000
DTEND;TZID=America/Costa_Rica:20240806T210000
DTSTAMP:20260422T144307
CREATED:20240723T163438Z
LAST-MODIFIED:20240723T163438Z
UID:10000864-1722963600-1722978000@ciemicr.org
SUMMARY:Curso Power BI y SQL
DESCRIPTION:Más información
URL:https://ciemicr.org/eventosrefresh_css/curso-power-bi-y-sql-4/
LOCATION:Virtual\, Costa Rica
CATEGORIES:Capacitaciones
ATTACH;FMTTYPE=image/jpeg:https://ciemicr.org/wp-content/uploads/2024/07/SQL-y-POWER-BI-CIEMI.jpg
END:VEVENT
BEGIN:VEVENT
DTSTART;TZID=America/Costa_Rica:20240806T170000
DTEND;TZID=America/Costa_Rica:20240806T210000
DTSTAMP:20260422T144307
CREATED:20240723T163438Z
LAST-MODIFIED:20240723T163438Z
UID:10001927-1722963600-1722978000@ciemicr.org
SUMMARY:Curso Power BI y SQL
DESCRIPTION:Más información
URL:https://ciemicr.org/eventosrefresh_css/curso-power-bi-y-sql-4-2/
LOCATION:Virtual\, Costa Rica
CATEGORIES:Capacitaciones
ATTACH;FMTTYPE=image/jpeg:https://ciemicr.org/wp-content/uploads/2024/07/SQL-y-POWER-BI-CIEMI.jpg
END:VEVENT
BEGIN:VEVENT
DTSTART;TZID=America/Costa_Rica:20240806T170000
DTEND;TZID=America/Costa_Rica:20240806T210000
DTSTAMP:20260422T144307
CREATED:20240723T163438Z
LAST-MODIFIED:20240723T163438Z
UID:10002345-1722963600-1722978000@ciemicr.org
SUMMARY:Curso Power BI y SQL
DESCRIPTION:Más información
URL:https://ciemicr.org/eventosrefresh_css/curso-power-bi-y-sql-4-3/
LOCATION:Virtual\, Costa Rica
CATEGORIES:Capacitaciones
ATTACH;FMTTYPE=image/jpeg:https://ciemicr.org/wp-content/uploads/2024/07/SQL-y-POWER-BI-CIEMI.jpg
END:VEVENT
BEGIN:VEVENT
DTSTART;TZID=America/Costa_Rica:20240805T170000
DTEND;TZID=America/Costa_Rica:20240805T210000
DTSTAMP:20260422T144307
CREATED:20240723T162445Z
LAST-MODIFIED:20240723T163124Z
UID:10000863-1722877200-1722891600@ciemicr.org
SUMMARY:Programa Formación Administrador de la Energía
DESCRIPTION:Más información \n 
URL:https://ciemicr.org/eventosrefresh_css/programa-formacion-administrador-de-la-energia/
LOCATION:Virtual\, Costa Rica
CATEGORIES:Capacitaciones
ATTACH;FMTTYPE=image/jpeg:https://ciemicr.org/wp-content/uploads/2024/07/PROGRAMA-DE-FORMACION-ADMINISTRADOR-DE-LA-ENERGIA-CIEMI.jpg
END:VEVENT
BEGIN:VEVENT
DTSTART;TZID=America/Costa_Rica:20240805T170000
DTEND;TZID=America/Costa_Rica:20240805T210000
DTSTAMP:20260422T144307
CREATED:20240723T162445Z
LAST-MODIFIED:20240723T162445Z
UID:10001926-1722877200-1722891600@ciemicr.org
SUMMARY:Programa Formación Administrador de la Energía
DESCRIPTION:Más información \n 
URL:https://ciemicr.org/eventosrefresh_css/programa-formacion-administrador-de-la-energia-2/
LOCATION:Virtual\, Costa Rica
CATEGORIES:Capacitaciones
ATTACH;FMTTYPE=image/jpeg:https://ciemicr.org/wp-content/uploads/2024/07/PROGRAMA-DE-FORMACION-ADMINISTRADOR-DE-LA-ENERGIA-CIEMI.jpg
END:VEVENT
BEGIN:VEVENT
DTSTART;TZID=America/Costa_Rica:20240805T170000
DTEND;TZID=America/Costa_Rica:20240805T210000
DTSTAMP:20260422T144307
CREATED:20240723T162445Z
LAST-MODIFIED:20240723T162445Z
UID:10002344-1722877200-1722891600@ciemicr.org
SUMMARY:Programa Formación Administrador de la Energía
DESCRIPTION:Más información \n 
URL:https://ciemicr.org/eventosrefresh_css/programa-formacion-administrador-de-la-energia-3/
LOCATION:Virtual\, Costa Rica
CATEGORIES:Capacitaciones
ATTACH;FMTTYPE=image/jpeg:https://ciemicr.org/wp-content/uploads/2024/07/PROGRAMA-DE-FORMACION-ADMINISTRADOR-DE-LA-ENERGIA-CIEMI.jpg
END:VEVENT
BEGIN:VEVENT
DTSTART;TZID=America/Costa_Rica:20240726T183000
DTEND;TZID=America/Costa_Rica:20240726T183000
DTSTAMP:20260422T144307
CREATED:20240703T161308Z
LAST-MODIFIED:20240711T233703Z
UID:10000857-1722018600-1722018600@ciemicr.org
SUMMARY:Celebración Anexión del Partido de Nicoya a Costa Rica (200 años)
DESCRIPTION:Inscríbase aquí \n\nPuede participar el profesional + 1 acompañante\n\n 
URL:https://ciemicr.org/eventosrefresh_css/celebracion-anexion-del-partido-de-nicoya-a-costa-rica-200-anos/
LOCATION:Auditorio del CFIA\, Curridabat\, 2346-1000\, Costa Rica\, Colegio de Ingenieros y Arquitectos\, Costa Rica
CATEGORIES:Eventos
ATTACH;FMTTYPE=image/jpeg:https://ciemicr.org/wp-content/uploads/2024/07/Imagen-de-WhatsApp-2024-07-11-a-las-16.10.27_4c0a569a.jpg
GEO:9.9253512346433;-84.03936233163
X-APPLE-STRUCTURED-LOCATION;VALUE=URI;X-ADDRESS=Auditorio del CFIA Curridabat 2346-1000 Costa Rica Colegio de Ingenieros y Arquitectos Costa Rica;X-APPLE-RADIUS=500;X-TITLE=2346-1000:geo:-84.03936233163,9.9253512346433
END:VEVENT
BEGIN:VEVENT
DTSTART;TZID=America/Costa_Rica:20240726T183000
DTEND;TZID=America/Costa_Rica:20240726T183000
DTSTAMP:20260422T144307
CREATED:20240703T161308Z
LAST-MODIFIED:20240703T161308Z
UID:10001920-1722018600-1722018600@ciemicr.org
SUMMARY:Celebración Anexión del Partido de Nicoya a Costa Rica (200 años)
DESCRIPTION:Inscríbase aquí \n\nPuede participar el profesional + 1 acompañante\n\n 
URL:https://ciemicr.org/eventosrefresh_css/celebracion-anexion-del-partido-de-nicoya-a-costa-rica-200-anos-2/
LOCATION:Auditorio del CFIA\, Curridabat\, 2346-1000\, Costa Rica\, Colegio de Ingenieros y Arquitectos\, Costa Rica
CATEGORIES:Eventos
ATTACH;FMTTYPE=image/jpeg:https://ciemicr.org/wp-content/uploads/2024/07/Imagen-de-WhatsApp-2024-07-11-a-las-16.10.27_4c0a569a.jpg
GEO:9.9253512346433;-84.03936233163
X-APPLE-STRUCTURED-LOCATION;VALUE=URI;X-ADDRESS=Auditorio del CFIA Curridabat 2346-1000 Costa Rica Colegio de Ingenieros y Arquitectos Costa Rica;X-APPLE-RADIUS=500;X-TITLE=2346-1000:geo:-84.03936233163,9.9253512346433
END:VEVENT
BEGIN:VEVENT
DTSTART;TZID=America/Costa_Rica:20240726T183000
DTEND;TZID=America/Costa_Rica:20240726T183000
DTSTAMP:20260422T144307
CREATED:20240703T161308Z
LAST-MODIFIED:20240703T161308Z
UID:10002338-1722018600-1722018600@ciemicr.org
SUMMARY:Celebración Anexión del Partido de Nicoya a Costa Rica (200 años)
DESCRIPTION:Inscríbase aquí \n\nPuede participar el profesional + 1 acompañante\n\n 
URL:https://ciemicr.org/eventosrefresh_css/celebracion-anexion-del-partido-de-nicoya-a-costa-rica-200-anos-3/
LOCATION:Auditorio del CFIA\, Curridabat\, 2346-1000\, Costa Rica\, Colegio de Ingenieros y Arquitectos\, Costa Rica
CATEGORIES:Eventos
ATTACH;FMTTYPE=image/jpeg:https://ciemicr.org/wp-content/uploads/2024/07/Imagen-de-WhatsApp-2024-07-11-a-las-16.10.27_4c0a569a.jpg
GEO:9.9253512346433;-84.03936233163
X-APPLE-STRUCTURED-LOCATION;VALUE=URI;X-ADDRESS=Auditorio del CFIA Curridabat 2346-1000 Costa Rica Colegio de Ingenieros y Arquitectos Costa Rica;X-APPLE-RADIUS=500;X-TITLE=2346-1000:geo:-84.03936233163,9.9253512346433
END:VEVENT
BEGIN:VEVENT
DTSTART;TZID=America/Costa_Rica:20240723T180000
DTEND;TZID=America/Costa_Rica:20240723T210000
DTSTAMP:20260422T144307
CREATED:20240606T174643Z
LAST-MODIFIED:20240617T211108Z
UID:10000841-1721757600-1721768400@ciemicr.org
SUMMARY:Curso CAPDEE-M5: Diseño de Sistemas de puesta a tierra en las instalaciones eléctricas
DESCRIPTION:Inscríbase  \nPrograma
URL:https://ciemicr.org/eventosrefresh_css/curso-capdee-m5-diseno-de-sistemas-de-puesta-a-tierra-en-las-instalaciones-electricas-4/
LOCATION:Virtual\, Costa Rica
CATEGORIES:Capacitaciones
ATTACH;FMTTYPE=image/jpeg:https://ciemicr.org/wp-content/uploads/2024/06/CAPDEE-M5-Diseno-de-Sistemas-de-puesta-a-tierra-en-las-instalaciones-electricas.jpg
END:VEVENT
BEGIN:VEVENT
DTSTART;TZID=America/Costa_Rica:20240723T180000
DTEND;TZID=America/Costa_Rica:20240723T210000
DTSTAMP:20260422T144307
CREATED:20240606T174643Z
LAST-MODIFIED:20240606T174643Z
UID:10001906-1721757600-1721768400@ciemicr.org
SUMMARY:Curso CAPDEE-M5: Diseño de Sistemas de puesta a tierra en las instalaciones eléctricas
DESCRIPTION:Inscríbase  \nPrograma
URL:https://ciemicr.org/eventosrefresh_css/curso-capdee-m5-diseno-de-sistemas-de-puesta-a-tierra-en-las-instalaciones-electricas-4-2/
LOCATION:Virtual\, Costa Rica
CATEGORIES:Capacitaciones
ATTACH;FMTTYPE=image/jpeg:https://ciemicr.org/wp-content/uploads/2024/06/CAPDEE-M5-Diseno-de-Sistemas-de-puesta-a-tierra-en-las-instalaciones-electricas.jpg
END:VEVENT
BEGIN:VEVENT
DTSTART;TZID=America/Costa_Rica:20240723T180000
DTEND;TZID=America/Costa_Rica:20240723T210000
DTSTAMP:20260422T144307
CREATED:20240606T174643Z
LAST-MODIFIED:20240606T174643Z
UID:10002324-1721757600-1721768400@ciemicr.org
SUMMARY:Curso CAPDEE-M5: Diseño de Sistemas de puesta a tierra en las instalaciones eléctricas
DESCRIPTION:Inscríbase  \nPrograma
URL:https://ciemicr.org/eventosrefresh_css/curso-capdee-m5-diseno-de-sistemas-de-puesta-a-tierra-en-las-instalaciones-electricas-4-3/
LOCATION:Virtual\, Costa Rica
CATEGORIES:Capacitaciones
ATTACH;FMTTYPE=image/jpeg:https://ciemicr.org/wp-content/uploads/2024/06/CAPDEE-M5-Diseno-de-Sistemas-de-puesta-a-tierra-en-las-instalaciones-electricas.jpg
END:VEVENT
BEGIN:VEVENT
DTSTART;TZID=America/Costa_Rica:20240723T170000
DTEND;TZID=America/Costa_Rica:20240723T200000
DTSTAMP:20260422T144307
CREATED:20240703T174918Z
LAST-MODIFIED:20240703T174918Z
UID:10000858-1721754000-1721764800@ciemicr.org
SUMMARY:Curso Excel completo: Básico\, intermedio y vanzado
DESCRIPTION:Más información
URL:https://ciemicr.org/eventosrefresh_css/curso-excel-completo-basico-intermedio-y-vanzado/
LOCATION:Virtual\, Costa Rica
CATEGORIES:Capacitaciones
ATTACH;FMTTYPE=image/jpeg:https://ciemicr.org/wp-content/uploads/2024/07/PROGRAMA-EXCEL-COMPLETO.jpg
END:VEVENT
BEGIN:VEVENT
DTSTART;TZID=America/Costa_Rica:20240723T170000
DTEND;TZID=America/Costa_Rica:20240723T200000
DTSTAMP:20260422T144307
CREATED:20240703T174918Z
LAST-MODIFIED:20240703T174918Z
UID:10001921-1721754000-1721764800@ciemicr.org
SUMMARY:Curso Excel completo: Básico\, intermedio y vanzado
DESCRIPTION:Más información
URL:https://ciemicr.org/eventosrefresh_css/curso-excel-completo-basico-intermedio-y-vanzado-2/
LOCATION:Virtual\, Costa Rica
CATEGORIES:Capacitaciones
ATTACH;FMTTYPE=image/jpeg:https://ciemicr.org/wp-content/uploads/2024/07/PROGRAMA-EXCEL-COMPLETO.jpg
END:VEVENT
BEGIN:VEVENT
DTSTART;TZID=America/Costa_Rica:20240723T170000
DTEND;TZID=America/Costa_Rica:20240723T200000
DTSTAMP:20260422T144307
CREATED:20240703T174918Z
LAST-MODIFIED:20240703T174918Z
UID:10002339-1721754000-1721764800@ciemicr.org
SUMMARY:Curso Excel completo: Básico\, intermedio y vanzado
DESCRIPTION:Más información
URL:https://ciemicr.org/eventosrefresh_css/curso-excel-completo-basico-intermedio-y-vanzado-3/
LOCATION:Virtual\, Costa Rica
CATEGORIES:Capacitaciones
ATTACH;FMTTYPE=image/jpeg:https://ciemicr.org/wp-content/uploads/2024/07/PROGRAMA-EXCEL-COMPLETO.jpg
END:VEVENT
BEGIN:VEVENT
DTSTART;TZID=America/Costa_Rica:20240717T170000
DTEND;TZID=America/Costa_Rica:20240717T200000
DTSTAMP:20260422T144307
CREATED:20240703T175244Z
LAST-MODIFIED:20240704T033612Z
UID:10000859-1721235600-1721246400@ciemicr.org
SUMMARY:Curso Power BI y SQL
DESCRIPTION:Más información
URL:https://ciemicr.org/eventosrefresh_css/curso-power-bi-y-sql-3/
LOCATION:Virtual\, Costa Rica
CATEGORIES:Capacitaciones
ATTACH;FMTTYPE=image/jpeg:https://ciemicr.org/wp-content/uploads/2024/07/CURSO-POWER-BI-Y-SQL.jpg
END:VEVENT
BEGIN:VEVENT
DTSTART;TZID=America/Costa_Rica:20240717T170000
DTEND;TZID=America/Costa_Rica:20240717T200000
DTSTAMP:20260422T144307
CREATED:20240703T175244Z
LAST-MODIFIED:20240703T175244Z
UID:10001922-1721235600-1721246400@ciemicr.org
SUMMARY:Curso Power BI y SQL
DESCRIPTION:Más información
URL:https://ciemicr.org/eventosrefresh_css/curso-power-bi-y-sql-3-2/
LOCATION:Virtual\, Costa Rica
CATEGORIES:Capacitaciones
ATTACH;FMTTYPE=image/jpeg:https://ciemicr.org/wp-content/uploads/2024/07/CURSO-POWER-BI-Y-SQL.jpg
END:VEVENT
BEGIN:VEVENT
DTSTART;TZID=America/Costa_Rica:20240717T170000
DTEND;TZID=America/Costa_Rica:20240717T200000
DTSTAMP:20260422T144307
CREATED:20240703T175244Z
LAST-MODIFIED:20240703T175244Z
UID:10002340-1721235600-1721246400@ciemicr.org
SUMMARY:Curso Power BI y SQL
DESCRIPTION:Más información
URL:https://ciemicr.org/eventosrefresh_css/curso-power-bi-y-sql-3-3/
LOCATION:Virtual\, Costa Rica
CATEGORIES:Capacitaciones
ATTACH;FMTTYPE=image/jpeg:https://ciemicr.org/wp-content/uploads/2024/07/CURSO-POWER-BI-Y-SQL.jpg
END:VEVENT
BEGIN:VEVENT
DTSTART;TZID=America/Costa_Rica:20240716T180000
DTEND;TZID=America/Costa_Rica:20240716T210000
DTSTAMP:20260422T144307
CREATED:20240606T174300Z
LAST-MODIFIED:20240709T224953Z
UID:10000840-1721152800-1721163600@ciemicr.org
SUMMARY:Curso Seguridad eléctrica y Arc-Flash
DESCRIPTION:Inscríbase \nPrograma
URL:https://ciemicr.org/eventosrefresh_css/curso-seguridad-electrica-y-arc-flash/
LOCATION:Virtual\, Costa Rica
CATEGORIES:Capacitaciones
ATTACH;FMTTYPE=image/jpeg:https://ciemicr.org/wp-content/uploads/2024/06/Seguridad-electrica-y-Arc-Flash-1.jpg
END:VEVENT
BEGIN:VEVENT
DTSTART;TZID=America/Costa_Rica:20240716T180000
DTEND;TZID=America/Costa_Rica:20240716T210000
DTSTAMP:20260422T144307
CREATED:20240606T174300Z
LAST-MODIFIED:20240606T174300Z
UID:10001905-1721152800-1721163600@ciemicr.org
SUMMARY:Curso Seguridad eléctrica y Arc-Flash
DESCRIPTION:Inscríbase \nPrograma
URL:https://ciemicr.org/eventosrefresh_css/curso-seguridad-electrica-y-arc-flash-2/
LOCATION:Virtual\, Costa Rica
CATEGORIES:Capacitaciones
ATTACH;FMTTYPE=image/jpeg:https://ciemicr.org/wp-content/uploads/2024/06/Seguridad-electrica-y-Arc-Flash-1.jpg
END:VEVENT
BEGIN:VEVENT
DTSTART;TZID=America/Costa_Rica:20240716T180000
DTEND;TZID=America/Costa_Rica:20240716T210000
DTSTAMP:20260422T144307
CREATED:20240606T174300Z
LAST-MODIFIED:20240606T174300Z
UID:10002323-1721152800-1721163600@ciemicr.org
SUMMARY:Curso Seguridad eléctrica y Arc-Flash
DESCRIPTION:Inscríbase \nPrograma
URL:https://ciemicr.org/eventosrefresh_css/curso-seguridad-electrica-y-arc-flash-3/
LOCATION:Virtual\, Costa Rica
CATEGORIES:Capacitaciones
ATTACH;FMTTYPE=image/jpeg:https://ciemicr.org/wp-content/uploads/2024/06/Seguridad-electrica-y-Arc-Flash-1.jpg
END:VEVENT
BEGIN:VEVENT
DTSTART;TZID=America/Costa_Rica:20240710T180000
DTEND;TZID=America/Costa_Rica:20240710T210000
DTSTAMP:20260422T144307
CREATED:20231128T003411Z
LAST-MODIFIED:20240517T180540Z
UID:10000756-1720634400-1720645200@ciemicr.org
SUMMARY:Curso Sistemas de suministro y distribución de agua potable\, I módulo
DESCRIPTION:Inscríbase aquí \nPrograma
URL:https://ciemicr.org/eventosrefresh_css/curso-sistemas-de-suministro-y-distribucion-de-agua-potable-i-modulo/
LOCATION:Virtual\, Costa Rica
CATEGORIES:Capacitaciones
ATTACH;FMTTYPE=image/jpeg:https://ciemicr.org/wp-content/uploads/2023/11/Sistemas-de-suministro-y-distribucion-de-agua-potable-I-modulo-1.jpg
END:VEVENT
BEGIN:VEVENT
DTSTART;TZID=America/Costa_Rica:20240709T180000
DTEND;TZID=America/Costa_Rica:20240709T210000
DTSTAMP:20260422T144307
CREATED:20240606T175526Z
LAST-MODIFIED:20240618T203837Z
UID:10000843-1720548000-1720558800@ciemicr.org
SUMMARY:Curso #1 Ingeniería de Fuego
DESCRIPTION:Inscríbase  \nPrograma
URL:https://ciemicr.org/eventosrefresh_css/curso-1-ingenieria-de-fuego-3/
LOCATION:Virtual\, Costa Rica
CATEGORIES:Capacitaciones
ATTACH;FMTTYPE=image/jpeg:https://ciemicr.org/wp-content/uploads/2024/06/Curso-1-Ingenieria-de-Fuego-2.jpg
END:VEVENT
BEGIN:VEVENT
DTSTART;TZID=America/Costa_Rica:20240709T180000
DTEND;TZID=America/Costa_Rica:20240709T210000
DTSTAMP:20260422T144307
CREATED:20240606T175526Z
LAST-MODIFIED:20240606T175526Z
UID:10001908-1720548000-1720558800@ciemicr.org
SUMMARY:Curso #1 Ingeniería de Fuego
DESCRIPTION:Inscríbase  \nPrograma
URL:https://ciemicr.org/eventosrefresh_css/curso-1-ingenieria-de-fuego-3-2/
LOCATION:Virtual\, Costa Rica
CATEGORIES:Capacitaciones
ATTACH;FMTTYPE=image/jpeg:https://ciemicr.org/wp-content/uploads/2024/06/Curso-1-Ingenieria-de-Fuego-2.jpg
END:VEVENT
BEGIN:VEVENT
DTSTART;TZID=America/Costa_Rica:20240709T180000
DTEND;TZID=America/Costa_Rica:20240709T210000
DTSTAMP:20260422T144307
CREATED:20240606T175526Z
LAST-MODIFIED:20240606T175526Z
UID:10002326-1720548000-1720558800@ciemicr.org
SUMMARY:Curso #1 Ingeniería de Fuego
DESCRIPTION:Inscríbase  \nPrograma
URL:https://ciemicr.org/eventosrefresh_css/curso-1-ingenieria-de-fuego-3-3/
LOCATION:Virtual\, Costa Rica
CATEGORIES:Capacitaciones
ATTACH;FMTTYPE=image/jpeg:https://ciemicr.org/wp-content/uploads/2024/06/Curso-1-Ingenieria-de-Fuego-2.jpg
END:VEVENT
END:VCALENDAR