BEGIN:VCALENDAR
VERSION:2.0
PRODID:-//CIEMI - ECPv6.15.13.1//NONSGML v1.0//EN
CALSCALE:GREGORIAN
METHOD:PUBLISH
X-ORIGINAL-URL:https://ciemicr.org
X-WR-CALDESC:Eventos para CIEMI
REFRESH-INTERVAL;VALUE=DURATION:PT1H
X-Robots-Tag:noindex
X-PUBLISHED-TTL:PT1H
BEGIN:VTIMEZONE
TZID:America/Costa_Rica
BEGIN:STANDARD
TZOFFSETFROM:-0600
TZOFFSETTO:-0600
TZNAME:CST
DTSTART:20240101T000000
END:STANDARD
END:VTIMEZONE
BEGIN:VEVENT
DTSTART;TZID=America/Costa_Rica:20260115T180000
DTEND;TZID=America/Costa_Rica:20260115T210000
DTSTAMP:20260420T053154
CREATED:20251210T173808Z
LAST-MODIFIED:20251216T172701Z
UID:10002515-1768500000-1768510800@ciemicr.org
SUMMARY:Curso CAPDEE-M7: Requerimientos de instalación\, canalización\, conductores\, equipos y accesorios en las instalaciones eléctricas
DESCRIPTION:Inscríbase  \nPrograma
URL:https://ciemicr.org/eventosrefresh_css/curso-capdee-m7-requerimientos-de-instalacion-canalizacion-conductores-equipos-y-accesorios-en-las-instalaciones-electricas-6/
LOCATION:Virtual\, Costa Rica
CATEGORIES:Capacitaciones
ATTACH;FMTTYPE=image/jpeg:https://ciemicr.org/wp-content/uploads/2025/12/CursoCAPDEE-M7-1.jpg
END:VEVENT
BEGIN:VEVENT
DTSTART;TZID=America/Costa_Rica:20260113T183000
DTEND;TZID=America/Costa_Rica:20260113T210000
DTSTAMP:20260420T053154
CREATED:20251215T144907Z
LAST-MODIFIED:20251222T214201Z
UID:10002541-1768329000-1768338000@ciemicr.org
SUMMARY:Foro: Reglamento para suministro de energía eléctrica en condominios
DESCRIPTION:Inscríbase
URL:https://ciemicr.org/eventosrefresh_css/foro-reglamento-para-suministro-de-energia-electrica-en-condominios/
LOCATION:CIEMI Contiguo al Indoor Club. Urbanización La Alameda\, San José\, CIEMI
CATEGORIES:Conferencias
ATTACH;FMTTYPE=image/jpeg:https://ciemicr.org/wp-content/uploads/2025/12/Foro.jpg
END:VEVENT
BEGIN:VEVENT
DTSTART;TZID=America/Costa_Rica:20260112T080000
DTEND;TZID=America/Costa_Rica:20260112T170000
DTSTAMP:20260420T053154
CREATED:20260111T020606Z
LAST-MODIFIED:20260111T020606Z
UID:10002550-1768204800-1768237200@ciemicr.org
SUMMARY:Curso FVOL 101: Diseño e Instalación Solar Eléctrica (Sistemas Interactivos) – en línea
DESCRIPTION:Inscríbase \nPrograma
URL:https://ciemicr.org/eventosrefresh_css/curso-fvol-101-diseno-e-instalacion-solar-electrica-sistemas-interactivos-en-linea-9/
LOCATION:Virtual\, Costa Rica
CATEGORIES:Capacitaciones
ATTACH;FMTTYPE=image/png:https://ciemicr.org/wp-content/uploads/2025/02/CIEMI_2025_FVOL101.png
END:VEVENT
BEGIN:VEVENT
DTSTART;TZID=America/Costa_Rica:20251216T110000
DTEND;TZID=America/Costa_Rica:20251216T110000
DTSTAMP:20260420T053154
CREATED:20251125T153811Z
LAST-MODIFIED:20251210T173339Z
UID:10002513-1765882800-1765882800@ciemicr.org
SUMMARY:Webinar Aguas residuales: Biojardineras
DESCRIPTION:Inscríbase
URL:https://ciemicr.org/eventosrefresh_css/webinar-aguas-residuales-biojardineras/
LOCATION:Virtual\, Costa Rica
CATEGORIES:Conferencias
ATTACH;FMTTYPE=image/jpeg:https://ciemicr.org/wp-content/uploads/2025/11/BA-Biojardineras-1.jpg
END:VEVENT
BEGIN:VEVENT
DTSTART;TZID=America/Costa_Rica:20251211T153000
DTEND;TZID=America/Costa_Rica:20251211T153000
DTSTAMP:20260420T053154
CREATED:20251117T161730Z
LAST-MODIFIED:20251117T162959Z
UID:10002506-1765467000-1765467000@ciemicr.org
SUMMARY:Webinar Efectos del cambio climático en Costa Rica
DESCRIPTION:Inscríbase
URL:https://ciemicr.org/eventosrefresh_css/webinar-efectos-del-cambio-climatico-en-costa-rica/
CATEGORIES:Conferencias
ATTACH;FMTTYPE=image/jpeg:https://ciemicr.org/wp-content/uploads/2025/11/BA-Cambio-1.jpg
END:VEVENT
BEGIN:VEVENT
DTSTART;TZID=America/Costa_Rica:20251210T170000
DTEND;TZID=America/Costa_Rica:20251210T200000
DTSTAMP:20260420T053154
CREATED:20251124T230531Z
LAST-MODIFIED:20251124T230531Z
UID:10002511-1765386000-1765396800@ciemicr.org
SUMMARY:Certificación Six Sigma Yellow Belt
DESCRIPTION:Más información
URL:https://ciemicr.org/eventosrefresh_css/certificacion-six-sigma-yellow-belt/
LOCATION:Virtual\, Costa Rica
CATEGORIES:Capacitaciones
ATTACH;FMTTYPE=image/jpeg:https://ciemicr.org/wp-content/uploads/2025/11/CERTIFICACION-SIX-SIGMA-YELLOW-BELT-CIEMI.jpg
END:VEVENT
BEGIN:VEVENT
DTSTART;TZID=America/Costa_Rica:20251204T170000
DTEND;TZID=America/Costa_Rica:20251204T200000
DTSTAMP:20260420T053154
CREATED:20251120T183035Z
LAST-MODIFIED:20251120T183035Z
UID:10002510-1764867600-1764878400@ciemicr.org
SUMMARY:Curso Excel Intermedio
DESCRIPTION:Más información
URL:https://ciemicr.org/eventosrefresh_css/curso-excel-intermedio/
LOCATION:Virtual\, Costa Rica
CATEGORIES:Capacitaciones
ATTACH;FMTTYPE=image/jpeg:https://ciemicr.org/wp-content/uploads/2025/11/02-EXCEL-INTERMEDIO-CIEMI.jpg
END:VEVENT
BEGIN:VEVENT
DTSTART;TZID=America/Costa_Rica:20251202T180000
DTEND;TZID=America/Costa_Rica:20251202T180000
DTSTAMP:20260420T053154
CREATED:20251107T220701Z
LAST-MODIFIED:20251125T165744Z
UID:10002503-1764698400-1764698400@ciemicr.org
SUMMARY:Webinar Ruido Ocupacional
DESCRIPTION:Inscríbase
URL:https://ciemicr.org/eventosrefresh_css/webinar-ruido-ocupacional/
LOCATION:Virtual\, Costa Rica
CATEGORIES:Conferencias
ATTACH;FMTTYPE=image/jpeg:https://ciemicr.org/wp-content/uploads/2025/11/Riesgo-Ocupacional.jpg
END:VEVENT
BEGIN:VEVENT
DTSTART;TZID=America/Costa_Rica:20251127T153000
DTEND;TZID=America/Costa_Rica:20251127T153000
DTSTAMP:20260420T053154
CREATED:20251117T162759Z
LAST-MODIFIED:20251117T162759Z
UID:10002507-1764257400-1764257400@ciemicr.org
SUMMARY:Webinar Agua: Estrategias de conservación\, protección y uso eficiente
DESCRIPTION:Inscríbase
URL:https://ciemicr.org/eventosrefresh_css/webinar-agua-estrategias-de-conservacion-proteccion-y-uso-eficiente/
LOCATION:Virtual\, Costa Rica
CATEGORIES:Conferencias
ATTACH;FMTTYPE=image/jpeg:https://ciemicr.org/wp-content/uploads/2025/11/BA-Agua.jpg
END:VEVENT
BEGIN:VEVENT
DTSTART;TZID=America/Costa_Rica:20251126T180000
DTEND;TZID=America/Costa_Rica:20251126T180000
DTSTAMP:20260420T053154
CREATED:20251020T175752Z
LAST-MODIFIED:20251107T220553Z
UID:10002498-1764180000-1764180000@ciemicr.org
SUMMARY:Webinar El Gemelo Digital y la Ingeniería Inteligente
DESCRIPTION:Inscríbase
URL:https://ciemicr.org/eventosrefresh_css/webinar-el-gemelo-digital-y-la-ingenieria-inteligente/
LOCATION:Virtual\, Costa Rica
CATEGORIES:Conferencias
ATTACH;FMTTYPE=image/jpeg:https://ciemicr.org/wp-content/uploads/2025/10/Gemelos-digitales.jpg
END:VEVENT
BEGIN:VEVENT
DTSTART;TZID=America/Costa_Rica:20251125T180000
DTEND;TZID=America/Costa_Rica:20251125T180000
DTSTAMP:20260420T053154
CREATED:20251112T174225Z
LAST-MODIFIED:20251112T174225Z
UID:10002504-1764093600-1764093600@ciemicr.org
SUMMARY:Webinar: Procedimiento para la conexión de proyectos al Sistema Eléctrico Nacional
DESCRIPTION:Inscríbase aquí
URL:https://ciemicr.org/eventosrefresh_css/webinar-procedimiento-para-la-conexion-de-proyectos-al-sistema-electrico-nacional/
LOCATION:Virtual\, Costa Rica
CATEGORIES:Conferencias
ATTACH;FMTTYPE=image/jpeg:https://ciemicr.org/wp-content/uploads/2025/11/Proyectos-de-Electricidad.jpg
END:VEVENT
BEGIN:VEVENT
DTSTART;TZID=America/Costa_Rica:20251125T090000
DTEND;TZID=America/Costa_Rica:20251125T090000
DTSTAMP:20260420T053154
CREATED:20251125T153643Z
LAST-MODIFIED:20251125T153643Z
UID:10002512-1764061200-1764061200@ciemicr.org
SUMMARY:Webinar Toma de conciencia  Sistema de Gestión Ambiental
DESCRIPTION:Inscríbase
URL:https://ciemicr.org/eventosrefresh_css/webinar-toma-de-conciencia-sistema-de-gestion-ambiental/
LOCATION:Virtual\, Costa Rica
CATEGORIES:Conferencias
ATTACH;FMTTYPE=image/jpeg:https://ciemicr.org/wp-content/uploads/2025/11/BA-SGA.jpg
END:VEVENT
BEGIN:VEVENT
DTSTART;TZID=America/Costa_Rica:20251120T153000
DTEND;TZID=America/Costa_Rica:20251120T153000
DTSTAMP:20260420T053154
CREATED:20251117T171147Z
LAST-MODIFIED:20251117T171147Z
UID:10002509-1763652600-1763652600@ciemicr.org
SUMMARY:Webinar Valorización de residuos: de la gestión a la economía circular
DESCRIPTION:Inscríbase
URL:https://ciemicr.org/eventosrefresh_css/webinar-valorizacion-de-residuos-de-la-gestion-a-la-economia-circular/
LOCATION:Virtual\, Costa Rica
CATEGORIES:Conferencias
ATTACH;FMTTYPE=image/jpeg:https://ciemicr.org/wp-content/uploads/2025/11/BA-Residuos.jpg
END:VEVENT
BEGIN:VEVENT
DTSTART;TZID=America/Costa_Rica:20251118T083000
DTEND;TZID=America/Costa_Rica:20251118T120000
DTSTAMP:20260420T053154
CREATED:20251117T161406Z
LAST-MODIFIED:20251117T161406Z
UID:10002505-1763454600-1763467200@ciemicr.org
SUMMARY:Foro Innovaciones tecnológicas en el sector del transporte público eléctrico
DESCRIPTION:Inscríbase 
URL:https://ciemicr.org/eventosrefresh_css/foro-innovaciones-tecnologicas-en-el-sector-del-transporte-publico-electrico/
LOCATION:Auditorio del CFIA\, Curridabat\, 2346-1000\, Costa Rica\, Colegio de Ingenieros y Arquitectos\, Costa Rica
CATEGORIES:Eventos
ATTACH;FMTTYPE=image/jpeg:https://ciemicr.org/wp-content/uploads/2025/11/Foro.jpg
GEO:9.9253512346433;-84.03936233163
X-APPLE-STRUCTURED-LOCATION;VALUE=URI;X-ADDRESS=Auditorio del CFIA Curridabat 2346-1000 Costa Rica Colegio de Ingenieros y Arquitectos Costa Rica;X-APPLE-RADIUS=500;X-TITLE=2346-1000:geo:-84.03936233163,9.9253512346433
END:VEVENT
BEGIN:VEVENT
DTSTART;TZID=America/Costa_Rica:20251117T180000
DTEND;TZID=America/Costa_Rica:20251117T180000
DTSTAMP:20260420T053154
CREATED:20251104T182719Z
LAST-MODIFIED:20251107T163306Z
UID:10002502-1763402400-1763402400@ciemicr.org
SUMMARY:Webinar Áreas clasificadas en instalaciones eléctricas\, consideraciones\, materiales y su cumplimiento
DESCRIPTION:Inscríbase
URL:https://ciemicr.org/eventosrefresh_css/webinar-areas-clasificadas-en-instalaciones-electricas-consideraciones-materiales-y-su-cumplimiento/
LOCATION:Virtual\, Costa Rica
CATEGORIES:Conferencias
ATTACH;FMTTYPE=image/jpeg:https://ciemicr.org/wp-content/uploads/2025/11/Webiar-Instalaciones-electricas.jpg
END:VEVENT
BEGIN:VEVENT
DTSTART;TZID=America/Costa_Rica:20251114T180000
DTEND;TZID=America/Costa_Rica:20251114T180000
DTSTAMP:20260420T053154
CREATED:20251103T204928Z
LAST-MODIFIED:20251103T204928Z
UID:10002501-1763143200-1763143200@ciemicr.org
SUMMARY:Conferencia: Generalidades de la norma NFPA 101
DESCRIPTION:Inscríbase 
URL:https://ciemicr.org/eventosrefresh_css/conferencia-generalidades-de-la-norma-nfpa-101/
LOCATION:Rancho Bola
CATEGORIES:Conferencias
ATTACH;FMTTYPE=image/jpeg:https://ciemicr.org/wp-content/uploads/2025/11/ConferenciaNFPA-sin-logo.jpg
END:VEVENT
BEGIN:VEVENT
DTSTART;TZID=America/Costa_Rica:20251110T180000
DTEND;TZID=America/Costa_Rica:20251110T210000
DTSTAMP:20260420T053154
CREATED:20250925T170355Z
LAST-MODIFIED:20251020T180609Z
UID:10002494-1762797600-1762808400@ciemicr.org
SUMMARY:Curso IA aplicado a la gestión de proyectos
DESCRIPTION:Inscríbase \nPrograma
URL:https://ciemicr.org/eventosrefresh_css/curso-ia-aplicado-a-la-gestion-de-proyectos/
LOCATION:Virtual\, Costa Rica
CATEGORIES:Capacitaciones
ATTACH;FMTTYPE=image/png:https://ciemicr.org/wp-content/uploads/2025/09/curso-IA-aplicado-a-la-gestion-de-proyectos-1.png
END:VEVENT
BEGIN:VEVENT
DTSTART;TZID=America/Costa_Rica:20251110T180000
DTEND;TZID=America/Costa_Rica:20251110T210000
DTSTAMP:20260420T053154
CREATED:20241128T201704Z
LAST-MODIFIED:20250930T170141Z
UID:10001979-1762797600-1762808400@ciemicr.org
SUMMARY:Curso #2 Norma NFPA 1 Código de Incendios
DESCRIPTION:Inscríbase \nPrograma
URL:https://ciemicr.org/eventosrefresh_css/curso-2-norma-nfpa-1-codigo-de-incendios-6-2/
LOCATION:Virtual\, Costa Rica
CATEGORIES:Capacitaciones
ATTACH;FMTTYPE=image/jpeg:https://ciemicr.org/wp-content/uploads/2024/11/Curso-2-NFPA-1-Codigo-de-Incendios_1-ok-1024x1024-1.jpg
END:VEVENT
BEGIN:VEVENT
DTSTART;TZID=America/Costa_Rica:20251110T080000
DTEND;TZID=America/Costa_Rica:20251110T190000
DTSTAMP:20260420T053154
CREATED:20250925T164857Z
LAST-MODIFIED:20251024T162324Z
UID:10002492-1762761600-1762801200@ciemicr.org
SUMMARY:Seminario de Protección contra Incendios
DESCRIPTION:Inscríbase  \nPrograma
URL:https://ciemicr.org/eventosrefresh_css/seminario-de-proteccion/
LOCATION:Hotel Crowne Plaza Corobicí
CATEGORIES:Eventos
ATTACH;FMTTYPE=image/png:https://ciemicr.org/wp-content/uploads/2025/09/SeminarioPCI-01.png
END:VEVENT
BEGIN:VEVENT
DTSTART;TZID=America/Costa_Rica:20251105T180000
DTEND;TZID=America/Costa_Rica:20251105T180000
DTSTAMP:20260420T053154
CREATED:20251020T175407Z
LAST-MODIFIED:20251030T221416Z
UID:10002497-1762365600-1762365600@ciemicr.org
SUMMARY:Webinar Impacto de la AI en la Industria 4.0
DESCRIPTION:Inscríbase
URL:https://ciemicr.org/eventosrefresh_css/webinar-impacto-de-la-ai-en-la-industria-4-0/
LOCATION:Virtual\, Costa Rica
CATEGORIES:Conferencias
ATTACH;FMTTYPE=image/jpeg:https://ciemicr.org/wp-content/uploads/2025/10/Impacto-de-la-IA-en-la-Industria-4.0.jpg
END:VEVENT
BEGIN:VEVENT
DTSTART;TZID=America/Costa_Rica:20251104T180000
DTEND;TZID=America/Costa_Rica:20251104T210000
DTSTAMP:20260420T053154
CREATED:20250925T170228Z
LAST-MODIFIED:20251006T205328Z
UID:10002493-1762279200-1762290000@ciemicr.org
SUMMARY:Curso Módulo 2: Estudios de Modificación y Conversión de Vehículos de Carga
DESCRIPTION:Inscríbase \nPrograma 
URL:https://ciemicr.org/eventosrefresh_css/curso-modulo-2-estudios-de-modificacion-y-conversion-de-vehiculos-de-carga/
LOCATION:Virtual\, Costa Rica
CATEGORIES:Capacitaciones
ATTACH;FMTTYPE=image/jpeg:https://ciemicr.org/wp-content/uploads/2025/09/CursoNov-02.jpg
END:VEVENT
BEGIN:VEVENT
DTSTART;TZID=America/Costa_Rica:20251103T080000
DTEND;TZID=America/Costa_Rica:20251103T170000
DTSTAMP:20260420T053154
CREATED:20250225T162944Z
LAST-MODIFIED:20250225T164442Z
UID:10001601-1762156800-1762189200@ciemicr.org
SUMMARY:Curso PVOL304: Advanced PV Stand-alone System Design (Battery-Based) - en línea
DESCRIPTION:Inscríbase \nPrograma
URL:https://ciemicr.org/eventosrefresh_css/curso-pvol304-advanced-pv-stand-alone-system-design-battery-based-en-linea-2/
LOCATION:Virtual\, Costa Rica
CATEGORIES:Capacitaciones
ATTACH;FMTTYPE=image/png:https://ciemicr.org/wp-content/uploads/2025/02/CIEMI_2025_PVOL304.png
END:VEVENT
BEGIN:VEVENT
DTSTART;TZID=America/Costa_Rica:20251103T080000
DTEND;TZID=America/Costa_Rica:20251103T170000
DTSTAMP:20260420T053154
CREATED:20250225T154738Z
LAST-MODIFIED:20250225T154738Z
UID:10001596-1762156800-1762189200@ciemicr.org
SUMMARY:Curso PVOL206: Solar Business and Technical Sales - En línea
DESCRIPTION:Inscríbase \nPrograma
URL:https://ciemicr.org/eventosrefresh_css/curso-pvol206-solar-business-and-technical-sales-en-linea-2/
CATEGORIES:Capacitaciones
ATTACH;FMTTYPE=image/png:https://ciemicr.org/wp-content/uploads/2025/02/CIEMI_2025_PVOL206.png
END:VEVENT
BEGIN:VEVENT
DTSTART;TZID=America/Costa_Rica:20251103T080000
DTEND;TZID=America/Costa_Rica:20251103T170000
DTSTAMP:20260420T053154
CREATED:20250211T224537Z
LAST-MODIFIED:20250211T224537Z
UID:10001589-1762156800-1762189200@ciemicr.org
SUMMARY:Curso FVOL 202: Diseño Fotovoltaico Avanzado y el NEC (Sistemas Interactivos) - en línea
DESCRIPTION:Inscríbase
URL:https://ciemicr.org/eventosrefresh_css/curso-fvol-202-diseno-fotovoltaico-avanzado-y-el-nec-sistemas-interactivos-en-linea-3/
LOCATION:Virtual\, Costa Rica
CATEGORIES:Capacitaciones
ATTACH;FMTTYPE=image/png:https://ciemicr.org/wp-content/uploads/2025/02/CIEMI_2025_FVOL202.png
END:VEVENT
BEGIN:VEVENT
DTSTART;TZID=America/Costa_Rica:20251103T080000
DTEND;TZID=America/Costa_Rica:20251103T170000
DTSTAMP:20260420T053154
CREATED:20250211T223917Z
LAST-MODIFIED:20250211T223917Z
UID:10001586-1762156800-1762189200@ciemicr.org
SUMMARY:Curso FVOL 101: Diseño e Instalación Solar Eléctrica (Sistemas Interactivos) - en línea
DESCRIPTION:Inscríbase
URL:https://ciemicr.org/eventosrefresh_css/curso-fvol-101-diseno-e-instalacion-solar-electrica-sistemas-interactivos-en-linea-6/
LOCATION:Virtual\, Costa Rica
CATEGORIES:Capacitaciones
ATTACH;FMTTYPE=image/png:https://ciemicr.org/wp-content/uploads/2025/02/CIEMI_2025_FVOL101.png
END:VEVENT
BEGIN:VEVENT
DTSTART;TZID=America/Costa_Rica:20251030T180000
DTEND;TZID=America/Costa_Rica:20251030T210000
DTSTAMP:20260420T053154
CREATED:20251014T212948Z
LAST-MODIFIED:20251014T212948Z
UID:10002495-1761847200-1761858000@ciemicr.org
SUMMARY:Curso CAPDEE M1 normativa Vigente y código eléctrico (NEC)
DESCRIPTION:Inscríbase  \nPrograma
URL:https://ciemicr.org/eventosrefresh_css/curso-capdee-m1-normativa-vigente-y-codigo-electrico-nec-11/
LOCATION:Virtual\, Costa Rica
CATEGORIES:Capacitaciones
ATTACH;FMTTYPE=image/jpeg:https://ciemicr.org/wp-content/uploads/2025/10/CAPDEE-M1-_Normativa-Vigente-y_Codigo-Electrico-NEC.jpg
END:VEVENT
BEGIN:VEVENT
DTSTART;TZID=America/Costa_Rica:20251029T180000
DTEND;TZID=America/Costa_Rica:20251029T210000
DTSTAMP:20260420T053154
CREATED:20251020T174821Z
LAST-MODIFIED:20251028T162155Z
UID:10002496-1761760800-1761771600@ciemicr.org
SUMMARY:Webinar GLP: Fundamentos – Mitos – Ética del Servicio
DESCRIPTION:Inscríbase 
URL:https://ciemicr.org/eventosrefresh_css/webinar-glp-fundamentos-mitos-etica-del-servicio/
LOCATION:Virtual\, Costa Rica
CATEGORIES:Conferencias
ATTACH;FMTTYPE=image/jpeg:https://ciemicr.org/wp-content/uploads/2025/10/GLP-Fundamentos.jpg
END:VEVENT
BEGIN:VEVENT
DTSTART;TZID=America/Costa_Rica:20251013T180000
DTEND;TZID=America/Costa_Rica:20251013T210000
DTSTAMP:20260420T053154
CREATED:20241128T201353Z
LAST-MODIFIED:20251006T230440Z
UID:10001565-1760378400-1760389200@ciemicr.org
SUMMARY:Curso Diseño e Inspección de Sistemas de Automatización de Edificios
DESCRIPTION:Inscríbase \nPrograma
URL:https://ciemicr.org/eventosrefresh_css/curso-diseno-e-inspeccion-de-sistemas-de-automatizacion-de-edificios-2/
LOCATION:Virtual\, Costa Rica
CATEGORIES:Capacitaciones
ATTACH;FMTTYPE=image/jpeg:https://ciemicr.org/wp-content/uploads/2024/11/Curso-Diseno-e-Inspeccion-de-Sistemas-de-Automatizacion-De-Edificios-1-3.jpg
END:VEVENT
BEGIN:VEVENT
DTSTART;TZID=America/Costa_Rica:20251009T180000
DTEND;TZID=America/Costa_Rica:20251009T180000
DTSTAMP:20260420T053154
CREATED:20250528T232505Z
LAST-MODIFIED:20250714T210426Z
UID:10002459-1760032800-1760032800@ciemicr.org
SUMMARY:Webinar Efecto de variables productivas en un sistema hidropónico orbital computarizado sobre dos características comerciales de Lactuca sativa
DESCRIPTION:Inscríbase
URL:https://ciemicr.org/eventosrefresh_css/webinar-efecto-de-variables-productivas-en-un-sistema-hidroponico-orbital-computarizado-sobre-dos-caracteristicas-comerciales-de-lactuca-sativa/
LOCATION:Virtual\, Costa Rica
CATEGORIES:Conferencias
ATTACH;FMTTYPE=image/jpeg:https://ciemicr.org/wp-content/uploads/2025/05/WEBINAR-1-05.jpg
END:VEVENT
BEGIN:VEVENT
DTSTART;TZID=America/Costa_Rica:20251008T180000
DTEND;TZID=America/Costa_Rica:20251008T210000
DTSTAMP:20260420T053154
CREATED:20241128T201119Z
LAST-MODIFIED:20250605T172917Z
UID:10001564-1759946400-1759957200@ciemicr.org
SUMMARY:Curso Fundamentos de diseño en Aire Acondicionado para cuartos limpios
DESCRIPTION:Inscríbase \nPrograma
URL:https://ciemicr.org/eventosrefresh_css/curso-fundamentos-de-diseno-en-aire-acondicionado-para-cuartos-limpios-5/
LOCATION:Virtual\, Costa Rica
CATEGORIES:Capacitaciones
ATTACH;FMTTYPE=image/jpeg:https://ciemicr.org/wp-content/uploads/2024/11/Curso-Fundamentos-de-diseno-en-Aire-Acondicionado-para-cuartos-limpios-1.jpg
END:VEVENT
END:VCALENDAR