BEGIN:VCALENDAR
VERSION:2.0
PRODID:-//CIEMI - ECPv6.15.13.1//NONSGML v1.0//EN
CALSCALE:GREGORIAN
METHOD:PUBLISH
X-ORIGINAL-URL:https://ciemicr.org
X-WR-CALDESC:Eventos para CIEMI
REFRESH-INTERVAL;VALUE=DURATION:PT1H
X-Robots-Tag:noindex
X-PUBLISHED-TTL:PT1H
BEGIN:VTIMEZONE
TZID:America/Costa_Rica
BEGIN:STANDARD
TZOFFSETFROM:-0600
TZOFFSETTO:-0600
TZNAME:CST
DTSTART:20230101T000000
END:STANDARD
END:VTIMEZONE
BEGIN:VEVENT
DTSTART;TZID=America/Costa_Rica:20240528T170000
DTEND;TZID=America/Costa_Rica:20240528T200000
DTSTAMP:20260423T025522
CREATED:20240423T221440Z
LAST-MODIFIED:20240423T221440Z
UID:10002307-1716915600-1716926400@ciemicr.org
SUMMARY:Programa excel completo: Básico\, Intermedio y Avanzado
DESCRIPTION:Más información
URL:https://ciemicr.org/eventosrefresh_css/programa-excel-completo-basico-intermedio-y-avanzado-2-3/
LOCATION:Virtual\, Costa Rica
CATEGORIES:Capacitaciones
ATTACH;FMTTYPE=image/jpeg:https://ciemicr.org/wp-content/uploads/2024/04/PROGRAMA-EXCEL-COMPLETO-BASICO-INTERMEDIO-Y-AVANZADO.jpg
END:VEVENT
BEGIN:VEVENT
DTSTART;TZID=America/Costa_Rica:20240523T170000
DTEND;TZID=America/Costa_Rica:20240523T200000
DTSTAMP:20260423T025522
CREATED:20240423T224539Z
LAST-MODIFIED:20240423T224539Z
UID:10000825-1716483600-1716494400@ciemicr.org
SUMMARY:Curso SQL y Power Bi. Entrenamiento de básico para data science
DESCRIPTION:Más información
URL:https://ciemicr.org/eventosrefresh_css/curso-sql-y-power-bi-entrenamiento-de-basico-para-data-science/
LOCATION:Virtual\, Costa Rica
CATEGORIES:Capacitaciones
ATTACH;FMTTYPE=image/jpeg:https://ciemicr.org/wp-content/uploads/2024/04/SQL.jpg
END:VEVENT
BEGIN:VEVENT
DTSTART;TZID=America/Costa_Rica:20240523T170000
DTEND;TZID=America/Costa_Rica:20240523T200000
DTSTAMP:20260423T025522
CREATED:20240423T224539Z
LAST-MODIFIED:20240423T224539Z
UID:10001891-1716483600-1716494400@ciemicr.org
SUMMARY:Curso SQL y Power Bi. Entrenamiento de básico para data science
DESCRIPTION:Más información
URL:https://ciemicr.org/eventosrefresh_css/curso-sql-y-power-bi-entrenamiento-de-basico-para-data-science-2/
LOCATION:Virtual\, Costa Rica
CATEGORIES:Capacitaciones
ATTACH;FMTTYPE=image/jpeg:https://ciemicr.org/wp-content/uploads/2024/04/SQL.jpg
END:VEVENT
BEGIN:VEVENT
DTSTART;TZID=America/Costa_Rica:20240523T170000
DTEND;TZID=America/Costa_Rica:20240523T200000
DTSTAMP:20260423T025522
CREATED:20240423T224539Z
LAST-MODIFIED:20240423T224539Z
UID:10002309-1716483600-1716494400@ciemicr.org
SUMMARY:Curso SQL y Power Bi. Entrenamiento de básico para data science
DESCRIPTION:Más información
URL:https://ciemicr.org/eventosrefresh_css/curso-sql-y-power-bi-entrenamiento-de-basico-para-data-science-3/
LOCATION:Virtual\, Costa Rica
CATEGORIES:Capacitaciones
ATTACH;FMTTYPE=image/jpeg:https://ciemicr.org/wp-content/uploads/2024/04/SQL.jpg
END:VEVENT
BEGIN:VEVENT
DTSTART;TZID=America/Costa_Rica:20240522T180000
DTEND;TZID=America/Costa_Rica:20240522T180000
DTSTAMP:20260423T025522
CREATED:20240506T194108Z
LAST-MODIFIED:20240509T165839Z
UID:10000828-1716400800-1716400800@ciemicr.org
SUMMARY:Webinar Medición Inteligente
DESCRIPTION:Inscríbase
URL:https://ciemicr.org/eventosrefresh_css/webinar-medicion-inteligente/
LOCATION:Virtual\, Costa Rica
CATEGORIES:Conferencias
ATTACH;FMTTYPE=image/jpeg:https://ciemicr.org/wp-content/uploads/2024/05/Webinar-Medicion-Inteligente.jpg
END:VEVENT
BEGIN:VEVENT
DTSTART;TZID=America/Costa_Rica:20240522T180000
DTEND;TZID=America/Costa_Rica:20240522T180000
DTSTAMP:20260423T025522
CREATED:20240506T194108Z
LAST-MODIFIED:20240506T194108Z
UID:10001894-1716400800-1716400800@ciemicr.org
SUMMARY:Webinar Medición Inteligente
DESCRIPTION:Inscríbase
URL:https://ciemicr.org/eventosrefresh_css/webinar-medicion-inteligente-2/
LOCATION:Virtual\, Costa Rica
CATEGORIES:Conferencias
ATTACH;FMTTYPE=image/jpeg:https://ciemicr.org/wp-content/uploads/2024/05/Webinar-Medicion-Inteligente.jpg
END:VEVENT
BEGIN:VEVENT
DTSTART;TZID=America/Costa_Rica:20240522T180000
DTEND;TZID=America/Costa_Rica:20240522T180000
DTSTAMP:20260423T025522
CREATED:20240506T194108Z
LAST-MODIFIED:20240506T194108Z
UID:10002312-1716400800-1716400800@ciemicr.org
SUMMARY:Webinar Medición Inteligente
DESCRIPTION:Inscríbase
URL:https://ciemicr.org/eventosrefresh_css/webinar-medicion-inteligente-3/
LOCATION:Virtual\, Costa Rica
CATEGORIES:Conferencias
ATTACH;FMTTYPE=image/jpeg:https://ciemicr.org/wp-content/uploads/2024/05/Webinar-Medicion-Inteligente.jpg
END:VEVENT
BEGIN:VEVENT
DTSTART;TZID=America/Costa_Rica:20240521T180000
DTEND;TZID=America/Costa_Rica:20240521T210000
DTSTAMP:20260423T025522
CREATED:20231128T003117Z
LAST-MODIFIED:20240502T221338Z
UID:10000755-1716314400-1716325200@ciemicr.org
SUMMARY:Curso Protección Sísmica y Soportería de los Sistemas Contra Incendio
DESCRIPTION:Inscríbase aquí \nPrograma
URL:https://ciemicr.org/eventosrefresh_css/curso-proteccion-sismica-y-soporteria-de-los-sistemas-contra-incendio-2/
LOCATION:Virtual\, Costa Rica
CATEGORIES:Capacitaciones
ATTACH;FMTTYPE=image/jpeg:https://ciemicr.org/wp-content/uploads/2023/11/Proteccion-Sismica-y-Soporteria-de-los-Sistemas-Contra-Incendio-1.jpg
END:VEVENT
BEGIN:VEVENT
DTSTART;TZID=America/Costa_Rica:20240521T180000
DTEND;TZID=America/Costa_Rica:20240521T210000
DTSTAMP:20260423T025522
CREATED:20231128T003117Z
LAST-MODIFIED:20231128T003117Z
UID:10001833-1716314400-1716325200@ciemicr.org
SUMMARY:Curso Protección Sísmica y Soportería de los Sistemas Contra Incendio
DESCRIPTION:Inscríbase aquí \nPrograma
URL:https://ciemicr.org/eventosrefresh_css/curso-proteccion-sismica-y-soporteria-de-los-sistemas-contra-incendio-2-2/
LOCATION:Virtual\, Costa Rica
CATEGORIES:Capacitaciones
ATTACH;FMTTYPE=image/jpeg:https://ciemicr.org/wp-content/uploads/2023/11/Proteccion-Sismica-y-Soporteria-de-los-Sistemas-Contra-Incendio-1.jpg
END:VEVENT
BEGIN:VEVENT
DTSTART;TZID=America/Costa_Rica:20240521T180000
DTEND;TZID=America/Costa_Rica:20240521T210000
DTSTAMP:20260423T025522
CREATED:20231128T003117Z
LAST-MODIFIED:20231128T003117Z
UID:10002251-1716314400-1716325200@ciemicr.org
SUMMARY:Curso Protección Sísmica y Soportería de los Sistemas Contra Incendio
DESCRIPTION:Inscríbase aquí \nPrograma
URL:https://ciemicr.org/eventosrefresh_css/curso-proteccion-sismica-y-soporteria-de-los-sistemas-contra-incendio-2-3/
LOCATION:Virtual\, Costa Rica
CATEGORIES:Capacitaciones
ATTACH;FMTTYPE=image/jpeg:https://ciemicr.org/wp-content/uploads/2023/11/Proteccion-Sismica-y-Soporteria-de-los-Sistemas-Contra-Incendio-1.jpg
END:VEVENT
BEGIN:VEVENT
DTSTART;TZID=America/Costa_Rica:20240521T180000
DTEND;TZID=America/Costa_Rica:20240521T180000
DTSTAMP:20260423T025522
CREATED:20240417T165024Z
LAST-MODIFIED:20240429T214450Z
UID:10000819-1716314400-1716314400@ciemicr.org
SUMMARY:Webinar Cálculo y Selección de Sistemas de Bombeo de Aguas Negras
DESCRIPTION:Inscríbase aquí
URL:https://ciemicr.org/eventosrefresh_css/webinar-calculo-y-seleccion-de-sistemas-de-bombeo-de-aguas-negras/
LOCATION:Virtual\, Costa Rica
CATEGORIES:Conferencias
ATTACH;FMTTYPE=image/jpeg:https://ciemicr.org/wp-content/uploads/2024/04/Webinar-Calculo-y-Seleccion-de-Sistemas-de-Bombeo-de-Aguas-Negras.jpg
END:VEVENT
BEGIN:VEVENT
DTSTART;TZID=America/Costa_Rica:20240521T180000
DTEND;TZID=America/Costa_Rica:20240521T180000
DTSTAMP:20260423T025522
CREATED:20240417T165024Z
LAST-MODIFIED:20240417T165024Z
UID:10001886-1716314400-1716314400@ciemicr.org
SUMMARY:Webinar Cálculo y Selección de Sistemas de Bombeo de Aguas Negras
DESCRIPTION:Inscríbase aquí
URL:https://ciemicr.org/eventosrefresh_css/webinar-calculo-y-seleccion-de-sistemas-de-bombeo-de-aguas-negras-2/
LOCATION:Virtual\, Costa Rica
CATEGORIES:Conferencias
ATTACH;FMTTYPE=image/jpeg:https://ciemicr.org/wp-content/uploads/2024/04/Webinar-Calculo-y-Seleccion-de-Sistemas-de-Bombeo-de-Aguas-Negras.jpg
END:VEVENT
BEGIN:VEVENT
DTSTART;TZID=America/Costa_Rica:20240521T180000
DTEND;TZID=America/Costa_Rica:20240521T180000
DTSTAMP:20260423T025522
CREATED:20240417T165024Z
LAST-MODIFIED:20240417T165024Z
UID:10002304-1716314400-1716314400@ciemicr.org
SUMMARY:Webinar Cálculo y Selección de Sistemas de Bombeo de Aguas Negras
DESCRIPTION:Inscríbase aquí
URL:https://ciemicr.org/eventosrefresh_css/webinar-calculo-y-seleccion-de-sistemas-de-bombeo-de-aguas-negras-3/
LOCATION:Virtual\, Costa Rica
CATEGORIES:Conferencias
ATTACH;FMTTYPE=image/jpeg:https://ciemicr.org/wp-content/uploads/2024/04/Webinar-Calculo-y-Seleccion-de-Sistemas-de-Bombeo-de-Aguas-Negras.jpg
END:VEVENT
BEGIN:VEVENT
DTSTART;TZID=America/Costa_Rica:20240520T170000
DTEND;TZID=America/Costa_Rica:20240520T170000
DTSTAMP:20260423T025522
CREATED:20240417T174758Z
LAST-MODIFIED:20240520T213802Z
UID:10000821-1716224400-1716224400@ciemicr.org
SUMMARY:Webinar Día Mundial de la Metrología
DESCRIPTION:Inscríbase aquí
URL:https://ciemicr.org/eventosrefresh_css/webinar-dia-mundial-de-la-metrologia/
LOCATION:Virtual\, Costa Rica
CATEGORIES:Conferencias
ATTACH;FMTTYPE=image/jpeg:https://ciemicr.org/wp-content/uploads/2024/04/Webinar-Dia-Mundial-de-la-Metrologia.jpg
END:VEVENT
BEGIN:VEVENT
DTSTART;TZID=America/Costa_Rica:20240520T170000
DTEND;TZID=America/Costa_Rica:20240520T170000
DTSTAMP:20260423T025522
CREATED:20240417T174758Z
LAST-MODIFIED:20240417T174758Z
UID:10001887-1716224400-1716224400@ciemicr.org
SUMMARY:Webinar Día Mundial de la Metrología
DESCRIPTION:Inscríbase aquí
URL:https://ciemicr.org/eventosrefresh_css/webinar-dia-mundial-de-la-metrologia-2/
LOCATION:Virtual\, Costa Rica
CATEGORIES:Conferencias
ATTACH;FMTTYPE=image/jpeg:https://ciemicr.org/wp-content/uploads/2024/04/Webinar-Dia-Mundial-de-la-Metrologia.jpg
END:VEVENT
BEGIN:VEVENT
DTSTART;TZID=America/Costa_Rica:20240520T170000
DTEND;TZID=America/Costa_Rica:20240520T170000
DTSTAMP:20260423T025522
CREATED:20240417T174758Z
LAST-MODIFIED:20240417T174758Z
UID:10002305-1716224400-1716224400@ciemicr.org
SUMMARY:Webinar Día Mundial de la Metrología
DESCRIPTION:Inscríbase aquí
URL:https://ciemicr.org/eventosrefresh_css/webinar-dia-mundial-de-la-metrologia-3/
LOCATION:Virtual\, Costa Rica
CATEGORIES:Conferencias
ATTACH;FMTTYPE=image/jpeg:https://ciemicr.org/wp-content/uploads/2024/04/Webinar-Dia-Mundial-de-la-Metrologia.jpg
END:VEVENT
BEGIN:VEVENT
DTSTART;TZID=America/Costa_Rica:20240520T080000
DTEND;TZID=America/Costa_Rica:20240520T170000
DTSTAMP:20260423T025522
CREATED:20240214T201747Z
LAST-MODIFIED:20240508T170213Z
UID:10000784-1716192000-1716224400@ciemicr.org
SUMMARY:Curso FVOL101: Diseño e Instalación Solar Eléctrica (Sistemas Interactivos) – en línea
DESCRIPTION:Inscríbase aquí  \nPrograma
URL:https://ciemicr.org/eventosrefresh_css/curso-fvol101-diseno-e-instalacion-solar-electrica-sistemas-interactivos-en-linea-9/
LOCATION:Virtual\, Costa Rica
CATEGORIES:Capacitaciones
ATTACH;FMTTYPE=image/jpeg:https://ciemicr.org/wp-content/uploads/2024/01/CIEMI2024_FVOL101.jpg
END:VEVENT
BEGIN:VEVENT
DTSTART;TZID=America/Costa_Rica:20240520T080000
DTEND;TZID=America/Costa_Rica:20240520T170000
DTSTAMP:20260423T025522
CREATED:20240214T201747Z
LAST-MODIFIED:20240214T201747Z
UID:10001857-1716192000-1716224400@ciemicr.org
SUMMARY:Curso FVOL101: Diseño e Instalación Solar Eléctrica (Sistemas Interactivos) – en línea
DESCRIPTION:Inscríbase aquí  \nPrograma
URL:https://ciemicr.org/eventosrefresh_css/curso-fvol101-diseno-e-instalacion-solar-electrica-sistemas-interactivos-en-linea-9-2/
LOCATION:Virtual\, Costa Rica
CATEGORIES:Capacitaciones
ATTACH;FMTTYPE=image/jpeg:https://ciemicr.org/wp-content/uploads/2024/01/CIEMI2024_FVOL101.jpg
END:VEVENT
BEGIN:VEVENT
DTSTART;TZID=America/Costa_Rica:20240520T080000
DTEND;TZID=America/Costa_Rica:20240520T170000
DTSTAMP:20260423T025522
CREATED:20240214T201747Z
LAST-MODIFIED:20240214T201747Z
UID:10002275-1716192000-1716224400@ciemicr.org
SUMMARY:Curso FVOL101: Diseño e Instalación Solar Eléctrica (Sistemas Interactivos) – en línea
DESCRIPTION:Inscríbase aquí  \nPrograma
URL:https://ciemicr.org/eventosrefresh_css/curso-fvol101-diseno-e-instalacion-solar-electrica-sistemas-interactivos-en-linea-9-3/
LOCATION:Virtual\, Costa Rica
CATEGORIES:Capacitaciones
ATTACH;FMTTYPE=image/jpeg:https://ciemicr.org/wp-content/uploads/2024/01/CIEMI2024_FVOL101.jpg
END:VEVENT
BEGIN:VEVENT
DTSTART;TZID=America/Costa_Rica:20240520T080000
DTEND;TZID=America/Costa_Rica:20240520T080000
DTSTAMP:20260423T025522
CREATED:20240214T201909Z
LAST-MODIFIED:20240322T150348Z
UID:10000785-1716192000-1716192000@ciemicr.org
SUMMARY:Curso FVOL202: Diseño Fotovoltaico avanzado y el NEC (Sistemas Interactivos) - en línea
DESCRIPTION:Inscríbase aquí \nPrograma
URL:https://ciemicr.org/eventosrefresh_css/curso-fvol202-diseno-fotovoltaico-avanzado-y-el-nec-sistemas-interactivos-en-linea-6/
LOCATION:Virtual\, Costa Rica
CATEGORIES:Capacitaciones
ATTACH;FMTTYPE=image/jpeg:https://ciemicr.org/wp-content/uploads/2024/01/CIEMI2024-FVO202.jpg
END:VEVENT
BEGIN:VEVENT
DTSTART;TZID=America/Costa_Rica:20240520T080000
DTEND;TZID=America/Costa_Rica:20240520T080000
DTSTAMP:20260423T025522
CREATED:20240214T201909Z
LAST-MODIFIED:20240214T201909Z
UID:10001858-1716192000-1716192000@ciemicr.org
SUMMARY:Curso FVOL202: Diseño Fotovoltaico avanzado y el NEC (Sistemas Interactivos) - en línea
DESCRIPTION:Inscríbase aquí \nPrograma
URL:https://ciemicr.org/eventosrefresh_css/curso-fvol202-diseno-fotovoltaico-avanzado-y-el-nec-sistemas-interactivos-en-linea-6-2/
LOCATION:Virtual\, Costa Rica
CATEGORIES:Capacitaciones
ATTACH;FMTTYPE=image/jpeg:https://ciemicr.org/wp-content/uploads/2024/01/CIEMI2024-FVO202.jpg
END:VEVENT
BEGIN:VEVENT
DTSTART;TZID=America/Costa_Rica:20240520T080000
DTEND;TZID=America/Costa_Rica:20240520T080000
DTSTAMP:20260423T025522
CREATED:20240214T201909Z
LAST-MODIFIED:20240214T201909Z
UID:10002276-1716192000-1716192000@ciemicr.org
SUMMARY:Curso FVOL202: Diseño Fotovoltaico avanzado y el NEC (Sistemas Interactivos) - en línea
DESCRIPTION:Inscríbase aquí \nPrograma
URL:https://ciemicr.org/eventosrefresh_css/curso-fvol202-diseno-fotovoltaico-avanzado-y-el-nec-sistemas-interactivos-en-linea-6-3/
LOCATION:Virtual\, Costa Rica
CATEGORIES:Capacitaciones
ATTACH;FMTTYPE=image/jpeg:https://ciemicr.org/wp-content/uploads/2024/01/CIEMI2024-FVO202.jpg
END:VEVENT
BEGIN:VEVENT
DTSTART;TZID=America/Costa_Rica:20240516T160000
DTEND;TZID=America/Costa_Rica:20240516T190000
DTSTAMP:20260423T025522
CREATED:20240422T231219Z
LAST-MODIFIED:20240425T213924Z
UID:10000822-1715875200-1715886000@ciemicr.org
SUMMARY:Conferencias Técnicas: Día Mundial de las Telecomunicaciones
DESCRIPTION:Inscríbase aquí
URL:https://ciemicr.org/eventosrefresh_css/conferencias-tecnicas-dia-mundial-de-las-telecomunicaciones/
LOCATION:CCCIEMI\, CIEMI\, CIEMI\, Costa Rica
CATEGORIES:Eventos
ATTACH;FMTTYPE=image/jpeg:https://ciemicr.org/wp-content/uploads/2024/04/Conferencias-tecnicas-Dia-Mundial-de-las-Telecomunicaciones-2.jpg
END:VEVENT
BEGIN:VEVENT
DTSTART;TZID=America/Costa_Rica:20240516T160000
DTEND;TZID=America/Costa_Rica:20240516T190000
DTSTAMP:20260423T025522
CREATED:20240422T231219Z
LAST-MODIFIED:20240422T231219Z
UID:10001888-1715875200-1715886000@ciemicr.org
SUMMARY:Conferencias Técnicas: Día Mundial de las Telecomunicaciones
DESCRIPTION:Inscríbase aquí
URL:https://ciemicr.org/eventosrefresh_css/conferencias-tecnicas-dia-mundial-de-las-telecomunicaciones-2/
LOCATION:CCCIEMI\, CIEMI\, CIEMI\, Costa Rica
CATEGORIES:Eventos
ATTACH;FMTTYPE=image/jpeg:https://ciemicr.org/wp-content/uploads/2024/04/Conferencias-tecnicas-Dia-Mundial-de-las-Telecomunicaciones-2.jpg
END:VEVENT
BEGIN:VEVENT
DTSTART;TZID=America/Costa_Rica:20240516T160000
DTEND;TZID=America/Costa_Rica:20240516T190000
DTSTAMP:20260423T025522
CREATED:20240422T231219Z
LAST-MODIFIED:20240422T231219Z
UID:10002306-1715875200-1715886000@ciemicr.org
SUMMARY:Conferencias Técnicas: Día Mundial de las Telecomunicaciones
DESCRIPTION:Inscríbase aquí
URL:https://ciemicr.org/eventosrefresh_css/conferencias-tecnicas-dia-mundial-de-las-telecomunicaciones-3/
LOCATION:CCCIEMI\, CIEMI\, CIEMI\, Costa Rica
CATEGORIES:Eventos
ATTACH;FMTTYPE=image/jpeg:https://ciemicr.org/wp-content/uploads/2024/04/Conferencias-tecnicas-Dia-Mundial-de-las-Telecomunicaciones-2.jpg
END:VEVENT
BEGIN:VEVENT
DTSTART;TZID=America/Costa_Rica:20240514T180000
DTEND;TZID=America/Costa_Rica:20240514T180000
DTSTAMP:20260423T025522
CREATED:20240417T164243Z
LAST-MODIFIED:20240423T225507Z
UID:10000818-1715709600-1715709600@ciemicr.org
SUMMARY:Webinar del CAD al BIM...¿Cómo abordar el problema de una transición casi obligada?
DESCRIPTION:Inscríbase aquí
URL:https://ciemicr.org/eventosrefresh_css/webinar-del-cad-al-bim-como-abordar-el-problema-de-una-transicion-casi-obligada/
CATEGORIES:Conferencias
ATTACH;FMTTYPE=image/jpeg:https://ciemicr.org/wp-content/uploads/2024/04/Webinar-Del-Cad-al-BIM.¿Como-abordar-el-problema-de-una-transicion-casi-obligada-1.jpg
END:VEVENT
BEGIN:VEVENT
DTSTART;TZID=America/Costa_Rica:20240514T180000
DTEND;TZID=America/Costa_Rica:20240514T180000
DTSTAMP:20260423T025522
CREATED:20240417T164243Z
LAST-MODIFIED:20240417T164243Z
UID:10001885-1715709600-1715709600@ciemicr.org
SUMMARY:Webinar del CAD al BIM...¿Cómo abordar el problema de una transición casi obligada?
DESCRIPTION:Inscríbase aquí
URL:https://ciemicr.org/eventosrefresh_css/webinar-del-cad-al-bim-como-abordar-el-problema-de-una-transicion-casi-obligada-2/
CATEGORIES:Conferencias
ATTACH;FMTTYPE=image/jpeg:https://ciemicr.org/wp-content/uploads/2024/04/Webinar-Del-Cad-al-BIM.¿Como-abordar-el-problema-de-una-transicion-casi-obligada-1.jpg
END:VEVENT
BEGIN:VEVENT
DTSTART;TZID=America/Costa_Rica:20240514T180000
DTEND;TZID=America/Costa_Rica:20240514T180000
DTSTAMP:20260423T025522
CREATED:20240417T164243Z
LAST-MODIFIED:20240417T164243Z
UID:10002303-1715709600-1715709600@ciemicr.org
SUMMARY:Webinar del CAD al BIM...¿Cómo abordar el problema de una transición casi obligada?
DESCRIPTION:Inscríbase aquí
URL:https://ciemicr.org/eventosrefresh_css/webinar-del-cad-al-bim-como-abordar-el-problema-de-una-transicion-casi-obligada-3/
CATEGORIES:Conferencias
ATTACH;FMTTYPE=image/jpeg:https://ciemicr.org/wp-content/uploads/2024/04/Webinar-Del-Cad-al-BIM.¿Como-abordar-el-problema-de-una-transicion-casi-obligada-1.jpg
END:VEVENT
BEGIN:VEVENT
DTSTART;TZID=America/Costa_Rica:20240509T170000
DTEND;TZID=America/Costa_Rica:20240509T200000
DTSTAMP:20260423T025522
CREATED:20240423T225122Z
LAST-MODIFIED:20240423T225122Z
UID:10000826-1715274000-1715284800@ciemicr.org
SUMMARY:Curso Creación de dashboard con Power BI\, Énfasis en funciones Dax - Nivel intermedio
DESCRIPTION:Más información
URL:https://ciemicr.org/eventosrefresh_css/curso-creacion-de-dashboard-con-power-bi-enfasis-en-funciones-dax-nivel-intermedio/
LOCATION:Virtual\, Costa Rica
CATEGORIES:Capacitaciones
ATTACH;FMTTYPE=image/jpeg:https://ciemicr.org/wp-content/uploads/2024/04/DASHBOARD.jpg
END:VEVENT
BEGIN:VEVENT
DTSTART;TZID=America/Costa_Rica:20240509T170000
DTEND;TZID=America/Costa_Rica:20240509T200000
DTSTAMP:20260423T025522
CREATED:20240423T225122Z
LAST-MODIFIED:20240423T225122Z
UID:10001892-1715274000-1715284800@ciemicr.org
SUMMARY:Curso Creación de dashboard con Power BI\, Énfasis en funciones Dax - Nivel intermedio
DESCRIPTION:Más información
URL:https://ciemicr.org/eventosrefresh_css/curso-creacion-de-dashboard-con-power-bi-enfasis-en-funciones-dax-nivel-intermedio-2/
LOCATION:Virtual\, Costa Rica
CATEGORIES:Capacitaciones
ATTACH;FMTTYPE=image/jpeg:https://ciemicr.org/wp-content/uploads/2024/04/DASHBOARD.jpg
END:VEVENT
END:VCALENDAR