BEGIN:VCALENDAR
VERSION:2.0
PRODID:-//CIEMI - ECPv6.15.13.1//NONSGML v1.0//EN
CALSCALE:GREGORIAN
METHOD:PUBLISH
X-WR-CALNAME:CIEMI
X-ORIGINAL-URL:https://ciemicr.org
X-WR-CALDESC:Eventos para CIEMI
REFRESH-INTERVAL;VALUE=DURATION:PT1H
X-Robots-Tag:noindex
X-PUBLISHED-TTL:PT1H
BEGIN:VTIMEZONE
TZID:America/Costa_Rica
BEGIN:STANDARD
TZOFFSETFROM:-0600
TZOFFSETTO:-0600
TZNAME:CST
DTSTART:20230101T000000
END:STANDARD
END:VTIMEZONE
BEGIN:VEVENT
DTSTART;TZID=America/Costa_Rica:20240509T170000
DTEND;TZID=America/Costa_Rica:20240509T200000
DTSTAMP:20260423T072644
CREATED:20240423T225122Z
LAST-MODIFIED:20240423T225122Z
UID:10002310-1715274000-1715284800@ciemicr.org
SUMMARY:Curso Creación de dashboard con Power BI\, Énfasis en funciones Dax - Nivel intermedio
DESCRIPTION:Más información
URL:https://ciemicr.org/eventosrefresh_css/curso-creacion-de-dashboard-con-power-bi-enfasis-en-funciones-dax-nivel-intermedio-3/
LOCATION:Virtual\, Costa Rica
CATEGORIES:Capacitaciones
ATTACH;FMTTYPE=image/jpeg:https://ciemicr.org/wp-content/uploads/2024/04/DASHBOARD.jpg
END:VEVENT
BEGIN:VEVENT
DTSTART;TZID=America/Costa_Rica:20240509T080000
DTEND;TZID=America/Costa_Rica:20240509T170000
DTSTAMP:20260423T072644
CREATED:20240215T151212Z
LAST-MODIFIED:20240502T170408Z
UID:10000787-1715241600-1715274000@ciemicr.org
SUMMARY:Seminario de Ingeniería Mecánica y Áreas afines
DESCRIPTION:Inscríbase aquí \nPrograma
URL:https://ciemicr.org/eventosrefresh_css/seminario-de-ingenieria-mecanica-y-areas-afines/
LOCATION:Auditorio del CFIA\, Curridabat\, 2346-1000\, Costa Rica\, Colegio de Ingenieros y Arquitectos\, Costa Rica
CATEGORIES:Eventos
ATTACH;FMTTYPE=image/jpeg:https://ciemicr.org/wp-content/uploads/2024/02/POST-Seminario-de-Ingenieria-Mecanica-y-areas-afines-3.jpg
GEO:9.9253512346433;-84.03936233163
X-APPLE-STRUCTURED-LOCATION;VALUE=URI;X-ADDRESS=Auditorio del CFIA Curridabat 2346-1000 Costa Rica Colegio de Ingenieros y Arquitectos Costa Rica;X-APPLE-RADIUS=500;X-TITLE=2346-1000:geo:-84.03936233163,9.9253512346433
END:VEVENT
BEGIN:VEVENT
DTSTART;TZID=America/Costa_Rica:20240509T080000
DTEND;TZID=America/Costa_Rica:20240509T170000
DTSTAMP:20260423T072644
CREATED:20240215T151212Z
LAST-MODIFIED:20240215T151212Z
UID:10001860-1715241600-1715274000@ciemicr.org
SUMMARY:Seminario de Ingeniería Mecánica y Áreas afines
DESCRIPTION:Inscríbase aquí \nPrograma
URL:https://ciemicr.org/eventosrefresh_css/seminario-de-ingenieria-mecanica-y-areas-afines-2/
LOCATION:Auditorio del CFIA\, Curridabat\, 2346-1000\, Costa Rica\, Colegio de Ingenieros y Arquitectos\, Costa Rica
CATEGORIES:Eventos
ATTACH;FMTTYPE=image/jpeg:https://ciemicr.org/wp-content/uploads/2024/02/POST-Seminario-de-Ingenieria-Mecanica-y-areas-afines-3.jpg
GEO:9.9253512346433;-84.03936233163
X-APPLE-STRUCTURED-LOCATION;VALUE=URI;X-ADDRESS=Auditorio del CFIA Curridabat 2346-1000 Costa Rica Colegio de Ingenieros y Arquitectos Costa Rica;X-APPLE-RADIUS=500;X-TITLE=2346-1000:geo:-84.03936233163,9.9253512346433
END:VEVENT
BEGIN:VEVENT
DTSTART;TZID=America/Costa_Rica:20240509T080000
DTEND;TZID=America/Costa_Rica:20240509T170000
DTSTAMP:20260423T072644
CREATED:20240215T151212Z
LAST-MODIFIED:20240215T151212Z
UID:10002278-1715241600-1715274000@ciemicr.org
SUMMARY:Seminario de Ingeniería Mecánica y Áreas afines
DESCRIPTION:Inscríbase aquí \nPrograma
URL:https://ciemicr.org/eventosrefresh_css/seminario-de-ingenieria-mecanica-y-areas-afines-3/
LOCATION:Auditorio del CFIA\, Curridabat\, 2346-1000\, Costa Rica\, Colegio de Ingenieros y Arquitectos\, Costa Rica
CATEGORIES:Eventos
ATTACH;FMTTYPE=image/jpeg:https://ciemicr.org/wp-content/uploads/2024/02/POST-Seminario-de-Ingenieria-Mecanica-y-areas-afines-3.jpg
GEO:9.9253512346433;-84.03936233163
X-APPLE-STRUCTURED-LOCATION;VALUE=URI;X-ADDRESS=Auditorio del CFIA Curridabat 2346-1000 Costa Rica Colegio de Ingenieros y Arquitectos Costa Rica;X-APPLE-RADIUS=500;X-TITLE=2346-1000:geo:-84.03936233163,9.9253512346433
END:VEVENT
BEGIN:VEVENT
DTSTART;TZID=America/Costa_Rica:20240507T170000
DTEND;TZID=America/Costa_Rica:20240507T200000
DTSTAMP:20260423T072644
CREATED:20240423T224257Z
LAST-MODIFIED:20240423T224257Z
UID:10000824-1715101200-1715112000@ciemicr.org
SUMMARY:Curso Excel avanzado y análisis de datos vía tablas dinámicas
DESCRIPTION:Más información
URL:https://ciemicr.org/eventosrefresh_css/curso-excel-avanzado-y-analisis-de-datos-via-tablas-dinamicas/
LOCATION:Virtual\, Costa Rica
CATEGORIES:Capacitaciones
ATTACH;FMTTYPE=image/jpeg:https://ciemicr.org/wp-content/uploads/2024/04/Excel-avanzado.jpg
END:VEVENT
BEGIN:VEVENT
DTSTART;TZID=America/Costa_Rica:20240507T170000
DTEND;TZID=America/Costa_Rica:20240507T200000
DTSTAMP:20260423T072644
CREATED:20240423T224257Z
LAST-MODIFIED:20240423T224257Z
UID:10001890-1715101200-1715112000@ciemicr.org
SUMMARY:Curso Excel avanzado y análisis de datos vía tablas dinámicas
DESCRIPTION:Más información
URL:https://ciemicr.org/eventosrefresh_css/curso-excel-avanzado-y-analisis-de-datos-via-tablas-dinamicas-2/
LOCATION:Virtual\, Costa Rica
CATEGORIES:Capacitaciones
ATTACH;FMTTYPE=image/jpeg:https://ciemicr.org/wp-content/uploads/2024/04/Excel-avanzado.jpg
END:VEVENT
BEGIN:VEVENT
DTSTART;TZID=America/Costa_Rica:20240507T170000
DTEND;TZID=America/Costa_Rica:20240507T200000
DTSTAMP:20260423T072644
CREATED:20240423T224257Z
LAST-MODIFIED:20240423T224257Z
UID:10002308-1715101200-1715112000@ciemicr.org
SUMMARY:Curso Excel avanzado y análisis de datos vía tablas dinámicas
DESCRIPTION:Más información
URL:https://ciemicr.org/eventosrefresh_css/curso-excel-avanzado-y-analisis-de-datos-via-tablas-dinamicas-3/
LOCATION:Virtual\, Costa Rica
CATEGORIES:Capacitaciones
ATTACH;FMTTYPE=image/jpeg:https://ciemicr.org/wp-content/uploads/2024/04/Excel-avanzado.jpg
END:VEVENT
BEGIN:VEVENT
DTSTART;TZID=America/Costa_Rica:20240506T180000
DTEND;TZID=America/Costa_Rica:20240506T210000
DTSTAMP:20260423T072644
CREATED:20240221T141538Z
LAST-MODIFIED:20240429T214758Z
UID:10000788-1715018400-1715029200@ciemicr.org
SUMMARY:Curso CAPDEE-M6: Diseño e inspección de sistemas de detección y activación de incendios y seguridad electrónica
DESCRIPTION:Inscríbase aquí  \nPrograma
URL:https://ciemicr.org/eventosrefresh_css/curso-capdee-m6-diseno-e-inspeccion-de-sistemas-de-deteccion-y-activacion-de-incendios-y-seguridad-electronica-4/
LOCATION:Virtual\, Costa Rica
CATEGORIES:Capacitaciones
ATTACH;FMTTYPE=image/jpeg:https://ciemicr.org/wp-content/uploads/2024/02/Curso-CAPDEE-M6.jpg
END:VEVENT
BEGIN:VEVENT
DTSTART;TZID=America/Costa_Rica:20240506T180000
DTEND;TZID=America/Costa_Rica:20240506T210000
DTSTAMP:20260423T072644
CREATED:20240221T141538Z
LAST-MODIFIED:20240221T141538Z
UID:10001861-1715018400-1715029200@ciemicr.org
SUMMARY:Curso CAPDEE-M6: Diseño e inspección de sistemas de detección y activación de incendios y seguridad electrónica
DESCRIPTION:Inscríbase aquí  \nPrograma
URL:https://ciemicr.org/eventosrefresh_css/curso-capdee-m6-diseno-e-inspeccion-de-sistemas-de-deteccion-y-activacion-de-incendios-y-seguridad-electronica-4-2/
LOCATION:Virtual\, Costa Rica
CATEGORIES:Capacitaciones
ATTACH;FMTTYPE=image/jpeg:https://ciemicr.org/wp-content/uploads/2024/02/Curso-CAPDEE-M6.jpg
END:VEVENT
BEGIN:VEVENT
DTSTART;TZID=America/Costa_Rica:20240506T180000
DTEND;TZID=America/Costa_Rica:20240506T210000
DTSTAMP:20260423T072644
CREATED:20240221T141538Z
LAST-MODIFIED:20240221T141538Z
UID:10002279-1715018400-1715029200@ciemicr.org
SUMMARY:Curso CAPDEE-M6: Diseño e inspección de sistemas de detección y activación de incendios y seguridad electrónica
DESCRIPTION:Inscríbase aquí  \nPrograma
URL:https://ciemicr.org/eventosrefresh_css/curso-capdee-m6-diseno-e-inspeccion-de-sistemas-de-deteccion-y-activacion-de-incendios-y-seguridad-electronica-4-3/
LOCATION:Virtual\, Costa Rica
CATEGORIES:Capacitaciones
ATTACH;FMTTYPE=image/jpeg:https://ciemicr.org/wp-content/uploads/2024/02/Curso-CAPDEE-M6.jpg
END:VEVENT
BEGIN:VEVENT
DTSTART;TZID=America/Costa_Rica:20240430T173000
DTEND;TZID=America/Costa_Rica:20240430T173000
DTSTAMP:20260423T072644
CREATED:20240411T203605Z
LAST-MODIFIED:20240422T225450Z
UID:10000814-1714498200-1714498200@ciemicr.org
SUMMARY:Seminario Cambio Climático: Impactos en el Trabajo
DESCRIPTION:Inscríbase aquí \nPrograma
URL:https://ciemicr.org/eventosrefresh_css/seminario-trabajo-seguro-y-saludable/
LOCATION:CCCIEMI\, CIEMI\, CIEMI\, Costa Rica
CATEGORIES:Eventos
ATTACH;FMTTYPE=image/jpeg:https://ciemicr.org/wp-content/uploads/2024/04/04.Seminario-Trabajo-Seguro-y-Saludable.jpg
END:VEVENT
BEGIN:VEVENT
DTSTART;TZID=America/Costa_Rica:20240430T173000
DTEND;TZID=America/Costa_Rica:20240430T173000
DTSTAMP:20260423T072644
CREATED:20240411T203605Z
LAST-MODIFIED:20240411T203605Z
UID:10001884-1714498200-1714498200@ciemicr.org
SUMMARY:Seminario Cambio Climático: Impactos en el Trabajo
DESCRIPTION:Inscríbase aquí \nPrograma
URL:https://ciemicr.org/eventosrefresh_css/seminario-trabajo-seguro-y-saludable-2/
LOCATION:CCCIEMI\, CIEMI\, CIEMI\, Costa Rica
CATEGORIES:Eventos
ATTACH;FMTTYPE=image/jpeg:https://ciemicr.org/wp-content/uploads/2024/04/04.Seminario-Trabajo-Seguro-y-Saludable.jpg
END:VEVENT
BEGIN:VEVENT
DTSTART;TZID=America/Costa_Rica:20240430T173000
DTEND;TZID=America/Costa_Rica:20240430T173000
DTSTAMP:20260423T072644
CREATED:20240411T203605Z
LAST-MODIFIED:20240411T203605Z
UID:10002302-1714498200-1714498200@ciemicr.org
SUMMARY:Seminario Cambio Climático: Impactos en el Trabajo
DESCRIPTION:Inscríbase aquí \nPrograma
URL:https://ciemicr.org/eventosrefresh_css/seminario-trabajo-seguro-y-saludable-3/
LOCATION:CCCIEMI\, CIEMI\, CIEMI\, Costa Rica
CATEGORIES:Eventos
ATTACH;FMTTYPE=image/jpeg:https://ciemicr.org/wp-content/uploads/2024/04/04.Seminario-Trabajo-Seguro-y-Saludable.jpg
END:VEVENT
BEGIN:VEVENT
DTSTART;TZID=America/Costa_Rica:20240430T170000
DTEND;TZID=America/Costa_Rica:20240430T200000
DTSTAMP:20260423T072644
CREATED:20240408T142757Z
LAST-MODIFIED:20240412T220214Z
UID:10000812-1714496400-1714507200@ciemicr.org
SUMMARY:Curso Excel Completo: Básico\, Intermedio\, Avanzado
DESCRIPTION:Más información
URL:https://ciemicr.org/eventosrefresh_css/curso-excel-completo-basico-intermedio-avanzado/
LOCATION:Virtual\, Costa Rica
CATEGORIES:Capacitaciones
ATTACH;FMTTYPE=image/jpeg:https://ciemicr.org/wp-content/uploads/2024/04/Excel-completo-CIEMI.jpg
END:VEVENT
BEGIN:VEVENT
DTSTART;TZID=America/Costa_Rica:20240430T170000
DTEND;TZID=America/Costa_Rica:20240430T200000
DTSTAMP:20260423T072644
CREATED:20240408T142757Z
LAST-MODIFIED:20240408T142757Z
UID:10001882-1714496400-1714507200@ciemicr.org
SUMMARY:Curso Excel Completo: Básico\, Intermedio\, Avanzado
DESCRIPTION:Más información
URL:https://ciemicr.org/eventosrefresh_css/curso-excel-completo-basico-intermedio-avanzado-2/
LOCATION:Virtual\, Costa Rica
CATEGORIES:Capacitaciones
ATTACH;FMTTYPE=image/jpeg:https://ciemicr.org/wp-content/uploads/2024/04/Excel-completo-CIEMI.jpg
END:VEVENT
BEGIN:VEVENT
DTSTART;TZID=America/Costa_Rica:20240430T170000
DTEND;TZID=America/Costa_Rica:20240430T200000
DTSTAMP:20260423T072644
CREATED:20240408T142757Z
LAST-MODIFIED:20240408T142757Z
UID:10002300-1714496400-1714507200@ciemicr.org
SUMMARY:Curso Excel Completo: Básico\, Intermedio\, Avanzado
DESCRIPTION:Más información
URL:https://ciemicr.org/eventosrefresh_css/curso-excel-completo-basico-intermedio-avanzado-3/
LOCATION:Virtual\, Costa Rica
CATEGORIES:Capacitaciones
ATTACH;FMTTYPE=image/jpeg:https://ciemicr.org/wp-content/uploads/2024/04/Excel-completo-CIEMI.jpg
END:VEVENT
BEGIN:VEVENT
DTSTART;TZID=America/Costa_Rica:20240425T170000
DTEND;TZID=America/Costa_Rica:20240425T210000
DTSTAMP:20260423T072644
CREATED:20240408T142153Z
LAST-MODIFIED:20240408T142153Z
UID:10000810-1714064400-1714078800@ciemicr.org
SUMMARY:Certificación Auditor Interno de Calidad
DESCRIPTION:
URL:https://ciemicr.org/eventosrefresh_css/certificacion-auditor-interno-de-calidad/
LOCATION:Virtual\, Costa Rica
CATEGORIES:Capacitaciones
ATTACH;FMTTYPE=image/jpeg:https://ciemicr.org/wp-content/uploads/2024/04/CERTIFICACION-AUDITOR-INTERNO-DE-CALIDAD-BASADO-EN-LA-NORMA-ISO-9001-2015.jpg
END:VEVENT
BEGIN:VEVENT
DTSTART;TZID=America/Costa_Rica:20240425T170000
DTEND;TZID=America/Costa_Rica:20240425T210000
DTSTAMP:20260423T072644
CREATED:20240408T142153Z
LAST-MODIFIED:20240408T142153Z
UID:10001880-1714064400-1714078800@ciemicr.org
SUMMARY:Certificación Auditor Interno de Calidad
DESCRIPTION:
URL:https://ciemicr.org/eventosrefresh_css/certificacion-auditor-interno-de-calidad-2/
LOCATION:Virtual\, Costa Rica
CATEGORIES:Capacitaciones
ATTACH;FMTTYPE=image/jpeg:https://ciemicr.org/wp-content/uploads/2024/04/CERTIFICACION-AUDITOR-INTERNO-DE-CALIDAD-BASADO-EN-LA-NORMA-ISO-9001-2015.jpg
END:VEVENT
BEGIN:VEVENT
DTSTART;TZID=America/Costa_Rica:20240425T170000
DTEND;TZID=America/Costa_Rica:20240425T210000
DTSTAMP:20260423T072644
CREATED:20240408T142153Z
LAST-MODIFIED:20240408T142153Z
UID:10002298-1714064400-1714078800@ciemicr.org
SUMMARY:Certificación Auditor Interno de Calidad
DESCRIPTION:
URL:https://ciemicr.org/eventosrefresh_css/certificacion-auditor-interno-de-calidad-3/
LOCATION:Virtual\, Costa Rica
CATEGORIES:Capacitaciones
ATTACH;FMTTYPE=image/jpeg:https://ciemicr.org/wp-content/uploads/2024/04/CERTIFICACION-AUDITOR-INTERNO-DE-CALIDAD-BASADO-EN-LA-NORMA-ISO-9001-2015.jpg
END:VEVENT
BEGIN:VEVENT
DTSTART;TZID=America/Costa_Rica:20240424T180000
DTEND;TZID=America/Costa_Rica:20240424T210000
DTSTAMP:20260423T072644
CREATED:20231127T234927Z
LAST-MODIFIED:20240404T171603Z
UID:10000745-1713981600-1713992400@ciemicr.org
SUMMARY:Curso Instalaciones eléctricas en lugares clasificados como peligrosos
DESCRIPTION:Inscríbase aquí \nPrograma
URL:https://ciemicr.org/eventosrefresh_css/curso-instalaciones-electricas-en-lugares-clasificados-como-peligrosos-2/
LOCATION:Virtual\, Costa Rica
CATEGORIES:Capacitaciones
ATTACH;FMTTYPE=image/jpeg:https://ciemicr.org/wp-content/uploads/2023/11/Instalaciones-electricas-en-lugares-clasificados-como-peligrosos-1.jpg
END:VEVENT
BEGIN:VEVENT
DTSTART;TZID=America/Costa_Rica:20240424T180000
DTEND;TZID=America/Costa_Rica:20240424T210000
DTSTAMP:20260423T072644
CREATED:20231127T234927Z
LAST-MODIFIED:20231127T234927Z
UID:10001825-1713981600-1713992400@ciemicr.org
SUMMARY:Curso Instalaciones eléctricas en lugares clasificados como peligrosos
DESCRIPTION:Inscríbase aquí \nPrograma
URL:https://ciemicr.org/eventosrefresh_css/curso-instalaciones-electricas-en-lugares-clasificados-como-peligrosos-2-2/
LOCATION:Virtual\, Costa Rica
CATEGORIES:Capacitaciones
ATTACH;FMTTYPE=image/jpeg:https://ciemicr.org/wp-content/uploads/2023/11/Instalaciones-electricas-en-lugares-clasificados-como-peligrosos-1.jpg
END:VEVENT
BEGIN:VEVENT
DTSTART;TZID=America/Costa_Rica:20240424T180000
DTEND;TZID=America/Costa_Rica:20240424T210000
DTSTAMP:20260423T072644
CREATED:20231127T234927Z
LAST-MODIFIED:20231127T234927Z
UID:10002243-1713981600-1713992400@ciemicr.org
SUMMARY:Curso Instalaciones eléctricas en lugares clasificados como peligrosos
DESCRIPTION:Inscríbase aquí \nPrograma
URL:https://ciemicr.org/eventosrefresh_css/curso-instalaciones-electricas-en-lugares-clasificados-como-peligrosos-2-3/
LOCATION:Virtual\, Costa Rica
CATEGORIES:Capacitaciones
ATTACH;FMTTYPE=image/jpeg:https://ciemicr.org/wp-content/uploads/2023/11/Instalaciones-electricas-en-lugares-clasificados-como-peligrosos-1.jpg
END:VEVENT
BEGIN:VEVENT
DTSTART;TZID=America/Costa_Rica:20240424T170000
DTEND;TZID=America/Costa_Rica:20240424T200000
DTSTAMP:20260423T072644
CREATED:20240408T142628Z
LAST-MODIFIED:20240408T142628Z
UID:10000811-1713978000-1713988800@ciemicr.org
SUMMARY:Curso Power BI y SQL
DESCRIPTION:
URL:https://ciemicr.org/eventosrefresh_css/curso-power-bi-y-sql-2/
LOCATION:Virtual\, Costa Rica
CATEGORIES:Capacitaciones
ATTACH;FMTTYPE=image/jpeg:https://ciemicr.org/wp-content/uploads/2024/04/POWER-BI-Y-SQL.jpg
END:VEVENT
BEGIN:VEVENT
DTSTART;TZID=America/Costa_Rica:20240424T170000
DTEND;TZID=America/Costa_Rica:20240424T200000
DTSTAMP:20260423T072644
CREATED:20240408T142628Z
LAST-MODIFIED:20240408T142628Z
UID:10001881-1713978000-1713988800@ciemicr.org
SUMMARY:Curso Power BI y SQL
DESCRIPTION:
URL:https://ciemicr.org/eventosrefresh_css/curso-power-bi-y-sql-2-2/
LOCATION:Virtual\, Costa Rica
CATEGORIES:Capacitaciones
ATTACH;FMTTYPE=image/jpeg:https://ciemicr.org/wp-content/uploads/2024/04/POWER-BI-Y-SQL.jpg
END:VEVENT
BEGIN:VEVENT
DTSTART;TZID=America/Costa_Rica:20240424T170000
DTEND;TZID=America/Costa_Rica:20240424T200000
DTSTAMP:20260423T072644
CREATED:20240408T142628Z
LAST-MODIFIED:20240408T142628Z
UID:10002299-1713978000-1713988800@ciemicr.org
SUMMARY:Curso Power BI y SQL
DESCRIPTION:
URL:https://ciemicr.org/eventosrefresh_css/curso-power-bi-y-sql-2-3/
LOCATION:Virtual\, Costa Rica
CATEGORIES:Capacitaciones
ATTACH;FMTTYPE=image/jpeg:https://ciemicr.org/wp-content/uploads/2024/04/POWER-BI-Y-SQL.jpg
END:VEVENT
BEGIN:VEVENT
DTSTART;TZID=America/Costa_Rica:20240422T180000
DTEND;TZID=America/Costa_Rica:20240422T180000
DTSTAMP:20260423T072644
CREATED:20240314T174726Z
LAST-MODIFIED:20240419T152505Z
UID:10000795-1713808800-1713808800@ciemicr.org
SUMMARY:Conferencia descarbonización y cambio climático
DESCRIPTION:Inscríbase aquí
URL:https://ciemicr.org/eventosrefresh_css/conferencia-descarbonizacion-y-cambio-climatico/
LOCATION:Virtual\, Costa Rica
CATEGORIES:Conferencias
ATTACH;FMTTYPE=image/jpeg:https://ciemicr.org/wp-content/uploads/2024/03/VIRTUAL-Conferencia-descarbonizacion-y-cambio-climatico.jpg
END:VEVENT
BEGIN:VEVENT
DTSTART;TZID=America/Costa_Rica:20240422T180000
DTEND;TZID=America/Costa_Rica:20240422T180000
DTSTAMP:20260423T072644
CREATED:20240314T174726Z
LAST-MODIFIED:20240314T174726Z
UID:10001866-1713808800-1713808800@ciemicr.org
SUMMARY:Conferencia descarbonización y cambio climático
DESCRIPTION:Inscríbase aquí
URL:https://ciemicr.org/eventosrefresh_css/conferencia-descarbonizacion-y-cambio-climatico-2/
LOCATION:Virtual\, Costa Rica
CATEGORIES:Conferencias
ATTACH;FMTTYPE=image/jpeg:https://ciemicr.org/wp-content/uploads/2024/03/VIRTUAL-Conferencia-descarbonizacion-y-cambio-climatico.jpg
END:VEVENT
BEGIN:VEVENT
DTSTART;TZID=America/Costa_Rica:20240422T180000
DTEND;TZID=America/Costa_Rica:20240422T180000
DTSTAMP:20260423T072644
CREATED:20240314T174726Z
LAST-MODIFIED:20240314T174726Z
UID:10002284-1713808800-1713808800@ciemicr.org
SUMMARY:Conferencia descarbonización y cambio climático
DESCRIPTION:Inscríbase aquí
URL:https://ciemicr.org/eventosrefresh_css/conferencia-descarbonizacion-y-cambio-climatico-3/
LOCATION:Virtual\, Costa Rica
CATEGORIES:Conferencias
ATTACH;FMTTYPE=image/jpeg:https://ciemicr.org/wp-content/uploads/2024/03/VIRTUAL-Conferencia-descarbonizacion-y-cambio-climatico.jpg
END:VEVENT
BEGIN:VEVENT
DTSTART;TZID=America/Costa_Rica:20240422T170000
DTEND;TZID=America/Costa_Rica:20240422T200000
DTSTAMP:20260423T072644
CREATED:20240408T142856Z
LAST-MODIFIED:20240418T155538Z
UID:10000813-1713805200-1713816000@ciemicr.org
SUMMARY:Curso Excel Básico
DESCRIPTION:Más información
URL:https://ciemicr.org/eventosrefresh_css/curso-excel-basico/
LOCATION:Virtual\, Costa Rica
CATEGORIES:Capacitaciones
ATTACH;FMTTYPE=image/jpeg:https://ciemicr.org/wp-content/uploads/2024/04/EXCEL-BASICO.jpg
END:VEVENT
BEGIN:VEVENT
DTSTART;TZID=America/Costa_Rica:20240422T170000
DTEND;TZID=America/Costa_Rica:20240422T200000
DTSTAMP:20260423T072644
CREATED:20240408T142856Z
LAST-MODIFIED:20240408T142856Z
UID:10001883-1713805200-1713816000@ciemicr.org
SUMMARY:Curso Excel Básico
DESCRIPTION:Más información
URL:https://ciemicr.org/eventosrefresh_css/curso-excel-basico-2/
LOCATION:Virtual\, Costa Rica
CATEGORIES:Capacitaciones
ATTACH;FMTTYPE=image/jpeg:https://ciemicr.org/wp-content/uploads/2024/04/EXCEL-BASICO.jpg
END:VEVENT
END:VCALENDAR