BEGIN:VCALENDAR
VERSION:2.0
PRODID:-//CIEMI - ECPv6.15.13.1//NONSGML v1.0//EN
CALSCALE:GREGORIAN
METHOD:PUBLISH
X-WR-CALNAME:CIEMI
X-ORIGINAL-URL:https://ciemicr.org
X-WR-CALDESC:Eventos para CIEMI
REFRESH-INTERVAL;VALUE=DURATION:PT1H
X-Robots-Tag:noindex
X-PUBLISHED-TTL:PT1H
BEGIN:VTIMEZONE
TZID:America/Costa_Rica
BEGIN:STANDARD
TZOFFSETFROM:-0600
TZOFFSETTO:-0600
TZNAME:CST
DTSTART:20230101T000000
END:STANDARD
END:VTIMEZONE
BEGIN:VEVENT
DTSTART;TZID=America/Costa_Rica:20240313T080000
DTEND;TZID=America/Costa_Rica:20240313T170000
DTSTAMP:20260423T210220
CREATED:20231128T155458Z
LAST-MODIFIED:20231128T155458Z
UID:10002255-1710316800-1710349200@ciemicr.org
SUMMARY:Curso NFPA 101: Código de Seguridad Humana
DESCRIPTION:Inscríbase aquí \nPrograma
URL:https://ciemicr.org/eventosrefresh_css/curso-nfpa-101-codigo-de-seguridad-humana-4/
LOCATION:CCCIEMI\, CIEMI\, CIEMI\, Costa Rica
CATEGORIES:Capacitaciones
ATTACH;FMTTYPE=image/jpeg:https://ciemicr.org/wp-content/uploads/2023/11/NFPA-101-Codigo-de-Seguridad-Humana.jpg
END:VEVENT
BEGIN:VEVENT
DTSTART;TZID=America/Costa_Rica:20240312T180000
DTEND;TZID=America/Costa_Rica:20240312T210000
DTSTAMP:20260423T210220
CREATED:20240111T164926Z
LAST-MODIFIED:20240227T213829Z
UID:10000768-1710266400-1710277200@ciemicr.org
SUMMARY:Curso Sistemas de Ventilación y control de la calidad del aire Industrial
DESCRIPTION:Inscríbase aquí \nPrograma
URL:https://ciemicr.org/eventosrefresh_css/curso-sistemas-de-ventilacion-y-control-de-la-calidad-del-aire-industrial/
LOCATION:Moodle CFIA\, Moodle CFIA\, San José\, Virtual\, Costa Rica
CATEGORIES:Capacitaciones
ATTACH;FMTTYPE=image/jpeg:https://ciemicr.org/wp-content/uploads/2024/01/Curso-Sistemas-de-Ventilacion-y-control-de-la-calidad-del-aire-Industrial-1.jpg
END:VEVENT
BEGIN:VEVENT
DTSTART;TZID=America/Costa_Rica:20240312T180000
DTEND;TZID=America/Costa_Rica:20240312T210000
DTSTAMP:20260423T210220
CREATED:20240111T164926Z
LAST-MODIFIED:20240111T164926Z
UID:10001842-1710266400-1710277200@ciemicr.org
SUMMARY:Curso Sistemas de Ventilación y control de la calidad del aire Industrial
DESCRIPTION:Inscríbase aquí \nPrograma
URL:https://ciemicr.org/eventosrefresh_css/curso-sistemas-de-ventilacion-y-control-de-la-calidad-del-aire-industrial-3/
LOCATION:Moodle CFIA\, Moodle CFIA\, San José\, Virtual\, Costa Rica
CATEGORIES:Capacitaciones
ATTACH;FMTTYPE=image/jpeg:https://ciemicr.org/wp-content/uploads/2024/01/Curso-Sistemas-de-Ventilacion-y-control-de-la-calidad-del-aire-Industrial-1.jpg
END:VEVENT
BEGIN:VEVENT
DTSTART;TZID=America/Costa_Rica:20240312T180000
DTEND;TZID=America/Costa_Rica:20240312T210000
DTSTAMP:20260423T210220
CREATED:20240111T164926Z
LAST-MODIFIED:20240111T164926Z
UID:10002260-1710266400-1710277200@ciemicr.org
SUMMARY:Curso Sistemas de Ventilación y control de la calidad del aire Industrial
DESCRIPTION:Inscríbase aquí \nPrograma
URL:https://ciemicr.org/eventosrefresh_css/curso-sistemas-de-ventilacion-y-control-de-la-calidad-del-aire-industrial-4/
LOCATION:Moodle CFIA\, Moodle CFIA\, San José\, Virtual\, Costa Rica
CATEGORIES:Capacitaciones
ATTACH;FMTTYPE=image/jpeg:https://ciemicr.org/wp-content/uploads/2024/01/Curso-Sistemas-de-Ventilacion-y-control-de-la-calidad-del-aire-Industrial-1.jpg
END:VEVENT
BEGIN:VEVENT
DTSTART;TZID=America/Costa_Rica:20240312T170000
DTEND;TZID=America/Costa_Rica:20240312T200000
DTSTAMP:20260423T210220
CREATED:20240301T180433Z
LAST-MODIFIED:20240301T180433Z
UID:10000793-1710262800-1710273600@ciemicr.org
SUMMARY:Curso Creación de Dashboard con Power BI - Nivel básico
DESCRIPTION:Más información
URL:https://ciemicr.org/eventosrefresh_css/curso-creacion-de-dashboard-con-power-bi-nivel-basico/
LOCATION:Virtual\, Costa Rica
CATEGORIES:Capacitaciones
END:VEVENT
BEGIN:VEVENT
DTSTART;TZID=America/Costa_Rica:20240312T170000
DTEND;TZID=America/Costa_Rica:20240312T200000
DTSTAMP:20260423T210220
CREATED:20240301T180433Z
LAST-MODIFIED:20240301T180433Z
UID:10001864-1710262800-1710273600@ciemicr.org
SUMMARY:Curso Creación de Dashboard con Power BI - Nivel básico
DESCRIPTION:Más información
URL:https://ciemicr.org/eventosrefresh_css/curso-creacion-de-dashboard-con-power-bi-nivel-basico-2/
LOCATION:Virtual\, Costa Rica
CATEGORIES:Capacitaciones
END:VEVENT
BEGIN:VEVENT
DTSTART;TZID=America/Costa_Rica:20240312T170000
DTEND;TZID=America/Costa_Rica:20240312T200000
DTSTAMP:20260423T210220
CREATED:20240301T180433Z
LAST-MODIFIED:20240301T180433Z
UID:10002282-1710262800-1710273600@ciemicr.org
SUMMARY:Curso Creación de Dashboard con Power BI - Nivel básico
DESCRIPTION:Más información
URL:https://ciemicr.org/eventosrefresh_css/curso-creacion-de-dashboard-con-power-bi-nivel-basico-3/
LOCATION:Virtual\, Costa Rica
CATEGORIES:Capacitaciones
END:VEVENT
BEGIN:VEVENT
DTSTART;TZID=America/Costa_Rica:20240305T180000
DTEND;TZID=America/Costa_Rica:20240305T210000
DTSTAMP:20260423T210220
CREATED:20231120T144934Z
LAST-MODIFIED:20231204T211310Z
UID:10000738-1709661600-1709672400@ciemicr.org
SUMMARY:Curso CAPDEE-M3: Criterios de diseño desde el punto de vista de corrientes de cortocircuito
DESCRIPTION:Inscríbase aquí \nPrograma
URL:https://ciemicr.org/eventosrefresh_css/curso-capdee-m3criterios-de-diseno-desde-el-punto-de-vista-de-corrientes-de-cortocircuito/
LOCATION:Virtual\, Costa Rica
CATEGORIES:Capacitaciones
ATTACH;FMTTYPE=image/jpeg:https://ciemicr.org/wp-content/uploads/2023/11/CAPDEE-M3-Criterios-de-diseno-desde-el-punto-de-vista-de-corrientes-de-cortocircuito.jpg
END:VEVENT
BEGIN:VEVENT
DTSTART;TZID=America/Costa_Rica:20240305T180000
DTEND;TZID=America/Costa_Rica:20240305T210000
DTSTAMP:20260423T210220
CREATED:20231120T144934Z
LAST-MODIFIED:20231120T144934Z
UID:10001819-1709661600-1709672400@ciemicr.org
SUMMARY:Curso CAPDEE-M3: Criterios de diseño desde el punto de vista de corrientes de cortocircuito
DESCRIPTION:Inscríbase aquí \nPrograma
URL:https://ciemicr.org/eventosrefresh_css/curso-capdee-m3criterios-de-diseno-desde-el-punto-de-vista-de-corrientes-de-cortocircuito-3/
LOCATION:Virtual\, Costa Rica
CATEGORIES:Capacitaciones
ATTACH;FMTTYPE=image/jpeg:https://ciemicr.org/wp-content/uploads/2023/11/CAPDEE-M3-Criterios-de-diseno-desde-el-punto-de-vista-de-corrientes-de-cortocircuito.jpg
END:VEVENT
BEGIN:VEVENT
DTSTART;TZID=America/Costa_Rica:20240305T180000
DTEND;TZID=America/Costa_Rica:20240305T210000
DTSTAMP:20260423T210220
CREATED:20231120T144934Z
LAST-MODIFIED:20231120T144934Z
UID:10002237-1709661600-1709672400@ciemicr.org
SUMMARY:Curso CAPDEE-M3: Criterios de diseño desde el punto de vista de corrientes de cortocircuito
DESCRIPTION:Inscríbase aquí \nPrograma
URL:https://ciemicr.org/eventosrefresh_css/curso-capdee-m3criterios-de-diseno-desde-el-punto-de-vista-de-corrientes-de-cortocircuito-4/
LOCATION:Virtual\, Costa Rica
CATEGORIES:Capacitaciones
ATTACH;FMTTYPE=image/jpeg:https://ciemicr.org/wp-content/uploads/2023/11/CAPDEE-M3-Criterios-de-diseno-desde-el-punto-de-vista-de-corrientes-de-cortocircuito.jpg
END:VEVENT
BEGIN:VEVENT
DTSTART;TZID=America/Costa_Rica:20240228T180000
DTEND;TZID=America/Costa_Rica:20240228T180000
DTSTAMP:20260423T210220
CREATED:20240111T202138Z
LAST-MODIFIED:20240228T220115Z
UID:10000770-1709143200-1709143200@ciemicr.org
SUMMARY:Conferencia Sistemas pasivos contra Incendios Contrafuegos
DESCRIPTION:Inscríbase aquí
URL:https://ciemicr.org/eventosrefresh_css/nombre-conferencia-de-sistemas-pasivos-contra-incendios-contrafuegos-hilti-superba-s-a/
LOCATION:CIEMI Contiguo al Indoor Club. Urbanización La Alameda\, San José\, CIEMI
CATEGORIES:Conferencias
ATTACH;FMTTYPE=image/jpeg:https://ciemicr.org/wp-content/uploads/2024/01/Conferencia-Sistemas-pasivos-contra-Incendios02-1.jpg
END:VEVENT
BEGIN:VEVENT
DTSTART;TZID=America/Costa_Rica:20240228T180000
DTEND;TZID=America/Costa_Rica:20240228T180000
DTSTAMP:20260423T210220
CREATED:20240111T202138Z
LAST-MODIFIED:20240111T202138Z
UID:10001844-1709143200-1709143200@ciemicr.org
SUMMARY:Conferencia Sistemas pasivos contra Incendios Contrafuegos
DESCRIPTION:Inscríbase aquí
URL:https://ciemicr.org/eventosrefresh_css/nombre-conferencia-de-sistemas-pasivos-contra-incendios-contrafuegos-hilti-superba-s-a-2/
LOCATION:CIEMI Contiguo al Indoor Club. Urbanización La Alameda\, San José\, CIEMI
CATEGORIES:Conferencias
ATTACH;FMTTYPE=image/jpeg:https://ciemicr.org/wp-content/uploads/2024/01/Conferencia-Sistemas-pasivos-contra-Incendios02-1.jpg
END:VEVENT
BEGIN:VEVENT
DTSTART;TZID=America/Costa_Rica:20240228T180000
DTEND;TZID=America/Costa_Rica:20240228T180000
DTSTAMP:20260423T210220
CREATED:20240111T202138Z
LAST-MODIFIED:20240111T202138Z
UID:10002262-1709143200-1709143200@ciemicr.org
SUMMARY:Conferencia Sistemas pasivos contra Incendios Contrafuegos
DESCRIPTION:Inscríbase aquí
URL:https://ciemicr.org/eventosrefresh_css/nombre-conferencia-de-sistemas-pasivos-contra-incendios-contrafuegos-hilti-superba-s-a-3/
LOCATION:CIEMI Contiguo al Indoor Club. Urbanización La Alameda\, San José\, CIEMI
CATEGORIES:Conferencias
ATTACH;FMTTYPE=image/jpeg:https://ciemicr.org/wp-content/uploads/2024/01/Conferencia-Sistemas-pasivos-contra-Incendios02-1.jpg
END:VEVENT
BEGIN:VEVENT
DTSTART;TZID=America/Costa_Rica:20240227T170000
DTEND;TZID=America/Costa_Rica:20240227T170000
DTSTAMP:20260423T210220
CREATED:20240202T182641Z
LAST-MODIFIED:20240213T220752Z
UID:10000779-1709053200-1709053200@ciemicr.org
SUMMARY:Charla con café y cerveza: Protección radiológica desde la perspectiva de los controles de calidad en los equipos de radiodiagnóstico
DESCRIPTION:Inscríbase aquí
URL:https://ciemicr.org/eventosrefresh_css/webinar-proteccion-radiologica-desde-la-perspectiva-de-los-controles-de-calidad-en-los-equipos-de-radiodiagnostico/
LOCATION:Virtual\, Costa Rica
CATEGORIES:Conferencias
ATTACH;FMTTYPE=image/jpeg:https://ciemicr.org/wp-content/uploads/2024/02/Webinar-Proteccion-radiologica-desde-la-perspectiva-de-los-controles-de-calidad-en-los-equipos-de-radiodiagnostico.jpg
END:VEVENT
BEGIN:VEVENT
DTSTART;TZID=America/Costa_Rica:20240227T170000
DTEND;TZID=America/Costa_Rica:20240227T170000
DTSTAMP:20260423T210220
CREATED:20240202T182641Z
LAST-MODIFIED:20240202T182641Z
UID:10001853-1709053200-1709053200@ciemicr.org
SUMMARY:Charla con café y cerveza: Protección radiológica desde la perspectiva de los controles de calidad en los equipos de radiodiagnóstico
DESCRIPTION:Inscríbase aquí
URL:https://ciemicr.org/eventosrefresh_css/webinar-proteccion-radiologica-desde-la-perspectiva-de-los-controles-de-calidad-en-los-equipos-de-radiodiagnostico-2/
LOCATION:Virtual\, Costa Rica
CATEGORIES:Conferencias
ATTACH;FMTTYPE=image/jpeg:https://ciemicr.org/wp-content/uploads/2024/02/Webinar-Proteccion-radiologica-desde-la-perspectiva-de-los-controles-de-calidad-en-los-equipos-de-radiodiagnostico.jpg
END:VEVENT
BEGIN:VEVENT
DTSTART;TZID=America/Costa_Rica:20240227T170000
DTEND;TZID=America/Costa_Rica:20240227T170000
DTSTAMP:20260423T210220
CREATED:20240202T182641Z
LAST-MODIFIED:20240202T182641Z
UID:10002271-1709053200-1709053200@ciemicr.org
SUMMARY:Charla con café y cerveza: Protección radiológica desde la perspectiva de los controles de calidad en los equipos de radiodiagnóstico
DESCRIPTION:Inscríbase aquí
URL:https://ciemicr.org/eventosrefresh_css/webinar-proteccion-radiologica-desde-la-perspectiva-de-los-controles-de-calidad-en-los-equipos-de-radiodiagnostico-3/
LOCATION:Virtual\, Costa Rica
CATEGORIES:Conferencias
ATTACH;FMTTYPE=image/jpeg:https://ciemicr.org/wp-content/uploads/2024/02/Webinar-Proteccion-radiologica-desde-la-perspectiva-de-los-controles-de-calidad-en-los-equipos-de-radiodiagnostico.jpg
END:VEVENT
BEGIN:VEVENT
DTSTART;TZID=America/Costa_Rica:20240226T080000
DTEND;TZID=America/Costa_Rica:20240226T170000
DTSTAMP:20260423T210220
CREATED:20240115T232300Z
LAST-MODIFIED:20240130T170329Z
UID:10000774-1708934400-1708966800@ciemicr.org
SUMMARY:Curso FVOL101: Diseño e Instalación Solar Eléctrica (sistemas interactivos) – en línea
DESCRIPTION:Inscríbase aquí  \nPrograma
URL:https://ciemicr.org/eventosrefresh_css/curso-fvol101-diseno-e-instalacion-solar-electrica-sistemas-interactivos-en-linea-8/
LOCATION:Virtual\, Costa Rica
CATEGORIES:Capacitaciones
ATTACH;FMTTYPE=image/jpeg:https://ciemicr.org/wp-content/uploads/2024/01/CIEMI2024_FVOL101.jpg
END:VEVENT
BEGIN:VEVENT
DTSTART;TZID=America/Costa_Rica:20240226T080000
DTEND;TZID=America/Costa_Rica:20240226T170000
DTSTAMP:20260423T210220
CREATED:20240115T232300Z
LAST-MODIFIED:20240115T232300Z
UID:10001848-1708934400-1708966800@ciemicr.org
SUMMARY:Curso FVOL101: Diseño e Instalación Solar Eléctrica (sistemas interactivos) – en línea
DESCRIPTION:Inscríbase aquí  \nPrograma
URL:https://ciemicr.org/eventosrefresh_css/curso-fvol101-diseno-e-instalacion-solar-electrica-sistemas-interactivos-en-linea-8-2/
LOCATION:Virtual\, Costa Rica
CATEGORIES:Capacitaciones
ATTACH;FMTTYPE=image/jpeg:https://ciemicr.org/wp-content/uploads/2024/01/CIEMI2024_FVOL101.jpg
END:VEVENT
BEGIN:VEVENT
DTSTART;TZID=America/Costa_Rica:20240226T080000
DTEND;TZID=America/Costa_Rica:20240226T170000
DTSTAMP:20260423T210220
CREATED:20240115T232300Z
LAST-MODIFIED:20240115T232300Z
UID:10002266-1708934400-1708966800@ciemicr.org
SUMMARY:Curso FVOL101: Diseño e Instalación Solar Eléctrica (sistemas interactivos) – en línea
DESCRIPTION:Inscríbase aquí  \nPrograma
URL:https://ciemicr.org/eventosrefresh_css/curso-fvol101-diseno-e-instalacion-solar-electrica-sistemas-interactivos-en-linea-8-3/
LOCATION:Virtual\, Costa Rica
CATEGORIES:Capacitaciones
ATTACH;FMTTYPE=image/jpeg:https://ciemicr.org/wp-content/uploads/2024/01/CIEMI2024_FVOL101.jpg
END:VEVENT
BEGIN:VEVENT
DTSTART;TZID=America/Costa_Rica:20240226T080000
DTEND;TZID=America/Costa_Rica:20240226T080000
DTSTAMP:20260423T210220
CREATED:20240124T165319Z
LAST-MODIFIED:20240130T170252Z
UID:10000776-1708934400-1708934400@ciemicr.org
SUMMARY:Curso FVOL202: Diseño Fotovoltaico avanzado y el NEC (Sistemas Interactivos) - en línea
DESCRIPTION:Inscríbase aquí \nPrograma
URL:https://ciemicr.org/eventosrefresh_css/curso-fvol202-diseno-fotovoltaico-avanzado-y-el-nec-sistemas-interactivos-en-linea-5/
LOCATION:Virtual\, Costa Rica
CATEGORIES:Capacitaciones
ATTACH;FMTTYPE=image/jpeg:https://ciemicr.org/wp-content/uploads/2024/01/CIEMI2024-FVO202.jpg
END:VEVENT
BEGIN:VEVENT
DTSTART;TZID=America/Costa_Rica:20240226T080000
DTEND;TZID=America/Costa_Rica:20240226T080000
DTSTAMP:20260423T210220
CREATED:20240124T165319Z
LAST-MODIFIED:20240124T165319Z
UID:10001850-1708934400-1708934400@ciemicr.org
SUMMARY:Curso FVOL202: Diseño Fotovoltaico avanzado y el NEC (Sistemas Interactivos) - en línea
DESCRIPTION:Inscríbase aquí \nPrograma
URL:https://ciemicr.org/eventosrefresh_css/curso-fvol202-diseno-fotovoltaico-avanzado-y-el-nec-sistemas-interactivos-en-linea-5-2/
LOCATION:Virtual\, Costa Rica
CATEGORIES:Capacitaciones
ATTACH;FMTTYPE=image/jpeg:https://ciemicr.org/wp-content/uploads/2024/01/CIEMI2024-FVO202.jpg
END:VEVENT
BEGIN:VEVENT
DTSTART;TZID=America/Costa_Rica:20240226T080000
DTEND;TZID=America/Costa_Rica:20240226T080000
DTSTAMP:20260423T210220
CREATED:20240124T165319Z
LAST-MODIFIED:20240124T165319Z
UID:10002268-1708934400-1708934400@ciemicr.org
SUMMARY:Curso FVOL202: Diseño Fotovoltaico avanzado y el NEC (Sistemas Interactivos) - en línea
DESCRIPTION:Inscríbase aquí \nPrograma
URL:https://ciemicr.org/eventosrefresh_css/curso-fvol202-diseno-fotovoltaico-avanzado-y-el-nec-sistemas-interactivos-en-linea-5-3/
LOCATION:Virtual\, Costa Rica
CATEGORIES:Capacitaciones
ATTACH;FMTTYPE=image/jpeg:https://ciemicr.org/wp-content/uploads/2024/01/CIEMI2024-FVO202.jpg
END:VEVENT
BEGIN:VEVENT
DTSTART;TZID=America/Costa_Rica:20240224T080000
DTEND;TZID=America/Costa_Rica:20240224T170000
DTSTAMP:20260423T210220
CREATED:20240118T155948Z
LAST-MODIFIED:20240118T202739Z
UID:10000775-1708761600-1708794000@ciemicr.org
SUMMARY:Curso Actualización de requerimientos de diseño e inspección para instalaciones eléctricas residenciales
DESCRIPTION:Inscríbase aquí \nPrograma
URL:https://ciemicr.org/eventosrefresh_css/curso-actualizacion-de-requerimientos-de-diseno-e-inspeccion-para-instalaciones-electricas-residenciales-3/
LOCATION:CCCIEMI\, CIEMI\, CIEMI\, Costa Rica
CATEGORIES:Capacitaciones
ATTACH;FMTTYPE=image/jpeg:https://ciemicr.org/wp-content/uploads/2024/01/Curso-Actualizacion-requerimientos.jpg
END:VEVENT
BEGIN:VEVENT
DTSTART;TZID=America/Costa_Rica:20240224T080000
DTEND;TZID=America/Costa_Rica:20240224T170000
DTSTAMP:20260423T210220
CREATED:20240118T155948Z
LAST-MODIFIED:20240118T155948Z
UID:10001849-1708761600-1708794000@ciemicr.org
SUMMARY:Curso Actualización de requerimientos de diseño e inspección para instalaciones eléctricas residenciales
DESCRIPTION:Inscríbase aquí \nPrograma
URL:https://ciemicr.org/eventosrefresh_css/curso-actualizacion-de-requerimientos-de-diseno-e-inspeccion-para-instalaciones-electricas-residenciales-3-2/
LOCATION:CCCIEMI\, CIEMI\, CIEMI\, Costa Rica
CATEGORIES:Capacitaciones
ATTACH;FMTTYPE=image/jpeg:https://ciemicr.org/wp-content/uploads/2024/01/Curso-Actualizacion-requerimientos.jpg
END:VEVENT
BEGIN:VEVENT
DTSTART;TZID=America/Costa_Rica:20240224T080000
DTEND;TZID=America/Costa_Rica:20240224T170000
DTSTAMP:20260423T210220
CREATED:20240118T155948Z
LAST-MODIFIED:20240118T155948Z
UID:10002267-1708761600-1708794000@ciemicr.org
SUMMARY:Curso Actualización de requerimientos de diseño e inspección para instalaciones eléctricas residenciales
DESCRIPTION:Inscríbase aquí \nPrograma
URL:https://ciemicr.org/eventosrefresh_css/curso-actualizacion-de-requerimientos-de-diseno-e-inspeccion-para-instalaciones-electricas-residenciales-3-3/
LOCATION:CCCIEMI\, CIEMI\, CIEMI\, Costa Rica
CATEGORIES:Capacitaciones
ATTACH;FMTTYPE=image/jpeg:https://ciemicr.org/wp-content/uploads/2024/01/Curso-Actualizacion-requerimientos.jpg
END:VEVENT
BEGIN:VEVENT
DTSTART;TZID=America/Costa_Rica:20240219T180000
DTEND;TZID=America/Costa_Rica:20240219T210000
DTSTAMP:20260423T210220
CREATED:20240111T203347Z
LAST-MODIFIED:20240117T214906Z
UID:10000771-1708365600-1708376400@ciemicr.org
SUMMARY:Curso CAPDEE M1: Normativa Vigente y Código Eléctrico (NEC)
DESCRIPTION:Inscríbase aquí \nPrograma
URL:https://ciemicr.org/eventosrefresh_css/curso-capdee-m1-normativa-vigente-y-codigo-electrico-nec-copy/
LOCATION:Virtual\, Costa Rica
CATEGORIES:Capacitaciones
ATTACH;FMTTYPE=image/jpeg:https://ciemicr.org/wp-content/uploads/2024/01/Curso-CAPDEE-M1-Normativa-Vigente-y-Codigo-Electrico-NEC.jpg
END:VEVENT
BEGIN:VEVENT
DTSTART;TZID=America/Costa_Rica:20240219T180000
DTEND;TZID=America/Costa_Rica:20240219T210000
DTSTAMP:20260423T210220
CREATED:20240111T203347Z
LAST-MODIFIED:20240111T203347Z
UID:10001845-1708365600-1708376400@ciemicr.org
SUMMARY:Curso CAPDEE M1: Normativa Vigente y Código Eléctrico (NEC)
DESCRIPTION:Inscríbase aquí \nPrograma
URL:https://ciemicr.org/eventosrefresh_css/curso-capdee-m1-normativa-vigente-y-codigo-electrico-nec-copy-2/
LOCATION:Virtual\, Costa Rica
CATEGORIES:Capacitaciones
ATTACH;FMTTYPE=image/jpeg:https://ciemicr.org/wp-content/uploads/2024/01/Curso-CAPDEE-M1-Normativa-Vigente-y-Codigo-Electrico-NEC.jpg
END:VEVENT
BEGIN:VEVENT
DTSTART;TZID=America/Costa_Rica:20240219T180000
DTEND;TZID=America/Costa_Rica:20240219T210000
DTSTAMP:20260423T210220
CREATED:20240111T203347Z
LAST-MODIFIED:20240111T203347Z
UID:10002263-1708365600-1708376400@ciemicr.org
SUMMARY:Curso CAPDEE M1: Normativa Vigente y Código Eléctrico (NEC)
DESCRIPTION:Inscríbase aquí \nPrograma
URL:https://ciemicr.org/eventosrefresh_css/curso-capdee-m1-normativa-vigente-y-codigo-electrico-nec-copy-3/
LOCATION:Virtual\, Costa Rica
CATEGORIES:Capacitaciones
ATTACH;FMTTYPE=image/jpeg:https://ciemicr.org/wp-content/uploads/2024/01/Curso-CAPDEE-M1-Normativa-Vigente-y-Codigo-Electrico-NEC.jpg
END:VEVENT
BEGIN:VEVENT
DTSTART;TZID=America/Costa_Rica:20240215T180000
DTEND;TZID=America/Costa_Rica:20240215T210000
DTSTAMP:20260423T210220
CREATED:20231120T195939Z
LAST-MODIFIED:20231206T182238Z
UID:10000742-1708020000-1708030800@ciemicr.org
SUMMARY:Curso Verificación de Instalaciones Eléctricas
DESCRIPTION:Inscríbase aquí \nPrograma
URL:https://ciemicr.org/eventosrefresh_css/curso-verificacion-de-instalaciones-electricas-2/
LOCATION:Virtual\, Costa Rica
CATEGORIES:Capacitaciones
ATTACH;FMTTYPE=image/jpeg:https://ciemicr.org/wp-content/uploads/2023/11/Curso-Verificacion-de-Instalaciones-Electricas-1.jpg
END:VEVENT
BEGIN:VEVENT
DTSTART;TZID=America/Costa_Rica:20240215T180000
DTEND;TZID=America/Costa_Rica:20240215T210000
DTSTAMP:20260423T210220
CREATED:20231120T195939Z
LAST-MODIFIED:20231120T195939Z
UID:10001823-1708020000-1708030800@ciemicr.org
SUMMARY:Curso Verificación de Instalaciones Eléctricas
DESCRIPTION:Inscríbase aquí \nPrograma
URL:https://ciemicr.org/eventosrefresh_css/curso-verificacion-de-instalaciones-electricas-2-2/
LOCATION:Virtual\, Costa Rica
CATEGORIES:Capacitaciones
ATTACH;FMTTYPE=image/jpeg:https://ciemicr.org/wp-content/uploads/2023/11/Curso-Verificacion-de-Instalaciones-Electricas-1.jpg
END:VEVENT
END:VCALENDAR