BEGIN:VCALENDAR
VERSION:2.0
PRODID:-//CIEMI - ECPv6.15.13.1//NONSGML v1.0//EN
CALSCALE:GREGORIAN
METHOD:PUBLISH
X-WR-CALNAME:CIEMI
X-ORIGINAL-URL:https://ciemicr.org
X-WR-CALDESC:Eventos para CIEMI
REFRESH-INTERVAL;VALUE=DURATION:PT1H
X-Robots-Tag:noindex
X-PUBLISHED-TTL:PT1H
BEGIN:VTIMEZONE
TZID:America/Costa_Rica
BEGIN:STANDARD
TZOFFSETFROM:-0600
TZOFFSETTO:-0600
TZNAME:CST
DTSTART:20230101T000000
END:STANDARD
END:VTIMEZONE
BEGIN:VEVENT
DTSTART;TZID=America/Costa_Rica:20240226T080000
DTEND;TZID=America/Costa_Rica:20240226T080000
DTSTAMP:20260423T234741
CREATED:20240124T165319Z
LAST-MODIFIED:20240124T165319Z
UID:10001850-1708934400-1708934400@ciemicr.org
SUMMARY:Curso FVOL202: Diseño Fotovoltaico avanzado y el NEC (Sistemas Interactivos) - en línea
DESCRIPTION:Inscríbase aquí \nPrograma
URL:https://ciemicr.org/eventosrefresh_css/curso-fvol202-diseno-fotovoltaico-avanzado-y-el-nec-sistemas-interactivos-en-linea-5-2/
LOCATION:Virtual\, Costa Rica
CATEGORIES:Capacitaciones
ATTACH;FMTTYPE=image/jpeg:https://ciemicr.org/wp-content/uploads/2024/01/CIEMI2024-FVO202.jpg
END:VEVENT
BEGIN:VEVENT
DTSTART;TZID=America/Costa_Rica:20240226T080000
DTEND;TZID=America/Costa_Rica:20240226T080000
DTSTAMP:20260423T234741
CREATED:20240124T165319Z
LAST-MODIFIED:20240124T165319Z
UID:10002268-1708934400-1708934400@ciemicr.org
SUMMARY:Curso FVOL202: Diseño Fotovoltaico avanzado y el NEC (Sistemas Interactivos) - en línea
DESCRIPTION:Inscríbase aquí \nPrograma
URL:https://ciemicr.org/eventosrefresh_css/curso-fvol202-diseno-fotovoltaico-avanzado-y-el-nec-sistemas-interactivos-en-linea-5-3/
LOCATION:Virtual\, Costa Rica
CATEGORIES:Capacitaciones
ATTACH;FMTTYPE=image/jpeg:https://ciemicr.org/wp-content/uploads/2024/01/CIEMI2024-FVO202.jpg
END:VEVENT
BEGIN:VEVENT
DTSTART;TZID=America/Costa_Rica:20240224T080000
DTEND;TZID=America/Costa_Rica:20240224T170000
DTSTAMP:20260423T234741
CREATED:20240118T155948Z
LAST-MODIFIED:20240118T202739Z
UID:10000775-1708761600-1708794000@ciemicr.org
SUMMARY:Curso Actualización de requerimientos de diseño e inspección para instalaciones eléctricas residenciales
DESCRIPTION:Inscríbase aquí \nPrograma
URL:https://ciemicr.org/eventosrefresh_css/curso-actualizacion-de-requerimientos-de-diseno-e-inspeccion-para-instalaciones-electricas-residenciales-3/
LOCATION:CCCIEMI\, CIEMI\, CIEMI\, Costa Rica
CATEGORIES:Capacitaciones
ATTACH;FMTTYPE=image/jpeg:https://ciemicr.org/wp-content/uploads/2024/01/Curso-Actualizacion-requerimientos.jpg
END:VEVENT
BEGIN:VEVENT
DTSTART;TZID=America/Costa_Rica:20240224T080000
DTEND;TZID=America/Costa_Rica:20240224T170000
DTSTAMP:20260423T234741
CREATED:20240118T155948Z
LAST-MODIFIED:20240118T155948Z
UID:10001849-1708761600-1708794000@ciemicr.org
SUMMARY:Curso Actualización de requerimientos de diseño e inspección para instalaciones eléctricas residenciales
DESCRIPTION:Inscríbase aquí \nPrograma
URL:https://ciemicr.org/eventosrefresh_css/curso-actualizacion-de-requerimientos-de-diseno-e-inspeccion-para-instalaciones-electricas-residenciales-3-2/
LOCATION:CCCIEMI\, CIEMI\, CIEMI\, Costa Rica
CATEGORIES:Capacitaciones
ATTACH;FMTTYPE=image/jpeg:https://ciemicr.org/wp-content/uploads/2024/01/Curso-Actualizacion-requerimientos.jpg
END:VEVENT
BEGIN:VEVENT
DTSTART;TZID=America/Costa_Rica:20240224T080000
DTEND;TZID=America/Costa_Rica:20240224T170000
DTSTAMP:20260423T234741
CREATED:20240118T155948Z
LAST-MODIFIED:20240118T155948Z
UID:10002267-1708761600-1708794000@ciemicr.org
SUMMARY:Curso Actualización de requerimientos de diseño e inspección para instalaciones eléctricas residenciales
DESCRIPTION:Inscríbase aquí \nPrograma
URL:https://ciemicr.org/eventosrefresh_css/curso-actualizacion-de-requerimientos-de-diseno-e-inspeccion-para-instalaciones-electricas-residenciales-3-3/
LOCATION:CCCIEMI\, CIEMI\, CIEMI\, Costa Rica
CATEGORIES:Capacitaciones
ATTACH;FMTTYPE=image/jpeg:https://ciemicr.org/wp-content/uploads/2024/01/Curso-Actualizacion-requerimientos.jpg
END:VEVENT
BEGIN:VEVENT
DTSTART;TZID=America/Costa_Rica:20240219T180000
DTEND;TZID=America/Costa_Rica:20240219T210000
DTSTAMP:20260423T234741
CREATED:20240111T203347Z
LAST-MODIFIED:20240117T214906Z
UID:10000771-1708365600-1708376400@ciemicr.org
SUMMARY:Curso CAPDEE M1: Normativa Vigente y Código Eléctrico (NEC)
DESCRIPTION:Inscríbase aquí \nPrograma
URL:https://ciemicr.org/eventosrefresh_css/curso-capdee-m1-normativa-vigente-y-codigo-electrico-nec-copy/
LOCATION:Virtual\, Costa Rica
CATEGORIES:Capacitaciones
ATTACH;FMTTYPE=image/jpeg:https://ciemicr.org/wp-content/uploads/2024/01/Curso-CAPDEE-M1-Normativa-Vigente-y-Codigo-Electrico-NEC.jpg
END:VEVENT
BEGIN:VEVENT
DTSTART;TZID=America/Costa_Rica:20240219T180000
DTEND;TZID=America/Costa_Rica:20240219T210000
DTSTAMP:20260423T234741
CREATED:20240111T203347Z
LAST-MODIFIED:20240111T203347Z
UID:10001845-1708365600-1708376400@ciemicr.org
SUMMARY:Curso CAPDEE M1: Normativa Vigente y Código Eléctrico (NEC)
DESCRIPTION:Inscríbase aquí \nPrograma
URL:https://ciemicr.org/eventosrefresh_css/curso-capdee-m1-normativa-vigente-y-codigo-electrico-nec-copy-2/
LOCATION:Virtual\, Costa Rica
CATEGORIES:Capacitaciones
ATTACH;FMTTYPE=image/jpeg:https://ciemicr.org/wp-content/uploads/2024/01/Curso-CAPDEE-M1-Normativa-Vigente-y-Codigo-Electrico-NEC.jpg
END:VEVENT
BEGIN:VEVENT
DTSTART;TZID=America/Costa_Rica:20240219T180000
DTEND;TZID=America/Costa_Rica:20240219T210000
DTSTAMP:20260423T234741
CREATED:20240111T203347Z
LAST-MODIFIED:20240111T203347Z
UID:10002263-1708365600-1708376400@ciemicr.org
SUMMARY:Curso CAPDEE M1: Normativa Vigente y Código Eléctrico (NEC)
DESCRIPTION:Inscríbase aquí \nPrograma
URL:https://ciemicr.org/eventosrefresh_css/curso-capdee-m1-normativa-vigente-y-codigo-electrico-nec-copy-3/
LOCATION:Virtual\, Costa Rica
CATEGORIES:Capacitaciones
ATTACH;FMTTYPE=image/jpeg:https://ciemicr.org/wp-content/uploads/2024/01/Curso-CAPDEE-M1-Normativa-Vigente-y-Codigo-Electrico-NEC.jpg
END:VEVENT
BEGIN:VEVENT
DTSTART;TZID=America/Costa_Rica:20240215T180000
DTEND;TZID=America/Costa_Rica:20240215T210000
DTSTAMP:20260423T234741
CREATED:20231120T195939Z
LAST-MODIFIED:20231206T182238Z
UID:10000742-1708020000-1708030800@ciemicr.org
SUMMARY:Curso Verificación de Instalaciones Eléctricas
DESCRIPTION:Inscríbase aquí \nPrograma
URL:https://ciemicr.org/eventosrefresh_css/curso-verificacion-de-instalaciones-electricas-2/
LOCATION:Virtual\, Costa Rica
CATEGORIES:Capacitaciones
ATTACH;FMTTYPE=image/jpeg:https://ciemicr.org/wp-content/uploads/2023/11/Curso-Verificacion-de-Instalaciones-Electricas-1.jpg
END:VEVENT
BEGIN:VEVENT
DTSTART;TZID=America/Costa_Rica:20240215T180000
DTEND;TZID=America/Costa_Rica:20240215T210000
DTSTAMP:20260423T234741
CREATED:20231120T195939Z
LAST-MODIFIED:20231120T195939Z
UID:10001823-1708020000-1708030800@ciemicr.org
SUMMARY:Curso Verificación de Instalaciones Eléctricas
DESCRIPTION:Inscríbase aquí \nPrograma
URL:https://ciemicr.org/eventosrefresh_css/curso-verificacion-de-instalaciones-electricas-2-2/
LOCATION:Virtual\, Costa Rica
CATEGORIES:Capacitaciones
ATTACH;FMTTYPE=image/jpeg:https://ciemicr.org/wp-content/uploads/2023/11/Curso-Verificacion-de-Instalaciones-Electricas-1.jpg
END:VEVENT
BEGIN:VEVENT
DTSTART;TZID=America/Costa_Rica:20240215T180000
DTEND;TZID=America/Costa_Rica:20240215T210000
DTSTAMP:20260423T234741
CREATED:20231120T195939Z
LAST-MODIFIED:20231120T195939Z
UID:10002241-1708020000-1708030800@ciemicr.org
SUMMARY:Curso Verificación de Instalaciones Eléctricas
DESCRIPTION:Inscríbase aquí \nPrograma
URL:https://ciemicr.org/eventosrefresh_css/curso-verificacion-de-instalaciones-electricas-2-3/
LOCATION:Virtual\, Costa Rica
CATEGORIES:Capacitaciones
ATTACH;FMTTYPE=image/jpeg:https://ciemicr.org/wp-content/uploads/2023/11/Curso-Verificacion-de-Instalaciones-Electricas-1.jpg
END:VEVENT
BEGIN:VEVENT
DTSTART;TZID=America/Costa_Rica:20240207T180000
DTEND;TZID=America/Costa_Rica:20240207T210000
DTSTAMP:20260423T234741
CREATED:20231120T144300Z
LAST-MODIFIED:20240111T203200Z
UID:10000736-1707328800-1707339600@ciemicr.org
SUMMARY:Curso CAPDEE M1: Normativa Vigente y Código Eléctrico (NEC)
DESCRIPTION:Inscríbase aquí \nPrograma
URL:https://ciemicr.org/eventosrefresh_css/curso-capdee-m1-normativa-vigente-y-codigo-electrico-nec-3/
LOCATION:Virtual\, Costa Rica
CATEGORIES:Capacitaciones
ATTACH;FMTTYPE=image/jpeg:https://ciemicr.org/wp-content/uploads/2023/11/CAPDEE-M1-Normativa-Vigente-y-Codigo-Electrico-NEC-5.jpg
END:VEVENT
BEGIN:VEVENT
DTSTART;TZID=America/Costa_Rica:20240207T180000
DTEND;TZID=America/Costa_Rica:20240207T210000
DTSTAMP:20260423T234741
CREATED:20231120T144300Z
LAST-MODIFIED:20231120T144300Z
UID:10001817-1707328800-1707339600@ciemicr.org
SUMMARY:Curso CAPDEE M1: Normativa Vigente y Código Eléctrico (NEC)
DESCRIPTION:Inscríbase aquí \nPrograma
URL:https://ciemicr.org/eventosrefresh_css/curso-capdee-m1-normativa-vigente-y-codigo-electrico-nec-3-3/
LOCATION:Virtual\, Costa Rica
CATEGORIES:Capacitaciones
ATTACH;FMTTYPE=image/jpeg:https://ciemicr.org/wp-content/uploads/2023/11/CAPDEE-M1-Normativa-Vigente-y-Codigo-Electrico-NEC-5.jpg
END:VEVENT
BEGIN:VEVENT
DTSTART;TZID=America/Costa_Rica:20240207T180000
DTEND;TZID=America/Costa_Rica:20240207T210000
DTSTAMP:20260423T234741
CREATED:20231120T144300Z
LAST-MODIFIED:20231120T144300Z
UID:10002235-1707328800-1707339600@ciemicr.org
SUMMARY:Curso CAPDEE M1: Normativa Vigente y Código Eléctrico (NEC)
DESCRIPTION:Inscríbase aquí \nPrograma
URL:https://ciemicr.org/eventosrefresh_css/curso-capdee-m1-normativa-vigente-y-codigo-electrico-nec-3-4/
LOCATION:Virtual\, Costa Rica
CATEGORIES:Capacitaciones
ATTACH;FMTTYPE=image/jpeg:https://ciemicr.org/wp-content/uploads/2023/11/CAPDEE-M1-Normativa-Vigente-y-Codigo-Electrico-NEC-5.jpg
END:VEVENT
BEGIN:VEVENT
DTSTART;TZID=America/Costa_Rica:20240129T180000
DTEND;TZID=America/Costa_Rica:20240129T200000
DTSTAMP:20260423T234741
CREATED:20231128T004332Z
LAST-MODIFIED:20231206T164051Z
UID:10000759-1706551200-1706558400@ciemicr.org
SUMMARY:Curso Sistematización del Proceso de Innovación en la Empresa
DESCRIPTION:Inscríbase aquí \nPrograma
URL:https://ciemicr.org/eventosrefresh_css/curso-sistematizacion-del-proceso-de-innovacion-en-la-empresa-2/
LOCATION:Virtual\, Costa Rica
CATEGORIES:Capacitaciones
ATTACH;FMTTYPE=image/jpeg:https://ciemicr.org/wp-content/uploads/2023/11/Sistematizacion-del-Proceso-de-Innovacion-en-la-Empresa-2.jpg
END:VEVENT
BEGIN:VEVENT
DTSTART;TZID=America/Costa_Rica:20240129T180000
DTEND;TZID=America/Costa_Rica:20240129T200000
DTSTAMP:20260423T234741
CREATED:20231128T004332Z
LAST-MODIFIED:20231128T004332Z
UID:10001836-1706551200-1706558400@ciemicr.org
SUMMARY:Curso Sistematización del Proceso de Innovación en la Empresa
DESCRIPTION:Inscríbase aquí \nPrograma
URL:https://ciemicr.org/eventosrefresh_css/curso-sistematizacion-del-proceso-de-innovacion-en-la-empresa-2-2/
LOCATION:Virtual\, Costa Rica
CATEGORIES:Capacitaciones
ATTACH;FMTTYPE=image/jpeg:https://ciemicr.org/wp-content/uploads/2023/11/Sistematizacion-del-Proceso-de-Innovacion-en-la-Empresa-2.jpg
END:VEVENT
BEGIN:VEVENT
DTSTART;TZID=America/Costa_Rica:20240129T180000
DTEND;TZID=America/Costa_Rica:20240129T200000
DTSTAMP:20260423T234741
CREATED:20231128T004332Z
LAST-MODIFIED:20231128T004332Z
UID:10002254-1706551200-1706558400@ciemicr.org
SUMMARY:Curso Sistematización del Proceso de Innovación en la Empresa
DESCRIPTION:Inscríbase aquí \nPrograma
URL:https://ciemicr.org/eventosrefresh_css/curso-sistematizacion-del-proceso-de-innovacion-en-la-empresa-2-3/
LOCATION:Virtual\, Costa Rica
CATEGORIES:Capacitaciones
ATTACH;FMTTYPE=image/jpeg:https://ciemicr.org/wp-content/uploads/2023/11/Sistematizacion-del-Proceso-de-Innovacion-en-la-Empresa-2.jpg
END:VEVENT
BEGIN:VEVENT
DTSTART;TZID=America/Costa_Rica:20240129T170000
DTEND;TZID=America/Costa_Rica:20240129T210000
DTSTAMP:20260423T234741
CREATED:20231129T223931Z
LAST-MODIFIED:20231207T201348Z
UID:10000764-1706547600-1706562000@ciemicr.org
SUMMARY:Curso Actualización de requerimientos de diseño e inspección para instalaciones eléctricas residenciales
DESCRIPTION:Inscríbase aquí \nPrograma
URL:https://ciemicr.org/eventosrefresh_css/curso-actualizacion-de-requerimientos-de-diseno-e-inspeccion-para-instalaciones-electricas-residenciales-2/
LOCATION:Virtual\, Costa Rica
CATEGORIES:Capacitaciones
ATTACH;FMTTYPE=image/jpeg:https://ciemicr.org/wp-content/uploads/2023/11/Curso-Actualizacion-de-requerimientos-de-diseno-e-inspeccion-para-instalaciones-electricas-residenciales-02-2.jpg
END:VEVENT
BEGIN:VEVENT
DTSTART;TZID=America/Costa_Rica:20240129T170000
DTEND;TZID=America/Costa_Rica:20240129T210000
DTSTAMP:20260423T234741
CREATED:20231129T223931Z
LAST-MODIFIED:20231129T223931Z
UID:10001840-1706547600-1706562000@ciemicr.org
SUMMARY:Curso Actualización de requerimientos de diseño e inspección para instalaciones eléctricas residenciales
DESCRIPTION:Inscríbase aquí \nPrograma
URL:https://ciemicr.org/eventosrefresh_css/curso-actualizacion-de-requerimientos-de-diseno-e-inspeccion-para-instalaciones-electricas-residenciales-2-2/
LOCATION:Virtual\, Costa Rica
CATEGORIES:Capacitaciones
ATTACH;FMTTYPE=image/jpeg:https://ciemicr.org/wp-content/uploads/2023/11/Curso-Actualizacion-de-requerimientos-de-diseno-e-inspeccion-para-instalaciones-electricas-residenciales-02-2.jpg
END:VEVENT
BEGIN:VEVENT
DTSTART;TZID=America/Costa_Rica:20240129T170000
DTEND;TZID=America/Costa_Rica:20240129T210000
DTSTAMP:20260423T234741
CREATED:20231129T223931Z
LAST-MODIFIED:20231129T223931Z
UID:10002258-1706547600-1706562000@ciemicr.org
SUMMARY:Curso Actualización de requerimientos de diseño e inspección para instalaciones eléctricas residenciales
DESCRIPTION:Inscríbase aquí \nPrograma
URL:https://ciemicr.org/eventosrefresh_css/curso-actualizacion-de-requerimientos-de-diseno-e-inspeccion-para-instalaciones-electricas-residenciales-2-3/
LOCATION:Virtual\, Costa Rica
CATEGORIES:Capacitaciones
ATTACH;FMTTYPE=image/jpeg:https://ciemicr.org/wp-content/uploads/2023/11/Curso-Actualizacion-de-requerimientos-de-diseno-e-inspeccion-para-instalaciones-electricas-residenciales-02-2.jpg
END:VEVENT
BEGIN:VEVENT
DTSTART;TZID=America/Costa_Rica:20240125T180000
DTEND;TZID=America/Costa_Rica:20240125T210000
DTSTAMP:20260423T234741
CREATED:20231128T000307Z
LAST-MODIFIED:20231214T231904Z
UID:10000749-1706205600-1706216400@ciemicr.org
SUMMARY:Curso Diseño y construcción de redes eléctricas de distribución
DESCRIPTION:Inscríbase aquí \nPrograma
URL:https://ciemicr.org/eventosrefresh_css/curso-diseno-y-construccion-de-redes-electricas-de-distribucion/
LOCATION:Virtual\, Costa Rica
CATEGORIES:Capacitaciones
ATTACH;FMTTYPE=image/jpeg:https://ciemicr.org/wp-content/uploads/2023/11/Diseno-y-construccion-de-redes-electricas-de-distribucion-3.jpg
END:VEVENT
BEGIN:VEVENT
DTSTART;TZID=America/Costa_Rica:20240125T180000
DTEND;TZID=America/Costa_Rica:20240125T210000
DTSTAMP:20260423T234741
CREATED:20231128T000307Z
LAST-MODIFIED:20231128T000307Z
UID:10001828-1706205600-1706216400@ciemicr.org
SUMMARY:Curso Diseño y construcción de redes eléctricas de distribución
DESCRIPTION:Inscríbase aquí \nPrograma
URL:https://ciemicr.org/eventosrefresh_css/curso-diseno-y-construccion-de-redes-electricas-de-distribucion-2/
LOCATION:Virtual\, Costa Rica
CATEGORIES:Capacitaciones
ATTACH;FMTTYPE=image/jpeg:https://ciemicr.org/wp-content/uploads/2023/11/Diseno-y-construccion-de-redes-electricas-de-distribucion-3.jpg
END:VEVENT
BEGIN:VEVENT
DTSTART;TZID=America/Costa_Rica:20240125T180000
DTEND;TZID=America/Costa_Rica:20240125T210000
DTSTAMP:20260423T234741
CREATED:20231128T000307Z
LAST-MODIFIED:20231128T000307Z
UID:10002246-1706205600-1706216400@ciemicr.org
SUMMARY:Curso Diseño y construcción de redes eléctricas de distribución
DESCRIPTION:Inscríbase aquí \nPrograma
URL:https://ciemicr.org/eventosrefresh_css/curso-diseno-y-construccion-de-redes-electricas-de-distribucion-3/
LOCATION:Virtual\, Costa Rica
CATEGORIES:Capacitaciones
ATTACH;FMTTYPE=image/jpeg:https://ciemicr.org/wp-content/uploads/2023/11/Diseno-y-construccion-de-redes-electricas-de-distribucion-3.jpg
END:VEVENT
BEGIN:VEVENT
DTSTART;TZID=America/Costa_Rica:20240123T180000
DTEND;TZID=America/Costa_Rica:20240123T210000
DTSTAMP:20260423T234741
CREATED:20231128T002534Z
LAST-MODIFIED:20231211T170718Z
UID:10000753-1706032800-1706043600@ciemicr.org
SUMMARY:Curso Diseño de Sistemas Mecánicos para piscinas
DESCRIPTION:Inscríbase aquí \nPrograma
URL:https://ciemicr.org/eventosrefresh_css/curso-diseno-mecanico-de-piscinas/
LOCATION:Virtual\, Costa Rica
CATEGORIES:Capacitaciones
ATTACH;FMTTYPE=image/jpeg:https://ciemicr.org/wp-content/uploads/2023/11/Diseno-mecanico-de-piscinas-3.jpg
END:VEVENT
BEGIN:VEVENT
DTSTART;TZID=America/Costa_Rica:20240123T180000
DTEND;TZID=America/Costa_Rica:20240123T210000
DTSTAMP:20260423T234741
CREATED:20231128T002534Z
LAST-MODIFIED:20231128T002534Z
UID:10001831-1706032800-1706043600@ciemicr.org
SUMMARY:Curso Diseño de Sistemas Mecánicos para piscinas
DESCRIPTION:Inscríbase aquí \nPrograma
URL:https://ciemicr.org/eventosrefresh_css/curso-diseno-mecanico-de-piscinas-2/
LOCATION:Virtual\, Costa Rica
CATEGORIES:Capacitaciones
ATTACH;FMTTYPE=image/jpeg:https://ciemicr.org/wp-content/uploads/2023/11/Diseno-mecanico-de-piscinas-3.jpg
END:VEVENT
BEGIN:VEVENT
DTSTART;TZID=America/Costa_Rica:20240123T180000
DTEND;TZID=America/Costa_Rica:20240123T210000
DTSTAMP:20260423T234741
CREATED:20231128T002534Z
LAST-MODIFIED:20231128T002534Z
UID:10002249-1706032800-1706043600@ciemicr.org
SUMMARY:Curso Diseño de Sistemas Mecánicos para piscinas
DESCRIPTION:Inscríbase aquí \nPrograma
URL:https://ciemicr.org/eventosrefresh_css/curso-diseno-mecanico-de-piscinas-3/
LOCATION:Virtual\, Costa Rica
CATEGORIES:Capacitaciones
ATTACH;FMTTYPE=image/jpeg:https://ciemicr.org/wp-content/uploads/2023/11/Diseno-mecanico-de-piscinas-3.jpg
END:VEVENT
BEGIN:VEVENT
DTSTART;TZID=America/Costa_Rica:20240122T180000
DTEND;TZID=America/Costa_Rica:20240122T210000
DTSTAMP:20260423T234741
CREATED:20231130T200759Z
LAST-MODIFIED:20231205T205132Z
UID:10000765-1705946400-1705957200@ciemicr.org
SUMMARY:Curso CAPDEE-M2 Diseño eléctrico residencial\, comercial e industrial
DESCRIPTION:Inscríbase aquí \nPrograma
URL:https://ciemicr.org/eventosrefresh_css/curso-capdee-m2-diseno-electrico-residencial-comercial-e-industrial-6/
LOCATION:Virtual\, Costa Rica
CATEGORIES:Capacitaciones
ATTACH;FMTTYPE=image/jpeg:https://ciemicr.org/wp-content/uploads/2023/11/Curso-CAPDEE-M2-Diseno-electrico-residencial-comercial-e-industrial-b.jpg
END:VEVENT
BEGIN:VEVENT
DTSTART;TZID=America/Costa_Rica:20240122T180000
DTEND;TZID=America/Costa_Rica:20240122T210000
DTSTAMP:20260423T234741
CREATED:20231130T200759Z
LAST-MODIFIED:20231130T200759Z
UID:10001841-1705946400-1705957200@ciemicr.org
SUMMARY:Curso CAPDEE-M2 Diseño eléctrico residencial\, comercial e industrial
DESCRIPTION:Inscríbase aquí \nPrograma
URL:https://ciemicr.org/eventosrefresh_css/curso-capdee-m2-diseno-electrico-residencial-comercial-e-industrial-6-2/
LOCATION:Virtual\, Costa Rica
CATEGORIES:Capacitaciones
ATTACH;FMTTYPE=image/jpeg:https://ciemicr.org/wp-content/uploads/2023/11/Curso-CAPDEE-M2-Diseno-electrico-residencial-comercial-e-industrial-b.jpg
END:VEVENT
BEGIN:VEVENT
DTSTART;TZID=America/Costa_Rica:20240122T180000
DTEND;TZID=America/Costa_Rica:20240122T210000
DTSTAMP:20260423T234741
CREATED:20231130T200759Z
LAST-MODIFIED:20231130T200759Z
UID:10002259-1705946400-1705957200@ciemicr.org
SUMMARY:Curso CAPDEE-M2 Diseño eléctrico residencial\, comercial e industrial
DESCRIPTION:Inscríbase aquí \nPrograma
URL:https://ciemicr.org/eventosrefresh_css/curso-capdee-m2-diseno-electrico-residencial-comercial-e-industrial-6-3/
LOCATION:Virtual\, Costa Rica
CATEGORIES:Capacitaciones
ATTACH;FMTTYPE=image/jpeg:https://ciemicr.org/wp-content/uploads/2023/11/Curso-CAPDEE-M2-Diseno-electrico-residencial-comercial-e-industrial-b.jpg
END:VEVENT
BEGIN:VEVENT
DTSTART;TZID=America/Costa_Rica:20240120T080000
DTEND;TZID=America/Costa_Rica:20240120T170000
DTSTAMP:20260423T234741
CREATED:20231129T204553Z
LAST-MODIFIED:20231212T211832Z
UID:10000763-1705737600-1705770000@ciemicr.org
SUMMARY:Curso Actualización de requerimientos de diseño e inspección para instalaciones eléctricas residenciales
DESCRIPTION:Inscríbase aquí \nPrograma
URL:https://ciemicr.org/eventosrefresh_css/curso-actualizacion-de-requerimientos-de-diseno-e-inspeccion-para-instalaciones-electricas-residenciales/
LOCATION:CCCIEMI\, CIEMI\, CIEMI\, Costa Rica
CATEGORIES:Capacitaciones
ATTACH;FMTTYPE=image/jpeg:https://ciemicr.org/wp-content/uploads/2023/11/Curso-Actualizacion-de-requerimientos-de-diseno-e-inspeccion-para-instalaciones-electricas-residenciales-01-3.jpg
END:VEVENT
END:VCALENDAR