BEGIN:VCALENDAR
VERSION:2.0
PRODID:-//CIEMI - ECPv6.15.13.1//NONSGML v1.0//EN
CALSCALE:GREGORIAN
METHOD:PUBLISH
X-ORIGINAL-URL:https://ciemicr.org
X-WR-CALDESC:Eventos para CIEMI
REFRESH-INTERVAL;VALUE=DURATION:PT1H
X-Robots-Tag:noindex
X-PUBLISHED-TTL:PT1H
BEGIN:VTIMEZONE
TZID:America/Costa_Rica
BEGIN:STANDARD
TZOFFSETFROM:-0600
TZOFFSETTO:-0600
TZNAME:CST
DTSTART:20220101T000000
END:STANDARD
END:VTIMEZONE
BEGIN:VEVENT
DTSTART;TZID=America/Costa_Rica:20231003T180000
DTEND;TZID=America/Costa_Rica:20231003T180000
DTSTAMP:20260424T193606
CREATED:20230920T180142Z
LAST-MODIFIED:20230920T180142Z
UID:10001796-1696356000-1696356000@ciemicr.org
SUMMARY:Actualización de disposiciones con los trámites de proyectos en la CNFL
DESCRIPTION:Regístrese aquí
URL:https://ciemicr.org/eventosrefresh_css/actualizacion-de-criterios-constructivos-para-redes-aereas-y-expansion-del-sistema-138-kv-en-la-ciudad-de-san-jose-3/
LOCATION:CCCIEMI\, CIEMI\, CIEMI\, Costa Rica
CATEGORIES:Eventos
ATTACH;FMTTYPE=image/jpeg:https://ciemicr.org/wp-content/uploads/2023/09/Actualizacion-de-criterios-constructivos-para-redes-aereas-4.jpg
END:VEVENT
BEGIN:VEVENT
DTSTART;TZID=America/Costa_Rica:20231003T180000
DTEND;TZID=America/Costa_Rica:20231003T180000
DTSTAMP:20260424T193606
CREATED:20230920T180142Z
LAST-MODIFIED:20230920T180142Z
UID:10002214-1696356000-1696356000@ciemicr.org
SUMMARY:Actualización de disposiciones con los trámites de proyectos en la CNFL
DESCRIPTION:Regístrese aquí
URL:https://ciemicr.org/eventosrefresh_css/actualizacion-de-criterios-constructivos-para-redes-aereas-y-expansion-del-sistema-138-kv-en-la-ciudad-de-san-jose-4/
LOCATION:CCCIEMI\, CIEMI\, CIEMI\, Costa Rica
CATEGORIES:Eventos
ATTACH;FMTTYPE=image/jpeg:https://ciemicr.org/wp-content/uploads/2023/09/Actualizacion-de-criterios-constructivos-para-redes-aereas-4.jpg
END:VEVENT
BEGIN:VEVENT
DTSTART;TZID=America/Costa_Rica:20231003T180000
DTEND;TZID=America/Costa_Rica:20231003T180000
DTSTAMP:20260424T193606
CREATED:20230906T193529Z
LAST-MODIFIED:20230919T003426Z
UID:10000706-1696356000-1696356000@ciemicr.org
SUMMARY:Conferencia "Aplicaciones de Plantas de Agua Helada y Modelado"
DESCRIPTION:Regístrese aquí
URL:https://ciemicr.org/eventosrefresh_css/conferencia-aplicaciones-de-plantas-de-agua-helada-y-modelado/
LOCATION:CCCIEMI\, CIEMI\, CIEMI\, Costa Rica
CATEGORIES:Conferencias
ATTACH;FMTTYPE=image/jpeg:https://ciemicr.org/wp-content/uploads/2023/09/Conferencia-Aplicaciones-de-Plantas-de-Agua-Helada-y-Modelado-3.jpg
END:VEVENT
BEGIN:VEVENT
DTSTART;TZID=America/Costa_Rica:20231003T180000
DTEND;TZID=America/Costa_Rica:20231003T180000
DTSTAMP:20260424T193606
CREATED:20230906T193529Z
LAST-MODIFIED:20230906T193529Z
UID:10001793-1696356000-1696356000@ciemicr.org
SUMMARY:Conferencia "Aplicaciones de Plantas de Agua Helada y Modelado"
DESCRIPTION:Regístrese aquí
URL:https://ciemicr.org/eventosrefresh_css/conferencia-aplicaciones-de-plantas-de-agua-helada-y-modelado-3/
LOCATION:CCCIEMI\, CIEMI\, CIEMI\, Costa Rica
CATEGORIES:Conferencias
ATTACH;FMTTYPE=image/jpeg:https://ciemicr.org/wp-content/uploads/2023/09/Conferencia-Aplicaciones-de-Plantas-de-Agua-Helada-y-Modelado-3.jpg
END:VEVENT
BEGIN:VEVENT
DTSTART;TZID=America/Costa_Rica:20231003T180000
DTEND;TZID=America/Costa_Rica:20231003T180000
DTSTAMP:20260424T193606
CREATED:20230906T193529Z
LAST-MODIFIED:20230906T193529Z
UID:10002211-1696356000-1696356000@ciemicr.org
SUMMARY:Conferencia "Aplicaciones de Plantas de Agua Helada y Modelado"
DESCRIPTION:Regístrese aquí
URL:https://ciemicr.org/eventosrefresh_css/conferencia-aplicaciones-de-plantas-de-agua-helada-y-modelado-4/
LOCATION:CCCIEMI\, CIEMI\, CIEMI\, Costa Rica
CATEGORIES:Conferencias
ATTACH;FMTTYPE=image/jpeg:https://ciemicr.org/wp-content/uploads/2023/09/Conferencia-Aplicaciones-de-Plantas-de-Agua-Helada-y-Modelado-3.jpg
END:VEVENT
BEGIN:VEVENT
DTSTART;TZID=America/Costa_Rica:20230928T180000
DTEND;TZID=America/Costa_Rica:20230928T180000
DTSTAMP:20260424T193606
CREATED:20230823T232405Z
LAST-MODIFIED:20230904T220933Z
UID:10000702-1695924000-1695924000@ciemicr.org
SUMMARY:Webinar Sistemas Globalmente Armonizado de Sustancias Químicas
DESCRIPTION:Inscríbase aquí
URL:https://ciemicr.org/eventosrefresh_css/webinar-sistemas-globalmente-armonizado-de-sustancias-quimicas/
LOCATION:Virtual\, Costa Rica
CATEGORIES:Conferencias
ATTACH;FMTTYPE=image/jpeg:https://ciemicr.org/wp-content/uploads/2023/08/Webinar-Sistemas-Globalmente-Armonizado-de-Sustancias-Quimicas-1.jpg
END:VEVENT
BEGIN:VEVENT
DTSTART;TZID=America/Costa_Rica:20230928T180000
DTEND;TZID=America/Costa_Rica:20230928T180000
DTSTAMP:20260424T193606
CREATED:20230823T232405Z
LAST-MODIFIED:20230823T232405Z
UID:10001791-1695924000-1695924000@ciemicr.org
SUMMARY:Webinar Sistemas Globalmente Armonizado de Sustancias Químicas
DESCRIPTION:Inscríbase aquí
URL:https://ciemicr.org/eventosrefresh_css/webinar-sistemas-globalmente-armonizado-de-sustancias-quimicas-3/
LOCATION:Virtual\, Costa Rica
CATEGORIES:Conferencias
ATTACH;FMTTYPE=image/jpeg:https://ciemicr.org/wp-content/uploads/2023/08/Webinar-Sistemas-Globalmente-Armonizado-de-Sustancias-Quimicas-1.jpg
END:VEVENT
BEGIN:VEVENT
DTSTART;TZID=America/Costa_Rica:20230928T180000
DTEND;TZID=America/Costa_Rica:20230928T180000
DTSTAMP:20260424T193606
CREATED:20230823T232405Z
LAST-MODIFIED:20230823T232405Z
UID:10002209-1695924000-1695924000@ciemicr.org
SUMMARY:Webinar Sistemas Globalmente Armonizado de Sustancias Químicas
DESCRIPTION:Inscríbase aquí
URL:https://ciemicr.org/eventosrefresh_css/webinar-sistemas-globalmente-armonizado-de-sustancias-quimicas-4/
LOCATION:Virtual\, Costa Rica
CATEGORIES:Conferencias
ATTACH;FMTTYPE=image/jpeg:https://ciemicr.org/wp-content/uploads/2023/08/Webinar-Sistemas-Globalmente-Armonizado-de-Sustancias-Quimicas-1.jpg
END:VEVENT
BEGIN:VEVENT
DTSTART;TZID=America/Costa_Rica:20230926T180000
DTEND;TZID=America/Costa_Rica:20230926T210000
DTSTAMP:20260424T193606
CREATED:20230823T233014Z
LAST-MODIFIED:20230908T150836Z
UID:10000703-1695751200-1695762000@ciemicr.org
SUMMARY:Curso Cuidados Operacionales de Calderas
DESCRIPTION:Inscríbase aquí \nPrograma
URL:https://ciemicr.org/eventosrefresh_css/curso-cuidados-operacionales-de-calderas/
LOCATION:Virtual\, Costa Rica
CATEGORIES:Capacitaciones
ATTACH;FMTTYPE=image/jpeg:https://ciemicr.org/wp-content/uploads/2023/08/Curso-Cuidados-Operacionales-de-Calderas02-1.jpg
END:VEVENT
BEGIN:VEVENT
DTSTART;TZID=America/Costa_Rica:20230926T180000
DTEND;TZID=America/Costa_Rica:20230926T210000
DTSTAMP:20260424T193606
CREATED:20230823T233014Z
LAST-MODIFIED:20230823T233014Z
UID:10001792-1695751200-1695762000@ciemicr.org
SUMMARY:Curso Cuidados Operacionales de Calderas
DESCRIPTION:Inscríbase aquí \nPrograma
URL:https://ciemicr.org/eventosrefresh_css/curso-cuidados-operacionales-de-calderas-3/
LOCATION:Virtual\, Costa Rica
CATEGORIES:Capacitaciones
ATTACH;FMTTYPE=image/jpeg:https://ciemicr.org/wp-content/uploads/2023/08/Curso-Cuidados-Operacionales-de-Calderas02-1.jpg
END:VEVENT
BEGIN:VEVENT
DTSTART;TZID=America/Costa_Rica:20230926T180000
DTEND;TZID=America/Costa_Rica:20230926T210000
DTSTAMP:20260424T193606
CREATED:20230823T233014Z
LAST-MODIFIED:20230823T233014Z
UID:10002210-1695751200-1695762000@ciemicr.org
SUMMARY:Curso Cuidados Operacionales de Calderas
DESCRIPTION:Inscríbase aquí \nPrograma
URL:https://ciemicr.org/eventosrefresh_css/curso-cuidados-operacionales-de-calderas-4/
LOCATION:Virtual\, Costa Rica
CATEGORIES:Capacitaciones
ATTACH;FMTTYPE=image/jpeg:https://ciemicr.org/wp-content/uploads/2023/08/Curso-Cuidados-Operacionales-de-Calderas02-1.jpg
END:VEVENT
BEGIN:VEVENT
DTSTART;TZID=America/Costa_Rica:20230925T180000
DTEND;TZID=America/Costa_Rica:20230925T180000
DTSTAMP:20260424T193606
CREATED:20230810T200037Z
LAST-MODIFIED:20230911T214335Z
UID:10000699-1695664800-1695664800@ciemicr.org
SUMMARY:Webinar Celdas de Combustible: Método alternativo de energía confiable en centros de datos
DESCRIPTION:Inscríbase aquí
URL:https://ciemicr.org/eventosrefresh_css/webinar-gestion-del-almacenamiento-por-medio-de-celdas-de-combustible/
LOCATION:Virtual\, Costa Rica
CATEGORIES:Conferencias
ATTACH;FMTTYPE=image/jpeg:https://ciemicr.org/wp-content/uploads/2023/08/Celdas-de-Combustible-Metodo-alternativo-de-energia-confiable-en-centros-de-datos-1-1.jpg
END:VEVENT
BEGIN:VEVENT
DTSTART;TZID=America/Costa_Rica:20230925T180000
DTEND;TZID=America/Costa_Rica:20230925T180000
DTSTAMP:20260424T193606
CREATED:20230810T200037Z
LAST-MODIFIED:20230810T200037Z
UID:10001788-1695664800-1695664800@ciemicr.org
SUMMARY:Webinar Celdas de Combustible: Método alternativo de energía confiable en centros de datos
DESCRIPTION:Inscríbase aquí
URL:https://ciemicr.org/eventosrefresh_css/webinar-gestion-del-almacenamiento-por-medio-de-celdas-de-combustible-3/
LOCATION:Virtual\, Costa Rica
CATEGORIES:Conferencias
ATTACH;FMTTYPE=image/jpeg:https://ciemicr.org/wp-content/uploads/2023/08/Celdas-de-Combustible-Metodo-alternativo-de-energia-confiable-en-centros-de-datos-1-1.jpg
END:VEVENT
BEGIN:VEVENT
DTSTART;TZID=America/Costa_Rica:20230925T180000
DTEND;TZID=America/Costa_Rica:20230925T180000
DTSTAMP:20260424T193606
CREATED:20230810T200037Z
LAST-MODIFIED:20230810T200037Z
UID:10002206-1695664800-1695664800@ciemicr.org
SUMMARY:Webinar Celdas de Combustible: Método alternativo de energía confiable en centros de datos
DESCRIPTION:Inscríbase aquí
URL:https://ciemicr.org/eventosrefresh_css/webinar-gestion-del-almacenamiento-por-medio-de-celdas-de-combustible-4/
LOCATION:Virtual\, Costa Rica
CATEGORIES:Conferencias
ATTACH;FMTTYPE=image/jpeg:https://ciemicr.org/wp-content/uploads/2023/08/Celdas-de-Combustible-Metodo-alternativo-de-energia-confiable-en-centros-de-datos-1-1.jpg
END:VEVENT
BEGIN:VEVENT
DTSTART;TZID=America/Costa_Rica:20230923T080000
DTEND;TZID=America/Costa_Rica:20230923T080000
DTSTAMP:20260424T193606
CREATED:20230906T194052Z
LAST-MODIFIED:20230912T192559Z
UID:10000707-1695456000-1695456000@ciemicr.org
SUMMARY:Gira técnica “Sistemas de automatización y monitoreo para riego”
DESCRIPTION:Regístrese aquí
URL:https://ciemicr.org/eventosrefresh_css/gira-tecnica-sistemas-de-automatizacion-y-monitoreo-para-riego/
CATEGORIES:Eventos
ATTACH;FMTTYPE=image/jpeg:https://ciemicr.org/wp-content/uploads/2023/09/Gira-Tecnica-Sistemas-de-automatizacion-y-monitoreo-para-riego.jpg
END:VEVENT
BEGIN:VEVENT
DTSTART;TZID=America/Costa_Rica:20230923T080000
DTEND;TZID=America/Costa_Rica:20230923T080000
DTSTAMP:20260424T193606
CREATED:20230906T194052Z
LAST-MODIFIED:20230906T194052Z
UID:10001794-1695456000-1695456000@ciemicr.org
SUMMARY:Gira técnica “Sistemas de automatización y monitoreo para riego”
DESCRIPTION:Regístrese aquí
URL:https://ciemicr.org/eventosrefresh_css/gira-tecnica-sistemas-de-automatizacion-y-monitoreo-para-riego-3/
CATEGORIES:Eventos
ATTACH;FMTTYPE=image/jpeg:https://ciemicr.org/wp-content/uploads/2023/09/Gira-Tecnica-Sistemas-de-automatizacion-y-monitoreo-para-riego.jpg
END:VEVENT
BEGIN:VEVENT
DTSTART;TZID=America/Costa_Rica:20230923T080000
DTEND;TZID=America/Costa_Rica:20230923T080000
DTSTAMP:20260424T193606
CREATED:20230906T194052Z
LAST-MODIFIED:20230906T194052Z
UID:10002212-1695456000-1695456000@ciemicr.org
SUMMARY:Gira técnica “Sistemas de automatización y monitoreo para riego”
DESCRIPTION:Regístrese aquí
URL:https://ciemicr.org/eventosrefresh_css/gira-tecnica-sistemas-de-automatizacion-y-monitoreo-para-riego-4/
CATEGORIES:Eventos
ATTACH;FMTTYPE=image/jpeg:https://ciemicr.org/wp-content/uploads/2023/09/Gira-Tecnica-Sistemas-de-automatizacion-y-monitoreo-para-riego.jpg
END:VEVENT
BEGIN:VEVENT
DTSTART;TZID=America/Costa_Rica:20230921T180000
DTEND;TZID=America/Costa_Rica:20230921T210000
DTSTAMP:20260424T193606
CREATED:20230727T225331Z
LAST-MODIFIED:20230825T181717Z
UID:10000689-1695319200-1695330000@ciemicr.org
SUMMARY:Curso Inspecciones del Proceso Constructivo de Instalaciones Eléctricas de Baja Tensión (hasta 600 voltios)\, en Edificios Industriales\, Comerciales e Institucionales
DESCRIPTION:Inscríbase aquí \nPrograma
URL:https://ciemicr.org/eventosrefresh_css/curso-inspecciones-del-proceso-constructivo-de-instalaciones-electricas-de-baja-tension-hasta-600-voltios-en-edificios-industriales-comerciales-e-institucionales-2/
LOCATION:Virtual\, Costa Rica
CATEGORIES:Capacitaciones
ATTACH;FMTTYPE=image/jpeg:https://ciemicr.org/wp-content/uploads/2023/07/Curso-Inspecciones-del-Proceso-Constructivo-de-Instalaciones-Electricas-de-Baja-Tension-hasta-600-voltios-en-Edificios-Industriales-Comerciales-e-Institucionales-1.jpg
END:VEVENT
BEGIN:VEVENT
DTSTART;TZID=America/Costa_Rica:20230921T180000
DTEND;TZID=America/Costa_Rica:20230921T210000
DTSTAMP:20260424T193606
CREATED:20230727T225331Z
LAST-MODIFIED:20230727T225331Z
UID:10001778-1695319200-1695330000@ciemicr.org
SUMMARY:Curso Inspecciones del Proceso Constructivo de Instalaciones Eléctricas de Baja Tensión (hasta 600 voltios)\, en Edificios Industriales\, Comerciales e Institucionales
DESCRIPTION:Inscríbase aquí \nPrograma
URL:https://ciemicr.org/eventosrefresh_css/curso-inspecciones-del-proceso-constructivo-de-instalaciones-electricas-de-baja-tension-hasta-600-voltios-en-edificios-industriales-comerciales-e-institucionales-2-3/
LOCATION:Virtual\, Costa Rica
CATEGORIES:Capacitaciones
ATTACH;FMTTYPE=image/jpeg:https://ciemicr.org/wp-content/uploads/2023/07/Curso-Inspecciones-del-Proceso-Constructivo-de-Instalaciones-Electricas-de-Baja-Tension-hasta-600-voltios-en-Edificios-Industriales-Comerciales-e-Institucionales-1.jpg
END:VEVENT
BEGIN:VEVENT
DTSTART;TZID=America/Costa_Rica:20230921T180000
DTEND;TZID=America/Costa_Rica:20230921T210000
DTSTAMP:20260424T193606
CREATED:20230727T225331Z
LAST-MODIFIED:20230727T225331Z
UID:10002196-1695319200-1695330000@ciemicr.org
SUMMARY:Curso Inspecciones del Proceso Constructivo de Instalaciones Eléctricas de Baja Tensión (hasta 600 voltios)\, en Edificios Industriales\, Comerciales e Institucionales
DESCRIPTION:Inscríbase aquí \nPrograma
URL:https://ciemicr.org/eventosrefresh_css/curso-inspecciones-del-proceso-constructivo-de-instalaciones-electricas-de-baja-tension-hasta-600-voltios-en-edificios-industriales-comerciales-e-institucionales-2-4/
LOCATION:Virtual\, Costa Rica
CATEGORIES:Capacitaciones
ATTACH;FMTTYPE=image/jpeg:https://ciemicr.org/wp-content/uploads/2023/07/Curso-Inspecciones-del-Proceso-Constructivo-de-Instalaciones-Electricas-de-Baja-Tension-hasta-600-voltios-en-Edificios-Industriales-Comerciales-e-Institucionales-1.jpg
END:VEVENT
BEGIN:VEVENT
DTSTART;TZID=America/Costa_Rica:20230919T180000
DTEND;TZID=America/Costa_Rica:20230919T210000
DTSTAMP:20260424T193606
CREATED:20230728T002650Z
LAST-MODIFIED:20230823T140144Z
UID:10000694-1695146400-1695157200@ciemicr.org
SUMMARY:Curso Diseño para instalaciones eléctricas residenciales\, módulo I
DESCRIPTION:Regístrese aquí \nPrograma
URL:https://ciemicr.org/eventosrefresh_css/curso-diseno-para-instalaciones-electricas-residenciales-modulo-i/
LOCATION:CCCIEMI\, CIEMI\, CIEMI\, Costa Rica
CATEGORIES:Capacitaciones
ATTACH;FMTTYPE=image/jpeg:https://ciemicr.org/wp-content/uploads/2023/07/Curso-Diseno-para-instalaciones-electricas-residenciales-modulo-I-2.jpg
END:VEVENT
BEGIN:VEVENT
DTSTART;TZID=America/Costa_Rica:20230919T180000
DTEND;TZID=America/Costa_Rica:20230919T210000
DTSTAMP:20260424T193606
CREATED:20230728T002650Z
LAST-MODIFIED:20230728T002650Z
UID:10001783-1695146400-1695157200@ciemicr.org
SUMMARY:Curso Diseño para instalaciones eléctricas residenciales\, módulo I
DESCRIPTION:Regístrese aquí \nPrograma
URL:https://ciemicr.org/eventosrefresh_css/curso-diseno-para-instalaciones-electricas-residenciales-modulo-i-3/
LOCATION:CCCIEMI\, CIEMI\, CIEMI\, Costa Rica
CATEGORIES:Capacitaciones
ATTACH;FMTTYPE=image/jpeg:https://ciemicr.org/wp-content/uploads/2023/07/Curso-Diseno-para-instalaciones-electricas-residenciales-modulo-I-2.jpg
END:VEVENT
BEGIN:VEVENT
DTSTART;TZID=America/Costa_Rica:20230919T180000
DTEND;TZID=America/Costa_Rica:20230919T210000
DTSTAMP:20260424T193606
CREATED:20230728T002650Z
LAST-MODIFIED:20230728T002650Z
UID:10002201-1695146400-1695157200@ciemicr.org
SUMMARY:Curso Diseño para instalaciones eléctricas residenciales\, módulo I
DESCRIPTION:Regístrese aquí \nPrograma
URL:https://ciemicr.org/eventosrefresh_css/curso-diseno-para-instalaciones-electricas-residenciales-modulo-i-4/
LOCATION:CCCIEMI\, CIEMI\, CIEMI\, Costa Rica
CATEGORIES:Capacitaciones
ATTACH;FMTTYPE=image/jpeg:https://ciemicr.org/wp-content/uploads/2023/07/Curso-Diseno-para-instalaciones-electricas-residenciales-modulo-I-2.jpg
END:VEVENT
BEGIN:VEVENT
DTSTART;TZID=America/Costa_Rica:20230918T180000
DTEND;TZID=America/Costa_Rica:20230918T210000
DTSTAMP:20260424T193606
CREATED:20230727T221819Z
LAST-MODIFIED:20230904T221526Z
UID:10000688-1695060000-1695070800@ciemicr.org
SUMMARY:Curso CAPDEE-M6 Diseño e inspección de sistemas de detección y activación de incendios y seguridad electrónica
DESCRIPTION:Inscríbase aquí \nPrograma
URL:https://ciemicr.org/eventosrefresh_css/curso-capdee-m6-diseno-e-inspeccion-de-sistemas-de-deteccion-y-activacion-de-incendios-y-seguridad-electronica-3/
LOCATION:Virtual\, Costa Rica
CATEGORIES:Capacitaciones
ATTACH;FMTTYPE=image/jpeg:https://ciemicr.org/wp-content/uploads/2023/07/Curso-CAPDEE-M6-Diseno-e-inspeccion-de-sistemas-de-deteccion-y-activacion-de-incendios-y-seguridad-electronica-1.jpg
END:VEVENT
BEGIN:VEVENT
DTSTART;TZID=America/Costa_Rica:20230918T180000
DTEND;TZID=America/Costa_Rica:20230918T210000
DTSTAMP:20260424T193606
CREATED:20230727T221819Z
LAST-MODIFIED:20230727T221819Z
UID:10001777-1695060000-1695070800@ciemicr.org
SUMMARY:Curso CAPDEE-M6 Diseño e inspección de sistemas de detección y activación de incendios y seguridad electrónica
DESCRIPTION:Inscríbase aquí \nPrograma
URL:https://ciemicr.org/eventosrefresh_css/curso-capdee-m6-diseno-e-inspeccion-de-sistemas-de-deteccion-y-activacion-de-incendios-y-seguridad-electronica-3-3/
LOCATION:Virtual\, Costa Rica
CATEGORIES:Capacitaciones
ATTACH;FMTTYPE=image/jpeg:https://ciemicr.org/wp-content/uploads/2023/07/Curso-CAPDEE-M6-Diseno-e-inspeccion-de-sistemas-de-deteccion-y-activacion-de-incendios-y-seguridad-electronica-1.jpg
END:VEVENT
BEGIN:VEVENT
DTSTART;TZID=America/Costa_Rica:20230918T180000
DTEND;TZID=America/Costa_Rica:20230918T210000
DTSTAMP:20260424T193606
CREATED:20230727T221819Z
LAST-MODIFIED:20230727T221819Z
UID:10002195-1695060000-1695070800@ciemicr.org
SUMMARY:Curso CAPDEE-M6 Diseño e inspección de sistemas de detección y activación de incendios y seguridad electrónica
DESCRIPTION:Inscríbase aquí \nPrograma
URL:https://ciemicr.org/eventosrefresh_css/curso-capdee-m6-diseno-e-inspeccion-de-sistemas-de-deteccion-y-activacion-de-incendios-y-seguridad-electronica-3-4/
LOCATION:Virtual\, Costa Rica
CATEGORIES:Capacitaciones
ATTACH;FMTTYPE=image/jpeg:https://ciemicr.org/wp-content/uploads/2023/07/Curso-CAPDEE-M6-Diseno-e-inspeccion-de-sistemas-de-deteccion-y-activacion-de-incendios-y-seguridad-electronica-1.jpg
END:VEVENT
BEGIN:VEVENT
DTSTART;TZID=America/Costa_Rica:20230918T080000
DTEND;TZID=America/Costa_Rica:20230918T080000
DTSTAMP:20260424T193606
CREATED:20230120T004217Z
LAST-MODIFIED:20230808T141737Z
UID:10000604-1695024000-1695024000@ciemicr.org
SUMMARY:Curso FVOL203: Fundamentos de sistemas fotovoltaicos basados en baterías – en línea
DESCRIPTION:Inscríbase aquí \nPrograma 
URL:https://ciemicr.org/eventosrefresh_css/curso-fvol203-fundamentos-de-sistemas-fotovoltaicos-basados-en-baterias-en-linea-5/
LOCATION:Virtual\, Costa Rica
CATEGORIES:Capacitaciones
ATTACH;FMTTYPE=image/jpeg:https://ciemicr.org/wp-content/uploads/2023/01/CIEMI-2023-COURSES-06.jpg
END:VEVENT
BEGIN:VEVENT
DTSTART;TZID=America/Costa_Rica:20230918T080000
DTEND;TZID=America/Costa_Rica:20230918T080000
DTSTAMP:20260424T193606
CREATED:20230120T004217Z
LAST-MODIFIED:20230120T004217Z
UID:10001719-1695024000-1695024000@ciemicr.org
SUMMARY:Curso FVOL203: Fundamentos de sistemas fotovoltaicos basados en baterías – en línea
DESCRIPTION:Inscríbase aquí \nPrograma 
URL:https://ciemicr.org/eventosrefresh_css/curso-fvol203-fundamentos-de-sistemas-fotovoltaicos-basados-en-baterias-en-linea-5-3/
LOCATION:Virtual\, Costa Rica
CATEGORIES:Capacitaciones
ATTACH;FMTTYPE=image/jpeg:https://ciemicr.org/wp-content/uploads/2023/01/CIEMI-2023-COURSES-06.jpg
END:VEVENT
BEGIN:VEVENT
DTSTART;TZID=America/Costa_Rica:20230918T080000
DTEND;TZID=America/Costa_Rica:20230918T080000
DTSTAMP:20260424T193606
CREATED:20230120T004217Z
LAST-MODIFIED:20230120T004217Z
UID:10002137-1695024000-1695024000@ciemicr.org
SUMMARY:Curso FVOL203: Fundamentos de sistemas fotovoltaicos basados en baterías – en línea
DESCRIPTION:Inscríbase aquí \nPrograma 
URL:https://ciemicr.org/eventosrefresh_css/curso-fvol203-fundamentos-de-sistemas-fotovoltaicos-basados-en-baterias-en-linea-5-4/
LOCATION:Virtual\, Costa Rica
CATEGORIES:Capacitaciones
ATTACH;FMTTYPE=image/jpeg:https://ciemicr.org/wp-content/uploads/2023/01/CIEMI-2023-COURSES-06.jpg
END:VEVENT
BEGIN:VEVENT
DTSTART;TZID=America/Costa_Rica:20230918T080000
DTEND;TZID=America/Costa_Rica:20230918T080000
DTSTAMP:20260424T193606
CREATED:20230119T234325Z
LAST-MODIFIED:20230808T142612Z
UID:10000594-1695024000-1695024000@ciemicr.org
SUMMARY:Curso FVOL101: Diseño e Instalación Solar Eléctrica (sistemas interactivos) – en línea
DESCRIPTION:Inscríbase aquí \nPrograma
URL:https://ciemicr.org/eventosrefresh_css/curso-fvol101-diseno-e-instalacion-solar-electrica-sistemas-interactivos-en-linea-5/
LOCATION:Virtual\, Costa Rica
CATEGORIES:Capacitaciones
ATTACH;FMTTYPE=image/png:https://ciemicr.org/wp-content/uploads/2023/01/CIEMI-2023-COURSES-04-1-1.png
END:VEVENT
END:VCALENDAR