BEGIN:VCALENDAR
VERSION:2.0
PRODID:-//CIEMI - ECPv6.15.13.1//NONSGML v1.0//EN
CALSCALE:GREGORIAN
METHOD:PUBLISH
X-WR-CALNAME:CIEMI
X-ORIGINAL-URL:https://ciemicr.org
X-WR-CALDESC:Eventos para CIEMI
REFRESH-INTERVAL;VALUE=DURATION:PT1H
X-Robots-Tag:noindex
X-PUBLISHED-TTL:PT1H
BEGIN:VTIMEZONE
TZID:America/Costa_Rica
BEGIN:STANDARD
TZOFFSETFROM:-0600
TZOFFSETTO:-0600
TZNAME:CST
DTSTART:20220101T000000
END:STANDARD
END:VTIMEZONE
BEGIN:VEVENT
DTSTART;TZID=America/Costa_Rica:20230624T140000
DTEND;TZID=America/Costa_Rica:20230624T160000
DTSTAMP:20260425T144703
CREATED:20230502T215623Z
LAST-MODIFIED:20230502T215623Z
UID:10002177-1687615200-1687622400@ciemicr.org
SUMMARY:Charla: Buenas prácticas de instalaciones de sistemas fotovoltaicos
DESCRIPTION:
URL:https://ciemicr.org/eventosrefresh_css/conferencia-instalaciones-fotovoltaicas-de-acuerdo-con-el-codigo-electrico-nacional-4/
LOCATION:Universidad Nacional de Liberia\, Costa Rica
CATEGORIES:Conferencias
ATTACH;FMTTYPE=image/jpeg:https://ciemicr.org/wp-content/uploads/2023/05/Conferencia-Instalaciones-fotovoltaicas-de-acuerdo-con-el-Codigo-Electrico-Nacional-3.jpg
END:VEVENT
BEGIN:VEVENT
DTSTART;TZID=America/Costa_Rica:20230621T180000
DTEND;TZID=America/Costa_Rica:20230621T200000
DTSTAMP:20260425T144703
CREATED:20230424T163642Z
LAST-MODIFIED:20230523T221609Z
UID:10000649-1687370400-1687377600@ciemicr.org
SUMMARY:Mesa redonda “Reglamento a la Ley de Promoción y Regulación de Recursos Energéticos Distribuidos a partir de Fuentes Renovables”
DESCRIPTION:Regístrese aquí
URL:https://ciemicr.org/eventosrefresh_css/mesa-redonda-reglamento-a-la-ley-de-promocion-y-regulacion-de-recursos-energeticos-distribuidos-a-partir-de-fuentes-renovables/
LOCATION:Auditorio del CFIA\, Curridabat\, 2346-1000\, Costa Rica\, Colegio de Ingenieros y Arquitectos\, Costa Rica
CATEGORIES:Eventos
ATTACH;FMTTYPE=image/jpeg:https://ciemicr.org/wp-content/uploads/2023/04/Mesa-redonda-Reglamento-a-la-Ley-de-Promocion.jpg
GEO:9.9253512346433;-84.03936233163
X-APPLE-STRUCTURED-LOCATION;VALUE=URI;X-ADDRESS=Auditorio del CFIA Curridabat 2346-1000 Costa Rica Colegio de Ingenieros y Arquitectos Costa Rica;X-APPLE-RADIUS=500;X-TITLE=2346-1000:geo:-84.03936233163,9.9253512346433
END:VEVENT
BEGIN:VEVENT
DTSTART;TZID=America/Costa_Rica:20230621T180000
DTEND;TZID=America/Costa_Rica:20230621T200000
DTSTAMP:20260425T144703
CREATED:20230424T163642Z
LAST-MODIFIED:20230424T163642Z
UID:10001753-1687370400-1687377600@ciemicr.org
SUMMARY:Mesa redonda “Reglamento a la Ley de Promoción y Regulación de Recursos Energéticos Distribuidos a partir de Fuentes Renovables”
DESCRIPTION:Regístrese aquí
URL:https://ciemicr.org/eventosrefresh_css/mesa-redonda-reglamento-a-la-ley-de-promocion-y-regulacion-de-recursos-energeticos-distribuidos-a-partir-de-fuentes-renovables-3/
LOCATION:Auditorio del CFIA\, Curridabat\, 2346-1000\, Costa Rica\, Colegio de Ingenieros y Arquitectos\, Costa Rica
CATEGORIES:Eventos
ATTACH;FMTTYPE=image/jpeg:https://ciemicr.org/wp-content/uploads/2023/04/Mesa-redonda-Reglamento-a-la-Ley-de-Promocion.jpg
GEO:9.9253512346433;-84.03936233163
X-APPLE-STRUCTURED-LOCATION;VALUE=URI;X-ADDRESS=Auditorio del CFIA Curridabat 2346-1000 Costa Rica Colegio de Ingenieros y Arquitectos Costa Rica;X-APPLE-RADIUS=500;X-TITLE=2346-1000:geo:-84.03936233163,9.9253512346433
END:VEVENT
BEGIN:VEVENT
DTSTART;TZID=America/Costa_Rica:20230621T180000
DTEND;TZID=America/Costa_Rica:20230621T200000
DTSTAMP:20260425T144703
CREATED:20230424T163642Z
LAST-MODIFIED:20230424T163642Z
UID:10002171-1687370400-1687377600@ciemicr.org
SUMMARY:Mesa redonda “Reglamento a la Ley de Promoción y Regulación de Recursos Energéticos Distribuidos a partir de Fuentes Renovables”
DESCRIPTION:Regístrese aquí
URL:https://ciemicr.org/eventosrefresh_css/mesa-redonda-reglamento-a-la-ley-de-promocion-y-regulacion-de-recursos-energeticos-distribuidos-a-partir-de-fuentes-renovables-4/
LOCATION:Auditorio del CFIA\, Curridabat\, 2346-1000\, Costa Rica\, Colegio de Ingenieros y Arquitectos\, Costa Rica
CATEGORIES:Eventos
ATTACH;FMTTYPE=image/jpeg:https://ciemicr.org/wp-content/uploads/2023/04/Mesa-redonda-Reglamento-a-la-Ley-de-Promocion.jpg
GEO:9.9253512346433;-84.03936233163
X-APPLE-STRUCTURED-LOCATION;VALUE=URI;X-ADDRESS=Auditorio del CFIA Curridabat 2346-1000 Costa Rica Colegio de Ingenieros y Arquitectos Costa Rica;X-APPLE-RADIUS=500;X-TITLE=2346-1000:geo:-84.03936233163,9.9253512346433
END:VEVENT
BEGIN:VEVENT
DTSTART;TZID=America/Costa_Rica:20230615T180000
DTEND;TZID=America/Costa_Rica:20230615T210000
DTSTAMP:20260425T144703
CREATED:20230120T182423Z
LAST-MODIFIED:20230220T164929Z
UID:10000611-1686852000-1686862800@ciemicr.org
SUMMARY:Curso CAPDEE M7 Requerimientos de instalaciones\, canalizaciones\, cables\, equipos y accesorios en las instalaciones eléctricas
DESCRIPTION:Mostrar al profesional los requisitos de instalación del Código Eléctrico en cuanto a canalizaciones\, conductores\, equipos\, accesorios\, tableros y dimensionamientos de espacios.
URL:https://ciemicr.org/eventosrefresh_css/curso-capdee-m7-requerimientos-de-instalaciones-canalizaciones-cables-equipos-y-accesorios-en-las-instalaciones-electricas-2/
LOCATION:Virtual\, Costa Rica
CATEGORIES:Capacitaciones
ATTACH;FMTTYPE=image/jpeg:https://ciemicr.org/wp-content/uploads/2023/01/CAPDEE-M7-1.jpg
END:VEVENT
BEGIN:VEVENT
DTSTART;TZID=America/Costa_Rica:20230615T180000
DTEND;TZID=America/Costa_Rica:20230615T210000
DTSTAMP:20260425T144703
CREATED:20230120T182423Z
LAST-MODIFIED:20230120T182423Z
UID:10001726-1686852000-1686862800@ciemicr.org
SUMMARY:Curso CAPDEE M7 Requerimientos de instalaciones\, canalizaciones\, cables\, equipos y accesorios en las instalaciones eléctricas
DESCRIPTION:Mostrar al profesional los requisitos de instalación del Código Eléctrico en cuanto a canalizaciones\, conductores\, equipos\, accesorios\, tableros y dimensionamientos de espacios.
URL:https://ciemicr.org/eventosrefresh_css/curso-capdee-m7-requerimientos-de-instalaciones-canalizaciones-cables-equipos-y-accesorios-en-las-instalaciones-electricas-2-3/
LOCATION:Virtual\, Costa Rica
CATEGORIES:Capacitaciones
ATTACH;FMTTYPE=image/jpeg:https://ciemicr.org/wp-content/uploads/2023/01/CAPDEE-M7-1.jpg
END:VEVENT
BEGIN:VEVENT
DTSTART;TZID=America/Costa_Rica:20230615T180000
DTEND;TZID=America/Costa_Rica:20230615T210000
DTSTAMP:20260425T144703
CREATED:20230120T182423Z
LAST-MODIFIED:20230120T182423Z
UID:10002144-1686852000-1686862800@ciemicr.org
SUMMARY:Curso CAPDEE M7 Requerimientos de instalaciones\, canalizaciones\, cables\, equipos y accesorios en las instalaciones eléctricas
DESCRIPTION:Mostrar al profesional los requisitos de instalación del Código Eléctrico en cuanto a canalizaciones\, conductores\, equipos\, accesorios\, tableros y dimensionamientos de espacios.
URL:https://ciemicr.org/eventosrefresh_css/curso-capdee-m7-requerimientos-de-instalaciones-canalizaciones-cables-equipos-y-accesorios-en-las-instalaciones-electricas-2-4/
LOCATION:Virtual\, Costa Rica
CATEGORIES:Capacitaciones
ATTACH;FMTTYPE=image/jpeg:https://ciemicr.org/wp-content/uploads/2023/01/CAPDEE-M7-1.jpg
END:VEVENT
BEGIN:VEVENT
DTSTART;TZID=America/Costa_Rica:20230614T070000
DTEND;TZID=America/Costa_Rica:20230614T070000
DTSTAMP:20260425T144703
CREATED:20230428T155424Z
LAST-MODIFIED:20230518T150137Z
UID:10000655-1686726000-1686726000@ciemicr.org
SUMMARY:Gira a la Planta Hidroeléctrica Reventazón - ICE
DESCRIPTION:Te invita la Comisión de Ingeniería Industrial.
URL:https://ciemicr.org/eventosrefresh_css/gira-proyecto-hidroelectrico-reventazon-ice/
CATEGORIES:Eventos
ATTACH;FMTTYPE=image/jpeg:https://ciemicr.org/wp-content/uploads/2023/04/Gira-Proyecto-Hidroelectrico-Reventazon-ICE-2.jpg
END:VEVENT
BEGIN:VEVENT
DTSTART;TZID=America/Costa_Rica:20230614T070000
DTEND;TZID=America/Costa_Rica:20230614T070000
DTSTAMP:20260425T144703
CREATED:20230428T155424Z
LAST-MODIFIED:20230428T155424Z
UID:10001758-1686726000-1686726000@ciemicr.org
SUMMARY:Gira a la Planta Hidroeléctrica Reventazón - ICE
DESCRIPTION:Te invita la Comisión de Ingeniería Industrial.
URL:https://ciemicr.org/eventosrefresh_css/gira-proyecto-hidroelectrico-reventazon-ice-3/
CATEGORIES:Eventos
ATTACH;FMTTYPE=image/jpeg:https://ciemicr.org/wp-content/uploads/2023/04/Gira-Proyecto-Hidroelectrico-Reventazon-ICE-2.jpg
END:VEVENT
BEGIN:VEVENT
DTSTART;TZID=America/Costa_Rica:20230614T070000
DTEND;TZID=America/Costa_Rica:20230614T070000
DTSTAMP:20260425T144703
CREATED:20230428T155424Z
LAST-MODIFIED:20230428T155424Z
UID:10002176-1686726000-1686726000@ciemicr.org
SUMMARY:Gira a la Planta Hidroeléctrica Reventazón - ICE
DESCRIPTION:Te invita la Comisión de Ingeniería Industrial.
URL:https://ciemicr.org/eventosrefresh_css/gira-proyecto-hidroelectrico-reventazon-ice-4/
CATEGORIES:Eventos
ATTACH;FMTTYPE=image/jpeg:https://ciemicr.org/wp-content/uploads/2023/04/Gira-Proyecto-Hidroelectrico-Reventazon-ICE-2.jpg
END:VEVENT
BEGIN:VEVENT
DTSTART;TZID=America/Costa_Rica:20230612T080000
DTEND;TZID=America/Costa_Rica:20230612T170000
DTSTAMP:20260425T144703
CREATED:20230424T224510Z
LAST-MODIFIED:20230529T215637Z
UID:10000651-1686556800-1686589200@ciemicr.org
SUMMARY:Curso Norma NFPA 101\, Código de Seguridad Humana
DESCRIPTION:Este es un curso NFPA\, con evaluación y certificado de NFPA \nInscríbase aquí
URL:https://ciemicr.org/eventosrefresh_css/curso-norma-nfpa-101-codigo-de-seguridad-humana-2/
LOCATION:CCCIEMI\, CIEMI\, CIEMI\, Costa Rica
CATEGORIES:Capacitaciones
ATTACH;FMTTYPE=image/jpeg:https://ciemicr.org/wp-content/uploads/2023/04/Curso-NFPA-101-8.jpg
END:VEVENT
BEGIN:VEVENT
DTSTART;TZID=America/Costa_Rica:20230612T080000
DTEND;TZID=America/Costa_Rica:20230612T170000
DTSTAMP:20260425T144703
CREATED:20230424T224510Z
LAST-MODIFIED:20230424T224510Z
UID:10001755-1686556800-1686589200@ciemicr.org
SUMMARY:Curso Norma NFPA 101\, Código de Seguridad Humana
DESCRIPTION:Este es un curso NFPA\, con evaluación y certificado de NFPA \nInscríbase aquí
URL:https://ciemicr.org/eventosrefresh_css/curso-norma-nfpa-101-codigo-de-seguridad-humana-2-3/
LOCATION:CCCIEMI\, CIEMI\, CIEMI\, Costa Rica
CATEGORIES:Capacitaciones
ATTACH;FMTTYPE=image/jpeg:https://ciemicr.org/wp-content/uploads/2023/04/Curso-NFPA-101-8.jpg
END:VEVENT
BEGIN:VEVENT
DTSTART;TZID=America/Costa_Rica:20230612T080000
DTEND;TZID=America/Costa_Rica:20230612T170000
DTSTAMP:20260425T144703
CREATED:20230424T224510Z
LAST-MODIFIED:20230424T224510Z
UID:10002173-1686556800-1686589200@ciemicr.org
SUMMARY:Curso Norma NFPA 101\, Código de Seguridad Humana
DESCRIPTION:Este es un curso NFPA\, con evaluación y certificado de NFPA \nInscríbase aquí
URL:https://ciemicr.org/eventosrefresh_css/curso-norma-nfpa-101-codigo-de-seguridad-humana-2-4/
LOCATION:CCCIEMI\, CIEMI\, CIEMI\, Costa Rica
CATEGORIES:Capacitaciones
ATTACH;FMTTYPE=image/jpeg:https://ciemicr.org/wp-content/uploads/2023/04/Curso-NFPA-101-8.jpg
END:VEVENT
BEGIN:VEVENT
DTSTART;TZID=America/Costa_Rica:20230608T180000
DTEND;TZID=America/Costa_Rica:20230608T210000
DTSTAMP:20260425T144703
CREATED:20230424T174410Z
LAST-MODIFIED:20230519T222919Z
UID:10000650-1686247200-1686258000@ciemicr.org
SUMMARY:Curso de Verificaciones de Instalaciones Eléctricas
DESCRIPTION:Comprender los aspectos técnicos y legales involucrados en las verificaciones de instalaciones eléctricas
URL:https://ciemicr.org/eventosrefresh_css/curso-de-verificaciones-de-instalaciones-electricas/
LOCATION:Virtual\, Costa Rica
CATEGORIES:Capacitaciones
ATTACH;FMTTYPE=image/jpeg:https://ciemicr.org/wp-content/uploads/2023/04/Curso-de-Verificaciones-de-Instalaciones-Electricas-1-1.jpg
END:VEVENT
BEGIN:VEVENT
DTSTART;TZID=America/Costa_Rica:20230608T180000
DTEND;TZID=America/Costa_Rica:20230608T210000
DTSTAMP:20260425T144703
CREATED:20230424T174410Z
LAST-MODIFIED:20230424T174410Z
UID:10001754-1686247200-1686258000@ciemicr.org
SUMMARY:Curso de Verificaciones de Instalaciones Eléctricas
DESCRIPTION:Comprender los aspectos técnicos y legales involucrados en las verificaciones de instalaciones eléctricas
URL:https://ciemicr.org/eventosrefresh_css/curso-de-verificaciones-de-instalaciones-electricas-3/
LOCATION:Virtual\, Costa Rica
CATEGORIES:Capacitaciones
ATTACH;FMTTYPE=image/jpeg:https://ciemicr.org/wp-content/uploads/2023/04/Curso-de-Verificaciones-de-Instalaciones-Electricas-1-1.jpg
END:VEVENT
BEGIN:VEVENT
DTSTART;TZID=America/Costa_Rica:20230608T180000
DTEND;TZID=America/Costa_Rica:20230608T210000
DTSTAMP:20260425T144703
CREATED:20230424T174410Z
LAST-MODIFIED:20230424T174410Z
UID:10002172-1686247200-1686258000@ciemicr.org
SUMMARY:Curso de Verificaciones de Instalaciones Eléctricas
DESCRIPTION:Comprender los aspectos técnicos y legales involucrados en las verificaciones de instalaciones eléctricas
URL:https://ciemicr.org/eventosrefresh_css/curso-de-verificaciones-de-instalaciones-electricas-4/
LOCATION:Virtual\, Costa Rica
CATEGORIES:Capacitaciones
ATTACH;FMTTYPE=image/jpeg:https://ciemicr.org/wp-content/uploads/2023/04/Curso-de-Verificaciones-de-Instalaciones-Electricas-1-1.jpg
END:VEVENT
BEGIN:VEVENT
DTSTART;TZID=America/Costa_Rica:20230608T180000
DTEND;TZID=America/Costa_Rica:20230608T210000
DTSTAMP:20260425T144703
CREATED:20230120T185135Z
LAST-MODIFIED:20230203T153345Z
UID:10000613-1686247200-1686258000@ciemicr.org
SUMMARY:Curso Módulo I\, Diseño para instalaciones eléctricas residenciales
DESCRIPTION:
URL:https://ciemicr.org/eventosrefresh_css/curso-modulo-i-diseno-para-instalaciones-electricas-residenciales/
LOCATION:Virtual\, Costa Rica
CATEGORIES:Capacitaciones
ATTACH;FMTTYPE=image/jpeg:https://ciemicr.org/wp-content/uploads/2023/01/Modulo-I-Diseno-para-instalaciones-electricas-residenciales.jpg
END:VEVENT
BEGIN:VEVENT
DTSTART;TZID=America/Costa_Rica:20230608T180000
DTEND;TZID=America/Costa_Rica:20230608T210000
DTSTAMP:20260425T144703
CREATED:20230120T185135Z
LAST-MODIFIED:20230120T185135Z
UID:10001728-1686247200-1686258000@ciemicr.org
SUMMARY:Curso Módulo I\, Diseño para instalaciones eléctricas residenciales
DESCRIPTION:
URL:https://ciemicr.org/eventosrefresh_css/curso-modulo-i-diseno-para-instalaciones-electricas-residenciales-3/
LOCATION:Virtual\, Costa Rica
CATEGORIES:Capacitaciones
ATTACH;FMTTYPE=image/jpeg:https://ciemicr.org/wp-content/uploads/2023/01/Modulo-I-Diseno-para-instalaciones-electricas-residenciales.jpg
END:VEVENT
BEGIN:VEVENT
DTSTART;TZID=America/Costa_Rica:20230608T180000
DTEND;TZID=America/Costa_Rica:20230608T210000
DTSTAMP:20260425T144703
CREATED:20230120T185135Z
LAST-MODIFIED:20230120T185135Z
UID:10002146-1686247200-1686258000@ciemicr.org
SUMMARY:Curso Módulo I\, Diseño para instalaciones eléctricas residenciales
DESCRIPTION:
URL:https://ciemicr.org/eventosrefresh_css/curso-modulo-i-diseno-para-instalaciones-electricas-residenciales-4/
LOCATION:Virtual\, Costa Rica
CATEGORIES:Capacitaciones
ATTACH;FMTTYPE=image/jpeg:https://ciemicr.org/wp-content/uploads/2023/01/Modulo-I-Diseno-para-instalaciones-electricas-residenciales.jpg
END:VEVENT
BEGIN:VEVENT
DTSTART;TZID=America/Costa_Rica:20230605T180000
DTEND;TZID=America/Costa_Rica:20230605T210000
DTSTAMP:20260425T144703
CREATED:20230120T170313Z
LAST-MODIFIED:20230220T164838Z
UID:10000609-1685988000-1685998800@ciemicr.org
SUMMARY:Curso CAPDEE M6 Diseño e inspección de sistemas de detección y activación  de incendios y seguridad electrónica
DESCRIPTION:Diseñar un sistema de alarma de incendio\, y control de acceso\, que cumpla con las normas vigentes\, así como un sistema de control de acceso acorde con las exigencias de cada proyecto particular.
URL:https://ciemicr.org/eventosrefresh_css/curso-capdee-m6-diseno-e-inspeccion-de-sistemas-de-deteccion-y-activacion-de-incendios-y-seguridad-electronica-2/
LOCATION:Virtual\, Costa Rica
CATEGORIES:Capacitaciones
ATTACH;FMTTYPE=image/jpeg:https://ciemicr.org/wp-content/uploads/2023/01/CAPDEE-M6.jpg
END:VEVENT
BEGIN:VEVENT
DTSTART;TZID=America/Costa_Rica:20230605T180000
DTEND;TZID=America/Costa_Rica:20230605T210000
DTSTAMP:20260425T144703
CREATED:20230120T170313Z
LAST-MODIFIED:20230120T170313Z
UID:10001725-1685988000-1685998800@ciemicr.org
SUMMARY:Curso CAPDEE M6 Diseño e inspección de sistemas de detección y activación  de incendios y seguridad electrónica
DESCRIPTION:Diseñar un sistema de alarma de incendio\, y control de acceso\, que cumpla con las normas vigentes\, así como un sistema de control de acceso acorde con las exigencias de cada proyecto particular.
URL:https://ciemicr.org/eventosrefresh_css/curso-capdee-m6-diseno-e-inspeccion-de-sistemas-de-deteccion-y-activacion-de-incendios-y-seguridad-electronica-2-3/
LOCATION:Virtual\, Costa Rica
CATEGORIES:Capacitaciones
ATTACH;FMTTYPE=image/jpeg:https://ciemicr.org/wp-content/uploads/2023/01/CAPDEE-M6.jpg
END:VEVENT
BEGIN:VEVENT
DTSTART;TZID=America/Costa_Rica:20230605T180000
DTEND;TZID=America/Costa_Rica:20230605T210000
DTSTAMP:20260425T144703
CREATED:20230120T170313Z
LAST-MODIFIED:20230120T170313Z
UID:10002143-1685988000-1685998800@ciemicr.org
SUMMARY:Curso CAPDEE M6 Diseño e inspección de sistemas de detección y activación  de incendios y seguridad electrónica
DESCRIPTION:Diseñar un sistema de alarma de incendio\, y control de acceso\, que cumpla con las normas vigentes\, así como un sistema de control de acceso acorde con las exigencias de cada proyecto particular.
URL:https://ciemicr.org/eventosrefresh_css/curso-capdee-m6-diseno-e-inspeccion-de-sistemas-de-deteccion-y-activacion-de-incendios-y-seguridad-electronica-2-4/
LOCATION:Virtual\, Costa Rica
CATEGORIES:Capacitaciones
ATTACH;FMTTYPE=image/jpeg:https://ciemicr.org/wp-content/uploads/2023/01/CAPDEE-M6.jpg
END:VEVENT
BEGIN:VEVENT
DTSTART;TZID=America/Costa_Rica:20230517T180000
DTEND;TZID=America/Costa_Rica:20230517T210000
DTSTAMP:20260425T144703
CREATED:20230123T220300Z
LAST-MODIFIED:20230417T233144Z
UID:10000619-1684346400-1684357200@ciemicr.org
SUMMARY:Curso Diseño de instalaciones hidráulicas en edificaciones\, módulo I: Sistemas de suministro y distribución de agua potable
DESCRIPTION:Transmitir a los participantes el conocimiento de la legislación nacional y los fundamentos teóricos para el diseño de instalaciones de suministro y distribución de agua potable en edificaciones residenciales y comerciales.
URL:https://ciemicr.org/eventosrefresh_css/diseno-de-instalaciones-hidraulicas-en-edificaciones-modulo-i-sistemas-de-suministro-y-distribucion-de-agua-potable/
LOCATION:Moodle CFIA\, Moodle CFIA\, San José\, Virtual\, Costa Rica
CATEGORIES:Capacitaciones
ATTACH;FMTTYPE=image/jpeg:https://ciemicr.org/wp-content/uploads/2023/01/Diseno-de-instalaciones-hidraulicas-en-edificaciones-Modulo-I-Sistemas-de-suministro-y-distribucion-de-agua-potable.jpg
END:VEVENT
BEGIN:VEVENT
DTSTART;TZID=America/Costa_Rica:20230517T180000
DTEND;TZID=America/Costa_Rica:20230517T210000
DTSTAMP:20260425T144703
CREATED:20230123T220300Z
LAST-MODIFIED:20230123T220300Z
UID:10001732-1684346400-1684357200@ciemicr.org
SUMMARY:Curso Diseño de instalaciones hidráulicas en edificaciones\, módulo I: Sistemas de suministro y distribución de agua potable
DESCRIPTION:Transmitir a los participantes el conocimiento de la legislación nacional y los fundamentos teóricos para el diseño de instalaciones de suministro y distribución de agua potable en edificaciones residenciales y comerciales.
URL:https://ciemicr.org/eventosrefresh_css/diseno-de-instalaciones-hidraulicas-en-edificaciones-modulo-i-sistemas-de-suministro-y-distribucion-de-agua-potable-3/
LOCATION:Moodle CFIA\, Moodle CFIA\, San José\, Virtual\, Costa Rica
CATEGORIES:Capacitaciones
ATTACH;FMTTYPE=image/jpeg:https://ciemicr.org/wp-content/uploads/2023/01/Diseno-de-instalaciones-hidraulicas-en-edificaciones-Modulo-I-Sistemas-de-suministro-y-distribucion-de-agua-potable.jpg
END:VEVENT
BEGIN:VEVENT
DTSTART;TZID=America/Costa_Rica:20230517T180000
DTEND;TZID=America/Costa_Rica:20230517T210000
DTSTAMP:20260425T144703
CREATED:20230123T220300Z
LAST-MODIFIED:20230123T220300Z
UID:10002150-1684346400-1684357200@ciemicr.org
SUMMARY:Curso Diseño de instalaciones hidráulicas en edificaciones\, módulo I: Sistemas de suministro y distribución de agua potable
DESCRIPTION:Transmitir a los participantes el conocimiento de la legislación nacional y los fundamentos teóricos para el diseño de instalaciones de suministro y distribución de agua potable en edificaciones residenciales y comerciales.
URL:https://ciemicr.org/eventosrefresh_css/diseno-de-instalaciones-hidraulicas-en-edificaciones-modulo-i-sistemas-de-suministro-y-distribucion-de-agua-potable-4/
LOCATION:Moodle CFIA\, Moodle CFIA\, San José\, Virtual\, Costa Rica
CATEGORIES:Capacitaciones
ATTACH;FMTTYPE=image/jpeg:https://ciemicr.org/wp-content/uploads/2023/01/Diseno-de-instalaciones-hidraulicas-en-edificaciones-Modulo-I-Sistemas-de-suministro-y-distribucion-de-agua-potable.jpg
END:VEVENT
BEGIN:VEVENT
DTSTART;TZID=America/Costa_Rica:20230515T080000
DTEND;TZID=America/Costa_Rica:20230515T080000
DTSTAMP:20260425T144703
CREATED:20230120T003907Z
LAST-MODIFIED:20230120T003907Z
UID:10000602-1684137600-1684137600@ciemicr.org
SUMMARY:Curso FVOL203: Fundamentos de sistemas fotovoltaicos basados en baterías – en línea
DESCRIPTION:l objetivo principal de este curso es brindarle al estudiante los fundamentos técnicos necesarios para comprender la gran mayoría de sistemas FV basados en baterías en el mercado hoy.
URL:https://ciemicr.org/eventosrefresh_css/curso-fvol203-fundamentos-de-sistemas-fotovoltaicos-basados-en-baterias-en-linea-3/
LOCATION:Virtual\, Costa Rica
CATEGORIES:Capacitaciones
ATTACH;FMTTYPE=image/jpeg:https://ciemicr.org/wp-content/uploads/2023/01/CIEMI-2023-COURSES-06.jpg
END:VEVENT
BEGIN:VEVENT
DTSTART;TZID=America/Costa_Rica:20230515T080000
DTEND;TZID=America/Costa_Rica:20230515T080000
DTSTAMP:20260425T144703
CREATED:20230120T003907Z
LAST-MODIFIED:20230120T003907Z
UID:10001718-1684137600-1684137600@ciemicr.org
SUMMARY:Curso FVOL203: Fundamentos de sistemas fotovoltaicos basados en baterías – en línea
DESCRIPTION:l objetivo principal de este curso es brindarle al estudiante los fundamentos técnicos necesarios para comprender la gran mayoría de sistemas FV basados en baterías en el mercado hoy.
URL:https://ciemicr.org/eventosrefresh_css/curso-fvol203-fundamentos-de-sistemas-fotovoltaicos-basados-en-baterias-en-linea-3-3/
LOCATION:Virtual\, Costa Rica
CATEGORIES:Capacitaciones
ATTACH;FMTTYPE=image/jpeg:https://ciemicr.org/wp-content/uploads/2023/01/CIEMI-2023-COURSES-06.jpg
END:VEVENT
BEGIN:VEVENT
DTSTART;TZID=America/Costa_Rica:20230515T080000
DTEND;TZID=America/Costa_Rica:20230515T080000
DTSTAMP:20260425T144703
CREATED:20230120T003907Z
LAST-MODIFIED:20230120T003907Z
UID:10002136-1684137600-1684137600@ciemicr.org
SUMMARY:Curso FVOL203: Fundamentos de sistemas fotovoltaicos basados en baterías – en línea
DESCRIPTION:l objetivo principal de este curso es brindarle al estudiante los fundamentos técnicos necesarios para comprender la gran mayoría de sistemas FV basados en baterías en el mercado hoy.
URL:https://ciemicr.org/eventosrefresh_css/curso-fvol203-fundamentos-de-sistemas-fotovoltaicos-basados-en-baterias-en-linea-3-4/
LOCATION:Virtual\, Costa Rica
CATEGORIES:Capacitaciones
ATTACH;FMTTYPE=image/jpeg:https://ciemicr.org/wp-content/uploads/2023/01/CIEMI-2023-COURSES-06.jpg
END:VEVENT
BEGIN:VEVENT
DTSTART;TZID=America/Costa_Rica:20230515T080000
DTEND;TZID=America/Costa_Rica:20230515T080000
DTSTAMP:20260425T144703
CREATED:20230120T000532Z
LAST-MODIFIED:20230120T000532Z
UID:10000598-1684137600-1684137600@ciemicr.org
SUMMARY:Curso FVOL202: Diseño Fotovoltaico Avanzado y el Nec (Sistemas Interactivos) - en línea
DESCRIPTION:En este curso se estudian los detalles de ingeniería y diseño avanzados para el diseño eléctrico y la instalación de sistemas FV con recomendaciones de prácticas más utilizadas por profesionales en la industria. Existen muchos códigos eléctricos en países de habla hispana; este curso se basa en el que a la fecha es el más adoptado como base para muchos de ellos: el Código Eléctrico Nacional (NEC) de EE.UU. en su última versión en español\, 2014. El curso incluye los cambios pertinentes a sistemas FV publicados en el ciclo NEC 2017. Este curso combina presentaciones con audios de instructores profesionales\, ejercicios\, pruebas y ejemplos de diseño que contemplan múltiples consideraciones de diseño. El curso en línea es de 6 semanas de duración. El fin es continuar el programa de capacitación de Solar Energy International (SEI) con profesionales que diseñen\, inspeccionen\, e instalen sistemas FV seguros\, en cumplimiento con códigos eléctricos\, resultando en altos rendimientos y larga vida útil.
URL:https://ciemicr.org/eventosrefresh_css/curso-fvol202-diseno-fotovoltaico-avanzado-y-el-nec-sistemas-interactivos-en-linea-2/
LOCATION:Virtual\, Costa Rica
CATEGORIES:Capacitaciones
ATTACH;FMTTYPE=image/jpeg:https://ciemicr.org/wp-content/uploads/2023/01/CIEMI-2023-COURSES-04.jpg
END:VEVENT
BEGIN:VEVENT
DTSTART;TZID=America/Costa_Rica:20230515T080000
DTEND;TZID=America/Costa_Rica:20230515T080000
DTSTAMP:20260425T144703
CREATED:20230120T000532Z
LAST-MODIFIED:20230120T000532Z
UID:10001716-1684137600-1684137600@ciemicr.org
SUMMARY:Curso FVOL202: Diseño Fotovoltaico Avanzado y el Nec (Sistemas Interactivos) - en línea
DESCRIPTION:En este curso se estudian los detalles de ingeniería y diseño avanzados para el diseño eléctrico y la instalación de sistemas FV con recomendaciones de prácticas más utilizadas por profesionales en la industria. Existen muchos códigos eléctricos en países de habla hispana; este curso se basa en el que a la fecha es el más adoptado como base para muchos de ellos: el Código Eléctrico Nacional (NEC) de EE.UU. en su última versión en español\, 2014. El curso incluye los cambios pertinentes a sistemas FV publicados en el ciclo NEC 2017. Este curso combina presentaciones con audios de instructores profesionales\, ejercicios\, pruebas y ejemplos de diseño que contemplan múltiples consideraciones de diseño. El curso en línea es de 6 semanas de duración. El fin es continuar el programa de capacitación de Solar Energy International (SEI) con profesionales que diseñen\, inspeccionen\, e instalen sistemas FV seguros\, en cumplimiento con códigos eléctricos\, resultando en altos rendimientos y larga vida útil.
URL:https://ciemicr.org/eventosrefresh_css/curso-fvol202-diseno-fotovoltaico-avanzado-y-el-nec-sistemas-interactivos-en-linea-2-3/
LOCATION:Virtual\, Costa Rica
CATEGORIES:Capacitaciones
ATTACH;FMTTYPE=image/jpeg:https://ciemicr.org/wp-content/uploads/2023/01/CIEMI-2023-COURSES-04.jpg
END:VEVENT
END:VCALENDAR