BEGIN:VCALENDAR
VERSION:2.0
PRODID:-//CIEMI - ECPv6.15.13.1//NONSGML v1.0//EN
CALSCALE:GREGORIAN
METHOD:PUBLISH
X-WR-CALNAME:CIEMI
X-ORIGINAL-URL:https://ciemicr.org
X-WR-CALDESC:Eventos para CIEMI
REFRESH-INTERVAL;VALUE=DURATION:PT1H
X-Robots-Tag:noindex
X-PUBLISHED-TTL:PT1H
BEGIN:VTIMEZONE
TZID:America/Costa_Rica
BEGIN:STANDARD
TZOFFSETFROM:-0600
TZOFFSETTO:-0600
TZNAME:CST
DTSTART:20220101T000000
END:STANDARD
END:VTIMEZONE
BEGIN:VEVENT
DTSTART;TZID=America/Costa_Rica:20230419T080000
DTEND;TZID=America/Costa_Rica:20230419T170000
DTSTAMP:20260425T221431
CREATED:20230223T155700Z
LAST-MODIFIED:20230223T155700Z
UID:10001741-1681891200-1681923600@ciemicr.org
SUMMARY:Jornada de uso seguro de amoníaco como refrigerante
DESCRIPTION:
URL:https://ciemicr.org/eventosrefresh_css/jornada-de-uso-seguro-de-amoniaco-como-refrigerante-2-3/
LOCATION:Auditorio del CFIA\, Curridabat\, 2346-1000\, Costa Rica\, Colegio de Ingenieros y Arquitectos\, Costa Rica
CATEGORIES:Eventos
ATTACH;FMTTYPE=image/jpeg:https://ciemicr.org/wp-content/uploads/2023/02/Jornada-de-uso-seguro-de-amoniaco-como-refrigerante.jpg
GEO:9.9253512346433;-84.03936233163
X-APPLE-STRUCTURED-LOCATION;VALUE=URI;X-ADDRESS=Auditorio del CFIA Curridabat 2346-1000 Costa Rica Colegio de Ingenieros y Arquitectos Costa Rica;X-APPLE-RADIUS=500;X-TITLE=2346-1000:geo:-84.03936233163,9.9253512346433
END:VEVENT
BEGIN:VEVENT
DTSTART;TZID=America/Costa_Rica:20230419T080000
DTEND;TZID=America/Costa_Rica:20230419T170000
DTSTAMP:20260425T221431
CREATED:20230223T155700Z
LAST-MODIFIED:20230223T155700Z
UID:10002159-1681891200-1681923600@ciemicr.org
SUMMARY:Jornada de uso seguro de amoníaco como refrigerante
DESCRIPTION:
URL:https://ciemicr.org/eventosrefresh_css/jornada-de-uso-seguro-de-amoniaco-como-refrigerante-2-4/
LOCATION:Auditorio del CFIA\, Curridabat\, 2346-1000\, Costa Rica\, Colegio de Ingenieros y Arquitectos\, Costa Rica
CATEGORIES:Eventos
ATTACH;FMTTYPE=image/jpeg:https://ciemicr.org/wp-content/uploads/2023/02/Jornada-de-uso-seguro-de-amoniaco-como-refrigerante.jpg
GEO:9.9253512346433;-84.03936233163
X-APPLE-STRUCTURED-LOCATION;VALUE=URI;X-ADDRESS=Auditorio del CFIA Curridabat 2346-1000 Costa Rica Colegio de Ingenieros y Arquitectos Costa Rica;X-APPLE-RADIUS=500;X-TITLE=2346-1000:geo:-84.03936233163,9.9253512346433
END:VEVENT
BEGIN:VEVENT
DTSTART;TZID=America/Costa_Rica:20230418T180000
DTEND;TZID=America/Costa_Rica:20230418T210000
DTSTAMP:20260425T221431
CREATED:20230120T163852Z
LAST-MODIFIED:20230220T160131Z
UID:10000608-1681840800-1681851600@ciemicr.org
SUMMARY:Curso CAPDEE-M3 Criterios de diseño desde el punto de vista de las  corrientes de cortocircuito
DESCRIPTION:Calcular las corrientes de cortocircuito en alimentadores y ramales de redes eléctricas de baja tensión\, utilizando principalmente el Método de los kVA.
URL:https://ciemicr.org/eventosrefresh_css/curso-capdee-m3-criterios-de-diseno-desde-el-punto-de-vista-de-las-corrientes-de-cortocircuito/
LOCATION:Virtual\, Costa Rica
CATEGORIES:Capacitaciones
ATTACH;FMTTYPE=image/jpeg:https://ciemicr.org/wp-content/uploads/2023/01/CAPDEE-M3-1.jpg
END:VEVENT
BEGIN:VEVENT
DTSTART;TZID=America/Costa_Rica:20230418T180000
DTEND;TZID=America/Costa_Rica:20230418T210000
DTSTAMP:20260425T221431
CREATED:20230120T163852Z
LAST-MODIFIED:20230120T163852Z
UID:10001724-1681840800-1681851600@ciemicr.org
SUMMARY:Curso CAPDEE-M3 Criterios de diseño desde el punto de vista de las  corrientes de cortocircuito
DESCRIPTION:Calcular las corrientes de cortocircuito en alimentadores y ramales de redes eléctricas de baja tensión\, utilizando principalmente el Método de los kVA.
URL:https://ciemicr.org/eventosrefresh_css/curso-capdee-m3-criterios-de-diseno-desde-el-punto-de-vista-de-las-corrientes-de-cortocircuito-4/
LOCATION:Virtual\, Costa Rica
CATEGORIES:Capacitaciones
ATTACH;FMTTYPE=image/jpeg:https://ciemicr.org/wp-content/uploads/2023/01/CAPDEE-M3-1.jpg
END:VEVENT
BEGIN:VEVENT
DTSTART;TZID=America/Costa_Rica:20230418T180000
DTEND;TZID=America/Costa_Rica:20230418T210000
DTSTAMP:20260425T221431
CREATED:20230120T163852Z
LAST-MODIFIED:20230120T163852Z
UID:10002142-1681840800-1681851600@ciemicr.org
SUMMARY:Curso CAPDEE-M3 Criterios de diseño desde el punto de vista de las  corrientes de cortocircuito
DESCRIPTION:Calcular las corrientes de cortocircuito en alimentadores y ramales de redes eléctricas de baja tensión\, utilizando principalmente el Método de los kVA.
URL:https://ciemicr.org/eventosrefresh_css/curso-capdee-m3-criterios-de-diseno-desde-el-punto-de-vista-de-las-corrientes-de-cortocircuito-5/
LOCATION:Virtual\, Costa Rica
CATEGORIES:Capacitaciones
ATTACH;FMTTYPE=image/jpeg:https://ciemicr.org/wp-content/uploads/2023/01/CAPDEE-M3-1.jpg
END:VEVENT
BEGIN:VEVENT
DTSTART;TZID=America/Costa_Rica:20230417T180000
DTEND;TZID=America/Costa_Rica:20230417T210000
DTSTAMP:20260425T221431
CREATED:20230120T184003Z
LAST-MODIFIED:20230324T142812Z
UID:10000612-1681754400-1681765200@ciemicr.org
SUMMARY:Curso CAPDEE-M8: Cableado Estructurado
DESCRIPTION:
URL:https://ciemicr.org/eventosrefresh_css/capdee-m8-cableado-estructurado/
LOCATION:Virtual\, Costa Rica
CATEGORIES:Capacitaciones
ATTACH;FMTTYPE=image/jpeg:https://ciemicr.org/wp-content/uploads/2023/01/CAPDEE-M8-2.jpg
END:VEVENT
BEGIN:VEVENT
DTSTART;TZID=America/Costa_Rica:20230417T180000
DTEND;TZID=America/Costa_Rica:20230417T210000
DTSTAMP:20260425T221431
CREATED:20230120T184003Z
LAST-MODIFIED:20230120T184003Z
UID:10001727-1681754400-1681765200@ciemicr.org
SUMMARY:Curso CAPDEE-M8: Cableado Estructurado
DESCRIPTION:
URL:https://ciemicr.org/eventosrefresh_css/capdee-m8-cableado-estructurado-3/
LOCATION:Virtual\, Costa Rica
CATEGORIES:Capacitaciones
ATTACH;FMTTYPE=image/jpeg:https://ciemicr.org/wp-content/uploads/2023/01/CAPDEE-M8-2.jpg
END:VEVENT
BEGIN:VEVENT
DTSTART;TZID=America/Costa_Rica:20230417T180000
DTEND;TZID=America/Costa_Rica:20230417T210000
DTSTAMP:20260425T221431
CREATED:20230120T184003Z
LAST-MODIFIED:20230120T184003Z
UID:10002145-1681754400-1681765200@ciemicr.org
SUMMARY:Curso CAPDEE-M8: Cableado Estructurado
DESCRIPTION:
URL:https://ciemicr.org/eventosrefresh_css/capdee-m8-cableado-estructurado-4/
LOCATION:Virtual\, Costa Rica
CATEGORIES:Capacitaciones
ATTACH;FMTTYPE=image/jpeg:https://ciemicr.org/wp-content/uploads/2023/01/CAPDEE-M8-2.jpg
END:VEVENT
BEGIN:VEVENT
DTSTART;TZID=America/Costa_Rica:20230417T180000
DTEND;TZID=America/Costa_Rica:20230417T210000
DTSTAMP:20260425T221431
CREATED:20230120T011723Z
LAST-MODIFIED:20230203T173255Z
UID:10000605-1681754400-1681765200@ciemicr.org
SUMMARY:Curso CAPDEE M1 Normativa Vigente y Código Eléctrico (NEC)
DESCRIPTION:Mostrar el profesional la importancia del Código Eléctrico en las actividades de ingeniería\, la necesidad de contar con productos y materiales certificados\, las normas y reglamentos relacionadas con el Código Eléctrico y las últimas modificaciones del documento en la edición vigente en español.
URL:https://ciemicr.org/eventosrefresh_css/curso-capdee-m1-normativa-vigente-y-codigo-electrico-nec/
LOCATION:Virtual\, Costa Rica
CATEGORIES:Capacitaciones
ATTACH;FMTTYPE=image/jpeg:https://ciemicr.org/wp-content/uploads/2023/01/CAPDEE-M1-1.jpg
END:VEVENT
BEGIN:VEVENT
DTSTART;TZID=America/Costa_Rica:20230417T180000
DTEND;TZID=America/Costa_Rica:20230417T210000
DTSTAMP:20260425T221431
CREATED:20230120T011723Z
LAST-MODIFIED:20230120T011723Z
UID:10001721-1681754400-1681765200@ciemicr.org
SUMMARY:Curso CAPDEE M1 Normativa Vigente y Código Eléctrico (NEC)
DESCRIPTION:Mostrar el profesional la importancia del Código Eléctrico en las actividades de ingeniería\, la necesidad de contar con productos y materiales certificados\, las normas y reglamentos relacionadas con el Código Eléctrico y las últimas modificaciones del documento en la edición vigente en español.
URL:https://ciemicr.org/eventosrefresh_css/curso-capdee-m1-normativa-vigente-y-codigo-electrico-nec-9/
LOCATION:Virtual\, Costa Rica
CATEGORIES:Capacitaciones
ATTACH;FMTTYPE=image/jpeg:https://ciemicr.org/wp-content/uploads/2023/01/CAPDEE-M1-1.jpg
END:VEVENT
BEGIN:VEVENT
DTSTART;TZID=America/Costa_Rica:20230417T180000
DTEND;TZID=America/Costa_Rica:20230417T210000
DTSTAMP:20260425T221431
CREATED:20230120T011723Z
LAST-MODIFIED:20230120T011723Z
UID:10002139-1681754400-1681765200@ciemicr.org
SUMMARY:Curso CAPDEE M1 Normativa Vigente y Código Eléctrico (NEC)
DESCRIPTION:Mostrar el profesional la importancia del Código Eléctrico en las actividades de ingeniería\, la necesidad de contar con productos y materiales certificados\, las normas y reglamentos relacionadas con el Código Eléctrico y las últimas modificaciones del documento en la edición vigente en español.
URL:https://ciemicr.org/eventosrefresh_css/curso-capdee-m1-normativa-vigente-y-codigo-electrico-nec-10/
LOCATION:Virtual\, Costa Rica
CATEGORIES:Capacitaciones
ATTACH;FMTTYPE=image/jpeg:https://ciemicr.org/wp-content/uploads/2023/01/CAPDEE-M1-1.jpg
END:VEVENT
BEGIN:VEVENT
DTSTART;TZID=America/Costa_Rica:20230413T180000
DTEND;TZID=America/Costa_Rica:20230413T210000
DTSTAMP:20260425T221431
CREATED:20230120T015915Z
LAST-MODIFIED:20230203T172644Z
UID:10000606-1681408800-1681419600@ciemicr.org
SUMMARY:Curso CAPDEE-M2 Diseño eléctrico residencial\, comercial e industrial
DESCRIPTION:Al finalizar el módulo el estudiante deberá estar en capacidad de diseñar alimentadores y ramales de redes eléctricas de baja tensión.
URL:https://ciemicr.org/eventosrefresh_css/curso-capdee-m2-diseno-electrico-residencial-comercial-e-industrial-2/
LOCATION:Virtual\, Costa Rica
CATEGORIES:Capacitaciones
ATTACH;FMTTYPE=image/jpeg:https://ciemicr.org/wp-content/uploads/2023/01/CAPDEE-M2-1.jpg
END:VEVENT
BEGIN:VEVENT
DTSTART;TZID=America/Costa_Rica:20230413T180000
DTEND;TZID=America/Costa_Rica:20230413T210000
DTSTAMP:20260425T221431
CREATED:20230120T015915Z
LAST-MODIFIED:20230120T015915Z
UID:10001723-1681408800-1681419600@ciemicr.org
SUMMARY:Curso CAPDEE-M2 Diseño eléctrico residencial\, comercial e industrial
DESCRIPTION:Al finalizar el módulo el estudiante deberá estar en capacidad de diseñar alimentadores y ramales de redes eléctricas de baja tensión.
URL:https://ciemicr.org/eventosrefresh_css/curso-capdee-m2-diseno-electrico-residencial-comercial-e-industrial-2-3/
LOCATION:Virtual\, Costa Rica
CATEGORIES:Capacitaciones
ATTACH;FMTTYPE=image/jpeg:https://ciemicr.org/wp-content/uploads/2023/01/CAPDEE-M2-1.jpg
END:VEVENT
BEGIN:VEVENT
DTSTART;TZID=America/Costa_Rica:20230413T180000
DTEND;TZID=America/Costa_Rica:20230413T210000
DTSTAMP:20260425T221431
CREATED:20230120T015915Z
LAST-MODIFIED:20230120T015915Z
UID:10002141-1681408800-1681419600@ciemicr.org
SUMMARY:Curso CAPDEE-M2 Diseño eléctrico residencial\, comercial e industrial
DESCRIPTION:Al finalizar el módulo el estudiante deberá estar en capacidad de diseñar alimentadores y ramales de redes eléctricas de baja tensión.
URL:https://ciemicr.org/eventosrefresh_css/curso-capdee-m2-diseno-electrico-residencial-comercial-e-industrial-2-4/
LOCATION:Virtual\, Costa Rica
CATEGORIES:Capacitaciones
ATTACH;FMTTYPE=image/jpeg:https://ciemicr.org/wp-content/uploads/2023/01/CAPDEE-M2-1.jpg
END:VEVENT
BEGIN:VEVENT
DTSTART;TZID=America/Costa_Rica:20230412T080000
DTEND;TZID=America/Costa_Rica:20230412T170000
DTSTAMP:20260425T221431
CREATED:20230223T195957Z
LAST-MODIFIED:20230223T195957Z
UID:10000634-1681286400-1681318800@ciemicr.org
SUMMARY:Curso Norma NFPA 101\, Código de Seguridad Humana
DESCRIPTION:Este es un curso NFPA\, con evaluación y certificado de NFPA
URL:https://ciemicr.org/eventosrefresh_css/curso-norma-nfpa-101-codigo-de-seguridad-humana/
LOCATION:CCCIEMI\, CIEMI\, CIEMI\, Costa Rica
CATEGORIES:Capacitaciones
ATTACH;FMTTYPE=image/jpeg:https://ciemicr.org/wp-content/uploads/2023/02/Curso-NFPA-101-5.jpg
END:VEVENT
BEGIN:VEVENT
DTSTART;TZID=America/Costa_Rica:20230412T080000
DTEND;TZID=America/Costa_Rica:20230412T170000
DTSTAMP:20260425T221431
CREATED:20230223T195957Z
LAST-MODIFIED:20230223T195957Z
UID:10001744-1681286400-1681318800@ciemicr.org
SUMMARY:Curso Norma NFPA 101\, Código de Seguridad Humana
DESCRIPTION:Este es un curso NFPA\, con evaluación y certificado de NFPA
URL:https://ciemicr.org/eventosrefresh_css/curso-norma-nfpa-101-codigo-de-seguridad-humana-4/
LOCATION:CCCIEMI\, CIEMI\, CIEMI\, Costa Rica
CATEGORIES:Capacitaciones
ATTACH;FMTTYPE=image/jpeg:https://ciemicr.org/wp-content/uploads/2023/02/Curso-NFPA-101-5.jpg
END:VEVENT
BEGIN:VEVENT
DTSTART;TZID=America/Costa_Rica:20230412T080000
DTEND;TZID=America/Costa_Rica:20230412T170000
DTSTAMP:20260425T221431
CREATED:20230223T195957Z
LAST-MODIFIED:20230223T195957Z
UID:10002162-1681286400-1681318800@ciemicr.org
SUMMARY:Curso Norma NFPA 101\, Código de Seguridad Humana
DESCRIPTION:Este es un curso NFPA\, con evaluación y certificado de NFPA
URL:https://ciemicr.org/eventosrefresh_css/curso-norma-nfpa-101-codigo-de-seguridad-humana-5/
LOCATION:CCCIEMI\, CIEMI\, CIEMI\, Costa Rica
CATEGORIES:Capacitaciones
ATTACH;FMTTYPE=image/jpeg:https://ciemicr.org/wp-content/uploads/2023/02/Curso-NFPA-101-5.jpg
END:VEVENT
BEGIN:VEVENT
DTSTART;TZID=America/Costa_Rica:20230403T080000
DTEND;TZID=America/Costa_Rica:20230403T080000
DTSTAMP:20260425T221431
CREATED:20230120T003734Z
LAST-MODIFIED:20230330T181603Z
UID:10000601-1680508800-1680508800@ciemicr.org
SUMMARY:Curso FVOL203: Fundamentos de sistemas fotovoltaicos basados en baterías – en línea
DESCRIPTION:El objetivo principal de este curso es brindarle al estudiante los fundamentos técnicos necesarios para comprender la gran mayoría de sistemas FV basados en baterías en el mercado hoy.
URL:https://ciemicr.org/eventosrefresh_css/curso-fvol203-fundamentos-de-sistemas-fotovoltaicos-basados-en-baterias-en-linea-2/
LOCATION:Virtual\, Costa Rica
CATEGORIES:Capacitaciones
ATTACH;FMTTYPE=image/jpeg:https://ciemicr.org/wp-content/uploads/2023/01/CIEMI-2023-COURSES-06.jpg
END:VEVENT
BEGIN:VEVENT
DTSTART;TZID=America/Costa_Rica:20230403T080000
DTEND;TZID=America/Costa_Rica:20230403T080000
DTSTAMP:20260425T221431
CREATED:20230120T003734Z
LAST-MODIFIED:20230120T003734Z
UID:10001717-1680508800-1680508800@ciemicr.org
SUMMARY:Curso FVOL203: Fundamentos de sistemas fotovoltaicos basados en baterías – en línea
DESCRIPTION:El objetivo principal de este curso es brindarle al estudiante los fundamentos técnicos necesarios para comprender la gran mayoría de sistemas FV basados en baterías en el mercado hoy.
URL:https://ciemicr.org/eventosrefresh_css/curso-fvol203-fundamentos-de-sistemas-fotovoltaicos-basados-en-baterias-en-linea-2-3/
LOCATION:Virtual\, Costa Rica
CATEGORIES:Capacitaciones
ATTACH;FMTTYPE=image/jpeg:https://ciemicr.org/wp-content/uploads/2023/01/CIEMI-2023-COURSES-06.jpg
END:VEVENT
BEGIN:VEVENT
DTSTART;TZID=America/Costa_Rica:20230403T080000
DTEND;TZID=America/Costa_Rica:20230403T080000
DTSTAMP:20260425T221431
CREATED:20230120T003734Z
LAST-MODIFIED:20230120T003734Z
UID:10002135-1680508800-1680508800@ciemicr.org
SUMMARY:Curso FVOL203: Fundamentos de sistemas fotovoltaicos basados en baterías – en línea
DESCRIPTION:El objetivo principal de este curso es brindarle al estudiante los fundamentos técnicos necesarios para comprender la gran mayoría de sistemas FV basados en baterías en el mercado hoy.
URL:https://ciemicr.org/eventosrefresh_css/curso-fvol203-fundamentos-de-sistemas-fotovoltaicos-basados-en-baterias-en-linea-2-4/
LOCATION:Virtual\, Costa Rica
CATEGORIES:Capacitaciones
ATTACH;FMTTYPE=image/jpeg:https://ciemicr.org/wp-content/uploads/2023/01/CIEMI-2023-COURSES-06.jpg
END:VEVENT
BEGIN:VEVENT
DTSTART;TZID=America/Costa_Rica:20230403T080000
DTEND;TZID=America/Costa_Rica:20230403T080000
DTSTAMP:20260425T221431
CREATED:20230120T000333Z
LAST-MODIFIED:20230120T000333Z
UID:10000597-1680508800-1680508800@ciemicr.org
SUMMARY:Curso FVOL202: Diseño Fotovoltaico Avanzado y el Nec (Sistemas Interactivos) - en línea
DESCRIPTION:En este curso se estudian los detalles de ingeniería y diseño avanzados para el diseño eléctrico y la instalación de sistemas FV con recomendaciones de prácticas más utilizadas por profesionales en la industria. Existen muchos códigos eléctricos en países de habla hispana; este curso se basa en el que a la fecha es el más adoptado como base para muchos de ellos: el Código Eléctrico Nacional (NEC) de EE.UU. en su última versión en español\, 2014. El curso incluye los cambios pertinentes a sistemas FV publicados en el ciclo NEC 2017. Este curso combina presentaciones con audios de instructores profesionales\, ejercicios\, pruebas y ejemplos de diseño que contemplan múltiples consideraciones de diseño. El curso en línea es de 6 semanas de duración. El fin es continuar el programa de capacitación de Solar Energy International (SEI) con profesionales que diseñen\, inspeccionen\, e instalen sistemas FV seguros\, en cumplimiento con códigos eléctricos\, resultando en altos rendimientos y larga vida útil.
URL:https://ciemicr.org/eventosrefresh_css/curso-fvol202-diseno-fotovoltaico-avanzado-y-el-nec-sistemas-interactivos-en-linea/
LOCATION:Virtual\, Costa Rica
CATEGORIES:Capacitaciones
ATTACH;FMTTYPE=image/jpeg:https://ciemicr.org/wp-content/uploads/2023/01/CIEMI-2023-COURSES-04.jpg
END:VEVENT
BEGIN:VEVENT
DTSTART;TZID=America/Costa_Rica:20230403T080000
DTEND;TZID=America/Costa_Rica:20230403T080000
DTSTAMP:20260425T221431
CREATED:20230120T000333Z
LAST-MODIFIED:20230120T000333Z
UID:10001713-1680508800-1680508800@ciemicr.org
SUMMARY:Curso FVOL202: Diseño Fotovoltaico Avanzado y el Nec (Sistemas Interactivos) - en línea
DESCRIPTION:En este curso se estudian los detalles de ingeniería y diseño avanzados para el diseño eléctrico y la instalación de sistemas FV con recomendaciones de prácticas más utilizadas por profesionales en la industria. Existen muchos códigos eléctricos en países de habla hispana; este curso se basa en el que a la fecha es el más adoptado como base para muchos de ellos: el Código Eléctrico Nacional (NEC) de EE.UU. en su última versión en español\, 2014. El curso incluye los cambios pertinentes a sistemas FV publicados en el ciclo NEC 2017. Este curso combina presentaciones con audios de instructores profesionales\, ejercicios\, pruebas y ejemplos de diseño que contemplan múltiples consideraciones de diseño. El curso en línea es de 6 semanas de duración. El fin es continuar el programa de capacitación de Solar Energy International (SEI) con profesionales que diseñen\, inspeccionen\, e instalen sistemas FV seguros\, en cumplimiento con códigos eléctricos\, resultando en altos rendimientos y larga vida útil.
URL:https://ciemicr.org/eventosrefresh_css/curso-fvol202-diseno-fotovoltaico-avanzado-y-el-nec-sistemas-interactivos-en-linea-8/
LOCATION:Virtual\, Costa Rica
CATEGORIES:Capacitaciones
ATTACH;FMTTYPE=image/jpeg:https://ciemicr.org/wp-content/uploads/2023/01/CIEMI-2023-COURSES-04.jpg
END:VEVENT
BEGIN:VEVENT
DTSTART;TZID=America/Costa_Rica:20230403T080000
DTEND;TZID=America/Costa_Rica:20230403T080000
DTSTAMP:20260425T221431
CREATED:20230120T000333Z
LAST-MODIFIED:20230120T000333Z
UID:10002131-1680508800-1680508800@ciemicr.org
SUMMARY:Curso FVOL202: Diseño Fotovoltaico Avanzado y el Nec (Sistemas Interactivos) - en línea
DESCRIPTION:En este curso se estudian los detalles de ingeniería y diseño avanzados para el diseño eléctrico y la instalación de sistemas FV con recomendaciones de prácticas más utilizadas por profesionales en la industria. Existen muchos códigos eléctricos en países de habla hispana; este curso se basa en el que a la fecha es el más adoptado como base para muchos de ellos: el Código Eléctrico Nacional (NEC) de EE.UU. en su última versión en español\, 2014. El curso incluye los cambios pertinentes a sistemas FV publicados en el ciclo NEC 2017. Este curso combina presentaciones con audios de instructores profesionales\, ejercicios\, pruebas y ejemplos de diseño que contemplan múltiples consideraciones de diseño. El curso en línea es de 6 semanas de duración. El fin es continuar el programa de capacitación de Solar Energy International (SEI) con profesionales que diseñen\, inspeccionen\, e instalen sistemas FV seguros\, en cumplimiento con códigos eléctricos\, resultando en altos rendimientos y larga vida útil.
URL:https://ciemicr.org/eventosrefresh_css/curso-fvol202-diseno-fotovoltaico-avanzado-y-el-nec-sistemas-interactivos-en-linea-9/
LOCATION:Virtual\, Costa Rica
CATEGORIES:Capacitaciones
ATTACH;FMTTYPE=image/jpeg:https://ciemicr.org/wp-content/uploads/2023/01/CIEMI-2023-COURSES-04.jpg
END:VEVENT
BEGIN:VEVENT
DTSTART;TZID=America/Costa_Rica:20230403T080000
DTEND;TZID=America/Costa_Rica:20230403T080000
DTSTAMP:20260425T221431
CREATED:20230119T202953Z
LAST-MODIFIED:20230119T203308Z
UID:10000591-1680508800-1680508800@ciemicr.org
SUMMARY:Curso FVOL101: Diseño e Instalación Solar Eléctrica (sistemas interactivos) – en línea
DESCRIPTION:El objetivo de este curso es enseñar los aspectos fundamentales de un sistema fotovoltaico conectado a la red que un profesional en la industria debe de manejar
URL:https://ciemicr.org/eventosrefresh_css/curso-fvol101-diseno-e-instalacion-solar-electrica-sistemas-interactivos-en-linea-2/
LOCATION:Virtual\, Costa Rica
CATEGORIES:Capacitaciones
ATTACH;FMTTYPE=image/jpeg:https://ciemicr.org/wp-content/uploads/2023/01/CIEMI-2023-COURSES-05.jpg
END:VEVENT
BEGIN:VEVENT
DTSTART;TZID=America/Costa_Rica:20230403T080000
DTEND;TZID=America/Costa_Rica:20230403T080000
DTSTAMP:20260425T221431
CREATED:20230119T202953Z
LAST-MODIFIED:20230119T202953Z
UID:10001707-1680508800-1680508800@ciemicr.org
SUMMARY:Curso FVOL101: Diseño e Instalación Solar Eléctrica (sistemas interactivos) – en línea
DESCRIPTION:El objetivo de este curso es enseñar los aspectos fundamentales de un sistema fotovoltaico conectado a la red que un profesional en la industria debe de manejar
URL:https://ciemicr.org/eventosrefresh_css/curso-fvol101-diseno-e-instalacion-solar-electrica-sistemas-interactivos-en-linea-2-3/
LOCATION:Virtual\, Costa Rica
CATEGORIES:Capacitaciones
ATTACH;FMTTYPE=image/jpeg:https://ciemicr.org/wp-content/uploads/2023/01/CIEMI-2023-COURSES-05.jpg
END:VEVENT
BEGIN:VEVENT
DTSTART;TZID=America/Costa_Rica:20230403T080000
DTEND;TZID=America/Costa_Rica:20230403T080000
DTSTAMP:20260425T221431
CREATED:20230119T202953Z
LAST-MODIFIED:20230119T202953Z
UID:10002125-1680508800-1680508800@ciemicr.org
SUMMARY:Curso FVOL101: Diseño e Instalación Solar Eléctrica (sistemas interactivos) – en línea
DESCRIPTION:El objetivo de este curso es enseñar los aspectos fundamentales de un sistema fotovoltaico conectado a la red que un profesional en la industria debe de manejar
URL:https://ciemicr.org/eventosrefresh_css/curso-fvol101-diseno-e-instalacion-solar-electrica-sistemas-interactivos-en-linea-2-4/
LOCATION:Virtual\, Costa Rica
CATEGORIES:Capacitaciones
ATTACH;FMTTYPE=image/jpeg:https://ciemicr.org/wp-content/uploads/2023/01/CIEMI-2023-COURSES-05.jpg
END:VEVENT
BEGIN:VEVENT
DTSTART;TZID=America/Costa_Rica:20230330T180000
DTEND;TZID=America/Costa_Rica:20230330T180000
DTSTAMP:20260425T221431
CREATED:20230203T150035Z
LAST-MODIFIED:20230227T225356Z
UID:10000625-1680199200-1680199200@ciemicr.org
SUMMARY:El Futuro del 5G en Costa Rica
DESCRIPTION:
URL:https://ciemicr.org/eventosrefresh_css/foro-implementacion-del-5g-en-costa-rica/
LOCATION:Auditorio del CFIA\, Curridabat\, 2346-1000\, Costa Rica\, Colegio de Ingenieros y Arquitectos\, Costa Rica
CATEGORIES:Eventos
ATTACH;FMTTYPE=image/jpeg:https://ciemicr.org/wp-content/uploads/2023/02/Foro-Implementacion-del-5G-en-Costa-Rica06-2.jpg
GEO:9.9253512346433;-84.03936233163
X-APPLE-STRUCTURED-LOCATION;VALUE=URI;X-ADDRESS=Auditorio del CFIA Curridabat 2346-1000 Costa Rica Colegio de Ingenieros y Arquitectos Costa Rica;X-APPLE-RADIUS=500;X-TITLE=2346-1000:geo:-84.03936233163,9.9253512346433
END:VEVENT
BEGIN:VEVENT
DTSTART;TZID=America/Costa_Rica:20230330T180000
DTEND;TZID=America/Costa_Rica:20230330T180000
DTSTAMP:20260425T221431
CREATED:20230203T150035Z
LAST-MODIFIED:20230203T150035Z
UID:10001737-1680199200-1680199200@ciemicr.org
SUMMARY:El Futuro del 5G en Costa Rica
DESCRIPTION:
URL:https://ciemicr.org/eventosrefresh_css/foro-implementacion-del-5g-en-costa-rica-3/
LOCATION:Auditorio del CFIA\, Curridabat\, 2346-1000\, Costa Rica\, Colegio de Ingenieros y Arquitectos\, Costa Rica
CATEGORIES:Eventos
ATTACH;FMTTYPE=image/jpeg:https://ciemicr.org/wp-content/uploads/2023/02/Foro-Implementacion-del-5G-en-Costa-Rica06-2.jpg
GEO:9.9253512346433;-84.03936233163
X-APPLE-STRUCTURED-LOCATION;VALUE=URI;X-ADDRESS=Auditorio del CFIA Curridabat 2346-1000 Costa Rica Colegio de Ingenieros y Arquitectos Costa Rica;X-APPLE-RADIUS=500;X-TITLE=2346-1000:geo:-84.03936233163,9.9253512346433
END:VEVENT
BEGIN:VEVENT
DTSTART;TZID=America/Costa_Rica:20230330T180000
DTEND;TZID=America/Costa_Rica:20230330T180000
DTSTAMP:20260425T221431
CREATED:20230203T150035Z
LAST-MODIFIED:20230203T150035Z
UID:10002155-1680199200-1680199200@ciemicr.org
SUMMARY:El Futuro del 5G en Costa Rica
DESCRIPTION:
URL:https://ciemicr.org/eventosrefresh_css/foro-implementacion-del-5g-en-costa-rica-4/
LOCATION:Auditorio del CFIA\, Curridabat\, 2346-1000\, Costa Rica\, Colegio de Ingenieros y Arquitectos\, Costa Rica
CATEGORIES:Eventos
ATTACH;FMTTYPE=image/jpeg:https://ciemicr.org/wp-content/uploads/2023/02/Foro-Implementacion-del-5G-en-Costa-Rica06-2.jpg
GEO:9.9253512346433;-84.03936233163
X-APPLE-STRUCTURED-LOCATION;VALUE=URI;X-ADDRESS=Auditorio del CFIA Curridabat 2346-1000 Costa Rica Colegio de Ingenieros y Arquitectos Costa Rica;X-APPLE-RADIUS=500;X-TITLE=2346-1000:geo:-84.03936233163,9.9253512346433
END:VEVENT
BEGIN:VEVENT
DTSTART;TZID=America/Costa_Rica:20230323T150000
DTEND;TZID=America/Costa_Rica:20230323T163000
DTSTAMP:20260425T221431
CREATED:20230223T191631Z
LAST-MODIFIED:20230313T225821Z
UID:10000633-1679583600-1679589000@ciemicr.org
SUMMARY:Conferencia: Diseño y Evaluación de Sistemas de Control
DESCRIPTION:
URL:https://ciemicr.org/eventosrefresh_css/conferencia-diseno-y-evaluacion-de-sistemas-de-control/
LOCATION:Virtual\, Costa Rica
CATEGORIES:Conferencias
ATTACH;FMTTYPE=image/jpeg:https://ciemicr.org/wp-content/uploads/2023/02/Conferencias-COPIMERA-Orlando-Arrieta.jpg
END:VEVENT
END:VCALENDAR