BEGIN:VCALENDAR
VERSION:2.0
PRODID:-//CIEMI - ECPv6.15.13.1//NONSGML v1.0//EN
CALSCALE:GREGORIAN
METHOD:PUBLISH
X-WR-CALNAME:CIEMI
X-ORIGINAL-URL:https://ciemicr.org
X-WR-CALDESC:Eventos para CIEMI
REFRESH-INTERVAL;VALUE=DURATION:PT1H
X-Robots-Tag:noindex
X-PUBLISHED-TTL:PT1H
BEGIN:VTIMEZONE
TZID:America/Costa_Rica
BEGIN:STANDARD
TZOFFSETFROM:-0600
TZOFFSETTO:-0600
TZNAME:CST
DTSTART:20210101T000000
END:STANDARD
END:VTIMEZONE
BEGIN:VEVENT
DTSTART;TZID=America/Costa_Rica:20230621T180000
DTEND;TZID=America/Costa_Rica:20230621T200000
DTSTAMP:20260420T072818
CREATED:20230424T163642Z
LAST-MODIFIED:20230424T163642Z
UID:10001753-1687370400-1687377600@ciemicr.org
SUMMARY:Mesa redonda “Reglamento a la Ley de Promoción y Regulación de Recursos Energéticos Distribuidos a partir de Fuentes Renovables”
DESCRIPTION:Regístrese aquí
URL:https://ciemicr.org/eventosrefresh_css/mesa-redonda-reglamento-a-la-ley-de-promocion-y-regulacion-de-recursos-energeticos-distribuidos-a-partir-de-fuentes-renovables-3/
LOCATION:Auditorio del CFIA\, Curridabat\, 2346-1000\, Costa Rica\, Colegio de Ingenieros y Arquitectos\, Costa Rica
CATEGORIES:Eventos
ATTACH;FMTTYPE=image/jpeg:https://ciemicr.org/wp-content/uploads/2023/04/Mesa-redonda-Reglamento-a-la-Ley-de-Promocion.jpg
GEO:9.9253512346433;-84.03936233163
X-APPLE-STRUCTURED-LOCATION;VALUE=URI;X-ADDRESS=Auditorio del CFIA Curridabat 2346-1000 Costa Rica Colegio de Ingenieros y Arquitectos Costa Rica;X-APPLE-RADIUS=500;X-TITLE=2346-1000:geo:-84.03936233163,9.9253512346433
END:VEVENT
BEGIN:VEVENT
DTSTART;TZID=America/Costa_Rica:20230420T080000
DTEND;TZID=America/Costa_Rica:20230420T170000
DTSTAMP:20260420T072818
CREATED:20230223T155551Z
LAST-MODIFIED:20230223T155551Z
UID:10002158-1681977600-1682010000@ciemicr.org
SUMMARY:Jornada de uso seguro de amoníaco como refrigerante
DESCRIPTION:
URL:https://ciemicr.org/eventosrefresh_css/jornada-de-uso-seguro-de-amoniaco-como-refrigerante-5/
LOCATION:Auditorio del CFIA\, Curridabat\, 2346-1000\, Costa Rica\, Colegio de Ingenieros y Arquitectos\, Costa Rica
CATEGORIES:Eventos
ATTACH;FMTTYPE=image/jpeg:https://ciemicr.org/wp-content/uploads/2023/02/Seminario-de-Seguridad-IIAR-1.jpg
GEO:9.9253512346433;-84.03936233163
X-APPLE-STRUCTURED-LOCATION;VALUE=URI;X-ADDRESS=Auditorio del CFIA Curridabat 2346-1000 Costa Rica Colegio de Ingenieros y Arquitectos Costa Rica;X-APPLE-RADIUS=500;X-TITLE=2346-1000:geo:-84.03936233163,9.9253512346433
END:VEVENT
BEGIN:VEVENT
DTSTART;TZID=America/Costa_Rica:20230420T080000
DTEND;TZID=America/Costa_Rica:20230420T170000
DTSTAMP:20260420T072818
CREATED:20230223T155551Z
LAST-MODIFIED:20230303T174617Z
UID:10000629-1681977600-1682010000@ciemicr.org
SUMMARY:Jornada de uso seguro de amoníaco como refrigerante
DESCRIPTION:
URL:https://ciemicr.org/eventosrefresh_css/jornada-de-uso-seguro-de-amoniaco-como-refrigerante/
LOCATION:Auditorio del CFIA\, Curridabat\, 2346-1000\, Costa Rica\, Colegio de Ingenieros y Arquitectos\, Costa Rica
CATEGORIES:Eventos
ATTACH;FMTTYPE=image/jpeg:https://ciemicr.org/wp-content/uploads/2023/02/Seminario-de-Seguridad-IIAR-1.jpg
GEO:9.9253512346433;-84.03936233163
X-APPLE-STRUCTURED-LOCATION;VALUE=URI;X-ADDRESS=Auditorio del CFIA Curridabat 2346-1000 Costa Rica Colegio de Ingenieros y Arquitectos Costa Rica;X-APPLE-RADIUS=500;X-TITLE=2346-1000:geo:-84.03936233163,9.9253512346433
END:VEVENT
BEGIN:VEVENT
DTSTART;TZID=America/Costa_Rica:20230420T080000
DTEND;TZID=America/Costa_Rica:20230420T170000
DTSTAMP:20260420T072818
CREATED:20230223T155551Z
LAST-MODIFIED:20230223T155551Z
UID:10001740-1681977600-1682010000@ciemicr.org
SUMMARY:Jornada de uso seguro de amoníaco como refrigerante
DESCRIPTION:
URL:https://ciemicr.org/eventosrefresh_css/jornada-de-uso-seguro-de-amoniaco-como-refrigerante-4/
LOCATION:Auditorio del CFIA\, Curridabat\, 2346-1000\, Costa Rica\, Colegio de Ingenieros y Arquitectos\, Costa Rica
CATEGORIES:Eventos
ATTACH;FMTTYPE=image/jpeg:https://ciemicr.org/wp-content/uploads/2023/02/Seminario-de-Seguridad-IIAR-1.jpg
GEO:9.9253512346433;-84.03936233163
X-APPLE-STRUCTURED-LOCATION;VALUE=URI;X-ADDRESS=Auditorio del CFIA Curridabat 2346-1000 Costa Rica Colegio de Ingenieros y Arquitectos Costa Rica;X-APPLE-RADIUS=500;X-TITLE=2346-1000:geo:-84.03936233163,9.9253512346433
END:VEVENT
BEGIN:VEVENT
DTSTART;TZID=America/Costa_Rica:20230419T080000
DTEND;TZID=America/Costa_Rica:20230419T170000
DTSTAMP:20260420T072818
CREATED:20230223T155700Z
LAST-MODIFIED:20230223T155700Z
UID:10002159-1681891200-1681923600@ciemicr.org
SUMMARY:Jornada de uso seguro de amoníaco como refrigerante
DESCRIPTION:
URL:https://ciemicr.org/eventosrefresh_css/jornada-de-uso-seguro-de-amoniaco-como-refrigerante-2-4/
LOCATION:Auditorio del CFIA\, Curridabat\, 2346-1000\, Costa Rica\, Colegio de Ingenieros y Arquitectos\, Costa Rica
CATEGORIES:Eventos
ATTACH;FMTTYPE=image/jpeg:https://ciemicr.org/wp-content/uploads/2023/02/Jornada-de-uso-seguro-de-amoniaco-como-refrigerante.jpg
GEO:9.9253512346433;-84.03936233163
X-APPLE-STRUCTURED-LOCATION;VALUE=URI;X-ADDRESS=Auditorio del CFIA Curridabat 2346-1000 Costa Rica Colegio de Ingenieros y Arquitectos Costa Rica;X-APPLE-RADIUS=500;X-TITLE=2346-1000:geo:-84.03936233163,9.9253512346433
END:VEVENT
BEGIN:VEVENT
DTSTART;TZID=America/Costa_Rica:20230419T080000
DTEND;TZID=America/Costa_Rica:20230419T170000
DTSTAMP:20260420T072818
CREATED:20230223T155700Z
LAST-MODIFIED:20230324T162738Z
UID:10000630-1681891200-1681923600@ciemicr.org
SUMMARY:Jornada de uso seguro de amoníaco como refrigerante
DESCRIPTION:
URL:https://ciemicr.org/eventosrefresh_css/jornada-de-uso-seguro-de-amoniaco-como-refrigerante-2/
LOCATION:Auditorio del CFIA\, Curridabat\, 2346-1000\, Costa Rica\, Colegio de Ingenieros y Arquitectos\, Costa Rica
CATEGORIES:Eventos
ATTACH;FMTTYPE=image/jpeg:https://ciemicr.org/wp-content/uploads/2023/02/Jornada-de-uso-seguro-de-amoniaco-como-refrigerante.jpg
GEO:9.9253512346433;-84.03936233163
X-APPLE-STRUCTURED-LOCATION;VALUE=URI;X-ADDRESS=Auditorio del CFIA Curridabat 2346-1000 Costa Rica Colegio de Ingenieros y Arquitectos Costa Rica;X-APPLE-RADIUS=500;X-TITLE=2346-1000:geo:-84.03936233163,9.9253512346433
END:VEVENT
BEGIN:VEVENT
DTSTART;TZID=America/Costa_Rica:20230419T080000
DTEND;TZID=America/Costa_Rica:20230419T170000
DTSTAMP:20260420T072818
CREATED:20230223T155700Z
LAST-MODIFIED:20230223T155700Z
UID:10001741-1681891200-1681923600@ciemicr.org
SUMMARY:Jornada de uso seguro de amoníaco como refrigerante
DESCRIPTION:
URL:https://ciemicr.org/eventosrefresh_css/jornada-de-uso-seguro-de-amoniaco-como-refrigerante-2-3/
LOCATION:Auditorio del CFIA\, Curridabat\, 2346-1000\, Costa Rica\, Colegio de Ingenieros y Arquitectos\, Costa Rica
CATEGORIES:Eventos
ATTACH;FMTTYPE=image/jpeg:https://ciemicr.org/wp-content/uploads/2023/02/Jornada-de-uso-seguro-de-amoniaco-como-refrigerante.jpg
GEO:9.9253512346433;-84.03936233163
X-APPLE-STRUCTURED-LOCATION;VALUE=URI;X-ADDRESS=Auditorio del CFIA Curridabat 2346-1000 Costa Rica Colegio de Ingenieros y Arquitectos Costa Rica;X-APPLE-RADIUS=500;X-TITLE=2346-1000:geo:-84.03936233163,9.9253512346433
END:VEVENT
BEGIN:VEVENT
DTSTART;TZID=America/Costa_Rica:20230330T180000
DTEND;TZID=America/Costa_Rica:20230330T180000
DTSTAMP:20260420T072818
CREATED:20230203T150035Z
LAST-MODIFIED:20230203T150035Z
UID:10002155-1680199200-1680199200@ciemicr.org
SUMMARY:El Futuro del 5G en Costa Rica
DESCRIPTION:
URL:https://ciemicr.org/eventosrefresh_css/foro-implementacion-del-5g-en-costa-rica-4/
LOCATION:Auditorio del CFIA\, Curridabat\, 2346-1000\, Costa Rica\, Colegio de Ingenieros y Arquitectos\, Costa Rica
CATEGORIES:Eventos
ATTACH;FMTTYPE=image/jpeg:https://ciemicr.org/wp-content/uploads/2023/02/Foro-Implementacion-del-5G-en-Costa-Rica06-2.jpg
GEO:9.9253512346433;-84.03936233163
X-APPLE-STRUCTURED-LOCATION;VALUE=URI;X-ADDRESS=Auditorio del CFIA Curridabat 2346-1000 Costa Rica Colegio de Ingenieros y Arquitectos Costa Rica;X-APPLE-RADIUS=500;X-TITLE=2346-1000:geo:-84.03936233163,9.9253512346433
END:VEVENT
BEGIN:VEVENT
DTSTART;TZID=America/Costa_Rica:20230330T180000
DTEND;TZID=America/Costa_Rica:20230330T180000
DTSTAMP:20260420T072818
CREATED:20230203T150035Z
LAST-MODIFIED:20230227T225356Z
UID:10000625-1680199200-1680199200@ciemicr.org
SUMMARY:El Futuro del 5G en Costa Rica
DESCRIPTION:
URL:https://ciemicr.org/eventosrefresh_css/foro-implementacion-del-5g-en-costa-rica/
LOCATION:Auditorio del CFIA\, Curridabat\, 2346-1000\, Costa Rica\, Colegio de Ingenieros y Arquitectos\, Costa Rica
CATEGORIES:Eventos
ATTACH;FMTTYPE=image/jpeg:https://ciemicr.org/wp-content/uploads/2023/02/Foro-Implementacion-del-5G-en-Costa-Rica06-2.jpg
GEO:9.9253512346433;-84.03936233163
X-APPLE-STRUCTURED-LOCATION;VALUE=URI;X-ADDRESS=Auditorio del CFIA Curridabat 2346-1000 Costa Rica Colegio de Ingenieros y Arquitectos Costa Rica;X-APPLE-RADIUS=500;X-TITLE=2346-1000:geo:-84.03936233163,9.9253512346433
END:VEVENT
BEGIN:VEVENT
DTSTART;TZID=America/Costa_Rica:20230330T180000
DTEND;TZID=America/Costa_Rica:20230330T180000
DTSTAMP:20260420T072818
CREATED:20230203T150035Z
LAST-MODIFIED:20230203T150035Z
UID:10001737-1680199200-1680199200@ciemicr.org
SUMMARY:El Futuro del 5G en Costa Rica
DESCRIPTION:
URL:https://ciemicr.org/eventosrefresh_css/foro-implementacion-del-5g-en-costa-rica-3/
LOCATION:Auditorio del CFIA\, Curridabat\, 2346-1000\, Costa Rica\, Colegio de Ingenieros y Arquitectos\, Costa Rica
CATEGORIES:Eventos
ATTACH;FMTTYPE=image/jpeg:https://ciemicr.org/wp-content/uploads/2023/02/Foro-Implementacion-del-5G-en-Costa-Rica06-2.jpg
GEO:9.9253512346433;-84.03936233163
X-APPLE-STRUCTURED-LOCATION;VALUE=URI;X-ADDRESS=Auditorio del CFIA Curridabat 2346-1000 Costa Rica Colegio de Ingenieros y Arquitectos Costa Rica;X-APPLE-RADIUS=500;X-TITLE=2346-1000:geo:-84.03936233163,9.9253512346433
END:VEVENT
BEGIN:VEVENT
DTSTART;TZID=America/Costa_Rica:20230323T080000
DTEND;TZID=America/Costa_Rica:20230323T170000
DTSTAMP:20260420T072818
CREATED:20230203T145859Z
LAST-MODIFIED:20230203T145859Z
UID:10002154-1679558400-1679590800@ciemicr.org
SUMMARY:Seminario de Aire Acondicionado y Ventilación: Ambiente y Energía\, Sistemas de la climatización del futuro\, enfocados en Eficiencia Energética y Sostenibilidad Ambiental
DESCRIPTION:
URL:https://ciemicr.org/eventosrefresh_css/seminario-de-aire-acondicionado-y-ventilacion-ambiente-y-energia-retos-ante-los-cambios-en-la-industria-2-4/
LOCATION:Auditorio del CFIA\, Curridabat\, 2346-1000\, Costa Rica\, Colegio de Ingenieros y Arquitectos\, Costa Rica
CATEGORIES:Eventos
ATTACH;FMTTYPE=image/jpeg:https://ciemicr.org/wp-content/uploads/2023/02/Seminario-de-Aire-Acondicionado-y-Ventilacion-2.jpg
GEO:9.9253512346433;-84.03936233163
X-APPLE-STRUCTURED-LOCATION;VALUE=URI;X-ADDRESS=Auditorio del CFIA Curridabat 2346-1000 Costa Rica Colegio de Ingenieros y Arquitectos Costa Rica;X-APPLE-RADIUS=500;X-TITLE=2346-1000:geo:-84.03936233163,9.9253512346433
END:VEVENT
BEGIN:VEVENT
DTSTART;TZID=America/Costa_Rica:20230323T080000
DTEND;TZID=America/Costa_Rica:20230323T170000
DTSTAMP:20260420T072818
CREATED:20230203T145859Z
LAST-MODIFIED:20230301T163545Z
UID:10000624-1679558400-1679590800@ciemicr.org
SUMMARY:Seminario de Aire Acondicionado y Ventilación: Ambiente y Energía\, Sistemas de la climatización del futuro\, enfocados en Eficiencia Energética y Sostenibilidad Ambiental
DESCRIPTION:
URL:https://ciemicr.org/eventosrefresh_css/seminario-de-aire-acondicionado-y-ventilacion-ambiente-y-energia-retos-ante-los-cambios-en-la-industria-2/
LOCATION:Auditorio del CFIA\, Curridabat\, 2346-1000\, Costa Rica\, Colegio de Ingenieros y Arquitectos\, Costa Rica
CATEGORIES:Eventos
ATTACH;FMTTYPE=image/jpeg:https://ciemicr.org/wp-content/uploads/2023/02/Seminario-de-Aire-Acondicionado-y-Ventilacion-2.jpg
GEO:9.9253512346433;-84.03936233163
X-APPLE-STRUCTURED-LOCATION;VALUE=URI;X-ADDRESS=Auditorio del CFIA Curridabat 2346-1000 Costa Rica Colegio de Ingenieros y Arquitectos Costa Rica;X-APPLE-RADIUS=500;X-TITLE=2346-1000:geo:-84.03936233163,9.9253512346433
END:VEVENT
BEGIN:VEVENT
DTSTART;TZID=America/Costa_Rica:20230323T080000
DTEND;TZID=America/Costa_Rica:20230323T170000
DTSTAMP:20260420T072818
CREATED:20230203T145859Z
LAST-MODIFIED:20230203T145859Z
UID:10001736-1679558400-1679590800@ciemicr.org
SUMMARY:Seminario de Aire Acondicionado y Ventilación: Ambiente y Energía\, Sistemas de la climatización del futuro\, enfocados en Eficiencia Energética y Sostenibilidad Ambiental
DESCRIPTION:
URL:https://ciemicr.org/eventosrefresh_css/seminario-de-aire-acondicionado-y-ventilacion-ambiente-y-energia-retos-ante-los-cambios-en-la-industria-2-3/
LOCATION:Auditorio del CFIA\, Curridabat\, 2346-1000\, Costa Rica\, Colegio de Ingenieros y Arquitectos\, Costa Rica
CATEGORIES:Eventos
ATTACH;FMTTYPE=image/jpeg:https://ciemicr.org/wp-content/uploads/2023/02/Seminario-de-Aire-Acondicionado-y-Ventilacion-2.jpg
GEO:9.9253512346433;-84.03936233163
X-APPLE-STRUCTURED-LOCATION;VALUE=URI;X-ADDRESS=Auditorio del CFIA Curridabat 2346-1000 Costa Rica Colegio de Ingenieros y Arquitectos Costa Rica;X-APPLE-RADIUS=500;X-TITLE=2346-1000:geo:-84.03936233163,9.9253512346433
END:VEVENT
BEGIN:VEVENT
DTSTART;TZID=America/Costa_Rica:20230322T080000
DTEND;TZID=America/Costa_Rica:20230322T170000
DTSTAMP:20260420T072818
CREATED:20230203T144648Z
LAST-MODIFIED:20230301T221007Z
UID:10000623-1679472000-1679504400@ciemicr.org
SUMMARY:Seminario de Aire Acondicionado y Ventilación: Ambiente y Energía\, Sistemas de la climatización del futuro\, enfocados en Eficiencia Energética y Sostenibilidad Ambiental
DESCRIPTION:
URL:https://ciemicr.org/eventosrefresh_css/seminario-de-aire-acondicionado-y-ventilacion-ambiente-y-energia-retos-ante-los-cambios-en-la-industria/
LOCATION:Auditorio del CFIA\, Curridabat\, 2346-1000\, Costa Rica\, Colegio de Ingenieros y Arquitectos\, Costa Rica
CATEGORIES:Eventos
ATTACH;FMTTYPE=image/jpeg:https://ciemicr.org/wp-content/uploads/2023/02/Seminario-de-Aire-Acondicionado-y-Ventilacion-2.jpg
GEO:9.9253512346433;-84.03936233163
X-APPLE-STRUCTURED-LOCATION;VALUE=URI;X-ADDRESS=Auditorio del CFIA Curridabat 2346-1000 Costa Rica Colegio de Ingenieros y Arquitectos Costa Rica;X-APPLE-RADIUS=500;X-TITLE=2346-1000:geo:-84.03936233163,9.9253512346433
END:VEVENT
BEGIN:VEVENT
DTSTART;TZID=America/Costa_Rica:20230322T080000
DTEND;TZID=America/Costa_Rica:20230322T170000
DTSTAMP:20260420T072818
CREATED:20230203T144648Z
LAST-MODIFIED:20230203T144648Z
UID:10001735-1679472000-1679504400@ciemicr.org
SUMMARY:Seminario de Aire Acondicionado y Ventilación: Ambiente y Energía\, Sistemas de la climatización del futuro\, enfocados en Eficiencia Energética y Sostenibilidad Ambiental
DESCRIPTION:
URL:https://ciemicr.org/eventosrefresh_css/seminario-de-aire-acondicionado-y-ventilacion-ambiente-y-energia-retos-ante-los-cambios-en-la-industria-4/
LOCATION:Auditorio del CFIA\, Curridabat\, 2346-1000\, Costa Rica\, Colegio de Ingenieros y Arquitectos\, Costa Rica
CATEGORIES:Eventos
ATTACH;FMTTYPE=image/jpeg:https://ciemicr.org/wp-content/uploads/2023/02/Seminario-de-Aire-Acondicionado-y-Ventilacion-2.jpg
GEO:9.9253512346433;-84.03936233163
X-APPLE-STRUCTURED-LOCATION;VALUE=URI;X-ADDRESS=Auditorio del CFIA Curridabat 2346-1000 Costa Rica Colegio de Ingenieros y Arquitectos Costa Rica;X-APPLE-RADIUS=500;X-TITLE=2346-1000:geo:-84.03936233163,9.9253512346433
END:VEVENT
BEGIN:VEVENT
DTSTART;TZID=America/Costa_Rica:20230322T080000
DTEND;TZID=America/Costa_Rica:20230322T170000
DTSTAMP:20260420T072818
CREATED:20230203T144648Z
LAST-MODIFIED:20230203T144648Z
UID:10002153-1679472000-1679504400@ciemicr.org
SUMMARY:Seminario de Aire Acondicionado y Ventilación: Ambiente y Energía\, Sistemas de la climatización del futuro\, enfocados en Eficiencia Energética y Sostenibilidad Ambiental
DESCRIPTION:
URL:https://ciemicr.org/eventosrefresh_css/seminario-de-aire-acondicionado-y-ventilacion-ambiente-y-energia-retos-ante-los-cambios-en-la-industria-5/
LOCATION:Auditorio del CFIA\, Curridabat\, 2346-1000\, Costa Rica\, Colegio de Ingenieros y Arquitectos\, Costa Rica
CATEGORIES:Eventos
ATTACH;FMTTYPE=image/jpeg:https://ciemicr.org/wp-content/uploads/2023/02/Seminario-de-Aire-Acondicionado-y-Ventilacion-2.jpg
GEO:9.9253512346433;-84.03936233163
X-APPLE-STRUCTURED-LOCATION;VALUE=URI;X-ADDRESS=Auditorio del CFIA Curridabat 2346-1000 Costa Rica Colegio de Ingenieros y Arquitectos Costa Rica;X-APPLE-RADIUS=500;X-TITLE=2346-1000:geo:-84.03936233163,9.9253512346433
END:VEVENT
BEGIN:VEVENT
DTSTART;TZID=America/Costa_Rica:20230316T180000
DTEND;TZID=America/Costa_Rica:20230316T200000
DTSTAMP:20260420T072818
CREATED:20230222T164938Z
LAST-MODIFIED:20230222T164938Z
UID:10001739-1678989600-1678996800@ciemicr.org
SUMMARY:Mesa redonda: “Buenas prácticas para la inclusión de la mujer en áreas de la ingeniería”
DESCRIPTION:
URL:https://ciemicr.org/eventosrefresh_css/mesa-redonda-buenas-practicas-para-la-inclusion-de-la-mujer-en-areas-de-la-ingenieria-3/
LOCATION:Auditorio del CFIA\, Curridabat\, 2346-1000\, Costa Rica\, Colegio de Ingenieros y Arquitectos\, Costa Rica
CATEGORIES:Eventos
ATTACH;FMTTYPE=image/jpeg:https://ciemicr.org/wp-content/uploads/2023/02/Mesa-Redonda-Dia-de-la-mujer-1.jpg
GEO:9.9253512346433;-84.03936233163
X-APPLE-STRUCTURED-LOCATION;VALUE=URI;X-ADDRESS=Auditorio del CFIA Curridabat 2346-1000 Costa Rica Colegio de Ingenieros y Arquitectos Costa Rica;X-APPLE-RADIUS=500;X-TITLE=2346-1000:geo:-84.03936233163,9.9253512346433
END:VEVENT
BEGIN:VEVENT
DTSTART;TZID=America/Costa_Rica:20230316T180000
DTEND;TZID=America/Costa_Rica:20230316T200000
DTSTAMP:20260420T072818
CREATED:20230222T164938Z
LAST-MODIFIED:20230228T232813Z
UID:10000628-1678989600-1678996800@ciemicr.org
SUMMARY:Mesa redonda: “Buenas prácticas para la inclusión de la mujer en áreas de la ingeniería”
DESCRIPTION:
URL:https://ciemicr.org/eventosrefresh_css/mesa-redonda-buenas-practicas-para-la-inclusion-de-la-mujer-en-areas-de-la-ingenieria/
LOCATION:Auditorio del CFIA\, Curridabat\, 2346-1000\, Costa Rica\, Colegio de Ingenieros y Arquitectos\, Costa Rica
CATEGORIES:Eventos
ATTACH;FMTTYPE=image/jpeg:https://ciemicr.org/wp-content/uploads/2023/02/Mesa-Redonda-Dia-de-la-mujer-1.jpg
GEO:9.9253512346433;-84.03936233163
X-APPLE-STRUCTURED-LOCATION;VALUE=URI;X-ADDRESS=Auditorio del CFIA Curridabat 2346-1000 Costa Rica Colegio de Ingenieros y Arquitectos Costa Rica;X-APPLE-RADIUS=500;X-TITLE=2346-1000:geo:-84.03936233163,9.9253512346433
END:VEVENT
BEGIN:VEVENT
DTSTART;TZID=America/Costa_Rica:20230316T180000
DTEND;TZID=America/Costa_Rica:20230316T200000
DTSTAMP:20260420T072818
CREATED:20230222T164938Z
LAST-MODIFIED:20230222T164938Z
UID:10002157-1678989600-1678996800@ciemicr.org
SUMMARY:Mesa redonda: “Buenas prácticas para la inclusión de la mujer en áreas de la ingeniería”
DESCRIPTION:
URL:https://ciemicr.org/eventosrefresh_css/mesa-redonda-buenas-practicas-para-la-inclusion-de-la-mujer-en-areas-de-la-ingenieria-4/
LOCATION:Auditorio del CFIA\, Curridabat\, 2346-1000\, Costa Rica\, Colegio de Ingenieros y Arquitectos\, Costa Rica
CATEGORIES:Eventos
ATTACH;FMTTYPE=image/jpeg:https://ciemicr.org/wp-content/uploads/2023/02/Mesa-Redonda-Dia-de-la-mujer-1.jpg
GEO:9.9253512346433;-84.03936233163
X-APPLE-STRUCTURED-LOCATION;VALUE=URI;X-ADDRESS=Auditorio del CFIA Curridabat 2346-1000 Costa Rica Colegio de Ingenieros y Arquitectos Costa Rica;X-APPLE-RADIUS=500;X-TITLE=2346-1000:geo:-84.03936233163,9.9253512346433
END:VEVENT
BEGIN:VEVENT
DTSTART;TZID=America/Costa_Rica:20221124T020000
DTEND;TZID=America/Costa_Rica:20221124T123000
DTSTAMP:20260420T072818
CREATED:20221007T044752Z
LAST-MODIFIED:20221025T203921Z
UID:10000280-1669255200-1669293000@ciemicr.org
SUMMARY:V Foro Innovación y Sostenibilidad
DESCRIPTION:
URL:https://ciemicr.org/eventosrefresh_css/v-foro-de-emprendimiento-e-innovacion/
LOCATION:Auditorio del CFIA\, Curridabat\, 2346-1000\, Costa Rica\, Colegio de Ingenieros y Arquitectos\, Costa Rica
CATEGORIES:Eventos
ATTACH;FMTTYPE=image/jpeg:https://ciemicr.org/wp-content/uploads/2022/10/V-Foro-de-Emprendimiento-e-Innovacion04.jpg
GEO:9.9253512346433;-84.03936233163
X-APPLE-STRUCTURED-LOCATION;VALUE=URI;X-ADDRESS=Auditorio del CFIA Curridabat 2346-1000 Costa Rica Colegio de Ingenieros y Arquitectos Costa Rica;X-APPLE-RADIUS=500;X-TITLE=2346-1000:geo:-84.03936233163,9.9253512346433
END:VEVENT
BEGIN:VEVENT
DTSTART;TZID=America/Costa_Rica:20221124T020000
DTEND;TZID=America/Costa_Rica:20221124T123000
DTSTAMP:20260420T072818
CREATED:20221007T044752Z
LAST-MODIFIED:20221007T044752Z
UID:10001683-1669255200-1669293000@ciemicr.org
SUMMARY:V Foro Innovación y Sostenibilidad
DESCRIPTION:
URL:https://ciemicr.org/eventosrefresh_css/v-foro-de-emprendimiento-e-innovacion-3/
LOCATION:Auditorio del CFIA\, Curridabat\, 2346-1000\, Costa Rica\, Colegio de Ingenieros y Arquitectos\, Costa Rica
CATEGORIES:Eventos
ATTACH;FMTTYPE=image/jpeg:https://ciemicr.org/wp-content/uploads/2022/10/V-Foro-de-Emprendimiento-e-Innovacion04.jpg
GEO:9.9253512346433;-84.03936233163
X-APPLE-STRUCTURED-LOCATION;VALUE=URI;X-ADDRESS=Auditorio del CFIA Curridabat 2346-1000 Costa Rica Colegio de Ingenieros y Arquitectos Costa Rica;X-APPLE-RADIUS=500;X-TITLE=2346-1000:geo:-84.03936233163,9.9253512346433
END:VEVENT
BEGIN:VEVENT
DTSTART;TZID=America/Costa_Rica:20221124T020000
DTEND;TZID=America/Costa_Rica:20221124T123000
DTSTAMP:20260420T072818
CREATED:20221007T044752Z
LAST-MODIFIED:20221007T044752Z
UID:10002101-1669255200-1669293000@ciemicr.org
SUMMARY:V Foro Innovación y Sostenibilidad
DESCRIPTION:
URL:https://ciemicr.org/eventosrefresh_css/v-foro-de-emprendimiento-e-innovacion-4/
LOCATION:Auditorio del CFIA\, Curridabat\, 2346-1000\, Costa Rica\, Colegio de Ingenieros y Arquitectos\, Costa Rica
CATEGORIES:Eventos
ATTACH;FMTTYPE=image/jpeg:https://ciemicr.org/wp-content/uploads/2022/10/V-Foro-de-Emprendimiento-e-Innovacion04.jpg
GEO:9.9253512346433;-84.03936233163
X-APPLE-STRUCTURED-LOCATION;VALUE=URI;X-ADDRESS=Auditorio del CFIA Curridabat 2346-1000 Costa Rica Colegio de Ingenieros y Arquitectos Costa Rica;X-APPLE-RADIUS=500;X-TITLE=2346-1000:geo:-84.03936233163,9.9253512346433
END:VEVENT
END:VCALENDAR