BEGIN:VCALENDAR
VERSION:2.0
PRODID:-//CIEMI - ECPv6.15.13.1//NONSGML v1.0//EN
CALSCALE:GREGORIAN
METHOD:PUBLISH
X-WR-CALNAME:CIEMI
X-ORIGINAL-URL:https://ciemicr.org
X-WR-CALDESC:Eventos para CIEMI
REFRESH-INTERVAL;VALUE=DURATION:PT1H
X-Robots-Tag:noindex
X-PUBLISHED-TTL:PT1H
BEGIN:VTIMEZONE
TZID:America/Costa_Rica
BEGIN:STANDARD
TZOFFSETFROM:-0600
TZOFFSETTO:-0600
TZNAME:CST
DTSTART:20220101T000000
END:STANDARD
END:VTIMEZONE
BEGIN:VEVENT
DTSTART;TZID=America/Costa_Rica:20250519T080000
DTEND;TZID=America/Costa_Rica:20250519T173000
DTSTAMP:20260420T014151
CREATED:20250224T175411Z
LAST-MODIFIED:20250303T150208Z
UID:10001594-1747641600-1747675800@ciemicr.org
SUMMARY:Curso NFPA 70\, Fundamentos de Código Eléctrico Nacional 2020
DESCRIPTION:Inscríbase \nPrograma
URL:https://ciemicr.org/eventosrefresh_css/curso-nfpa-70-codigo-electrico-nacional-2020/
LOCATION:CCCIEMI\, CIEMI\, CIEMI\, Costa Rica
CATEGORIES:Capacitaciones
ATTACH;FMTTYPE=image/jpeg:https://ciemicr.org/wp-content/uploads/2025/02/NFPA-70-.jpg
END:VEVENT
BEGIN:VEVENT
DTSTART;TZID=America/Costa_Rica:20250213T180000
DTEND;TZID=America/Costa_Rica:20250213T180000
DTSTAMP:20260420T014151
CREATED:20250117T230235Z
LAST-MODIFIED:20250117T230235Z
UID:10002402-1739469600-1739469600@ciemicr.org
SUMMARY:Conferencia sobre el espectro electromagnético
DESCRIPTION:Inscríbase
URL:https://ciemicr.org/eventosrefresh_css/conferencia-sobre-el-espectro-electromagnetico-3/
LOCATION:CCCIEMI\, CIEMI\, CIEMI\, Costa Rica
CATEGORIES:Conferencias
ATTACH;FMTTYPE=image/jpeg:https://ciemicr.org/wp-content/uploads/2025/01/Conferencia-Espectro-.jpg
END:VEVENT
BEGIN:VEVENT
DTSTART;TZID=America/Costa_Rica:20250213T180000
DTEND;TZID=America/Costa_Rica:20250213T180000
DTSTAMP:20260420T014151
CREATED:20250117T230235Z
LAST-MODIFIED:20250117T230235Z
UID:10001984-1739469600-1739469600@ciemicr.org
SUMMARY:Conferencia sobre el espectro electromagnético
DESCRIPTION:Inscríbase
URL:https://ciemicr.org/eventosrefresh_css/conferencia-sobre-el-espectro-electromagnetico-2/
LOCATION:CCCIEMI\, CIEMI\, CIEMI\, Costa Rica
CATEGORIES:Conferencias
ATTACH;FMTTYPE=image/jpeg:https://ciemicr.org/wp-content/uploads/2025/01/Conferencia-Espectro-.jpg
END:VEVENT
BEGIN:VEVENT
DTSTART;TZID=America/Costa_Rica:20250213T180000
DTEND;TZID=America/Costa_Rica:20250213T180000
DTSTAMP:20260420T014151
CREATED:20250117T230235Z
LAST-MODIFIED:20250124T171507Z
UID:10001571-1739469600-1739469600@ciemicr.org
SUMMARY:Conferencia sobre el espectro electromagnético
DESCRIPTION:Inscríbase
URL:https://ciemicr.org/eventosrefresh_css/conferencia-sobre-el-espectro-electromagnetico/
LOCATION:CCCIEMI\, CIEMI\, CIEMI\, Costa Rica
CATEGORIES:Conferencias
ATTACH;FMTTYPE=image/jpeg:https://ciemicr.org/wp-content/uploads/2025/01/Conferencia-Espectro-.jpg
END:VEVENT
BEGIN:VEVENT
DTSTART;TZID=America/Costa_Rica:20240824T090000
DTEND;TZID=America/Costa_Rica:20240824T090000
DTSTAMP:20260420T014151
CREATED:20240401T172753Z
LAST-MODIFIED:20240401T172753Z
UID:10001878-1724490000-1724490000@ciemicr.org
SUMMARY:Torneo de Ajedrez
DESCRIPTION:Inscríbase \n 
URL:https://ciemicr.org/eventosrefresh_css/torneo-de-ajedrez-2/
LOCATION:CCCIEMI\, CIEMI\, CIEMI\, Costa Rica
CATEGORIES:Eventos
ATTACH;FMTTYPE=image/jpeg:https://ciemicr.org/wp-content/uploads/2024/04/Torneo-de-Ajedrez-2.jpg
END:VEVENT
BEGIN:VEVENT
DTSTART;TZID=America/Costa_Rica:20240824T090000
DTEND;TZID=America/Costa_Rica:20240824T090000
DTSTAMP:20260420T014151
CREATED:20240401T172753Z
LAST-MODIFIED:20240401T172753Z
UID:10002296-1724490000-1724490000@ciemicr.org
SUMMARY:Torneo de Ajedrez
DESCRIPTION:Inscríbase \n 
URL:https://ciemicr.org/eventosrefresh_css/torneo-de-ajedrez-3/
LOCATION:CCCIEMI\, CIEMI\, CIEMI\, Costa Rica
CATEGORIES:Eventos
ATTACH;FMTTYPE=image/jpeg:https://ciemicr.org/wp-content/uploads/2024/04/Torneo-de-Ajedrez-2.jpg
END:VEVENT
BEGIN:VEVENT
DTSTART;TZID=America/Costa_Rica:20240824T090000
DTEND;TZID=America/Costa_Rica:20240824T090000
DTSTAMP:20260420T014151
CREATED:20240401T172753Z
LAST-MODIFIED:20240806T221603Z
UID:10000808-1724490000-1724490000@ciemicr.org
SUMMARY:Torneo de Ajedrez
DESCRIPTION:Inscríbase \n 
URL:https://ciemicr.org/eventosrefresh_css/torneo-de-ajedrez/
LOCATION:CCCIEMI\, CIEMI\, CIEMI\, Costa Rica
CATEGORIES:Eventos
ATTACH;FMTTYPE=image/jpeg:https://ciemicr.org/wp-content/uploads/2024/04/Torneo-de-Ajedrez-2.jpg
END:VEVENT
BEGIN:VEVENT
DTSTART;TZID=America/Costa_Rica:20240812T080000
DTEND;TZID=America/Costa_Rica:20240812T170000
DTSTAMP:20260420T014151
CREATED:20240702T193812Z
LAST-MODIFIED:20240702T193812Z
UID:10002336-1723449600-1723482000@ciemicr.org
SUMMARY:Curso NFPA 70B: Mantenimiento de Equipos Eléctricos
DESCRIPTION:Inscríbase aquí \nPrograma
URL:https://ciemicr.org/eventosrefresh_css/curso-nfpa-70b-mantenimiento-de-equipos-electricos-3/
LOCATION:CCCIEMI\, CIEMI\, CIEMI\, Costa Rica
CATEGORIES:Capacitaciones
ATTACH;FMTTYPE=image/jpeg:https://ciemicr.org/wp-content/uploads/2024/07/Curso-NFPA-70B.jpg
END:VEVENT
BEGIN:VEVENT
DTSTART;TZID=America/Costa_Rica:20240812T080000
DTEND;TZID=America/Costa_Rica:20240812T170000
DTSTAMP:20260420T014151
CREATED:20240702T193812Z
LAST-MODIFIED:20240702T193812Z
UID:10001918-1723449600-1723482000@ciemicr.org
SUMMARY:Curso NFPA 70B: Mantenimiento de Equipos Eléctricos
DESCRIPTION:Inscríbase aquí \nPrograma
URL:https://ciemicr.org/eventosrefresh_css/curso-nfpa-70b-mantenimiento-de-equipos-electricos-2/
LOCATION:CCCIEMI\, CIEMI\, CIEMI\, Costa Rica
CATEGORIES:Capacitaciones
ATTACH;FMTTYPE=image/jpeg:https://ciemicr.org/wp-content/uploads/2024/07/Curso-NFPA-70B.jpg
END:VEVENT
BEGIN:VEVENT
DTSTART;TZID=America/Costa_Rica:20240812T080000
DTEND;TZID=America/Costa_Rica:20240812T170000
DTSTAMP:20260420T014151
CREATED:20240702T193812Z
LAST-MODIFIED:20240801T143031Z
UID:10000855-1723449600-1723482000@ciemicr.org
SUMMARY:Curso NFPA 70B: Mantenimiento de Equipos Eléctricos
DESCRIPTION:Inscríbase aquí \nPrograma
URL:https://ciemicr.org/eventosrefresh_css/curso-nfpa-70b-mantenimiento-de-equipos-electricos/
LOCATION:CCCIEMI\, CIEMI\, CIEMI\, Costa Rica
CATEGORIES:Capacitaciones
ATTACH;FMTTYPE=image/jpeg:https://ciemicr.org/wp-content/uploads/2024/07/Curso-NFPA-70B.jpg
END:VEVENT
BEGIN:VEVENT
DTSTART;TZID=America/Costa_Rica:20240516T160000
DTEND;TZID=America/Costa_Rica:20240516T190000
DTSTAMP:20260420T014151
CREATED:20240422T231219Z
LAST-MODIFIED:20240422T231219Z
UID:10002306-1715875200-1715886000@ciemicr.org
SUMMARY:Conferencias Técnicas: Día Mundial de las Telecomunicaciones
DESCRIPTION:Inscríbase aquí
URL:https://ciemicr.org/eventosrefresh_css/conferencias-tecnicas-dia-mundial-de-las-telecomunicaciones-3/
LOCATION:CCCIEMI\, CIEMI\, CIEMI\, Costa Rica
CATEGORIES:Eventos
ATTACH;FMTTYPE=image/jpeg:https://ciemicr.org/wp-content/uploads/2024/04/Conferencias-tecnicas-Dia-Mundial-de-las-Telecomunicaciones-2.jpg
END:VEVENT
BEGIN:VEVENT
DTSTART;TZID=America/Costa_Rica:20240516T160000
DTEND;TZID=America/Costa_Rica:20240516T190000
DTSTAMP:20260420T014151
CREATED:20240422T231219Z
LAST-MODIFIED:20240422T231219Z
UID:10001888-1715875200-1715886000@ciemicr.org
SUMMARY:Conferencias Técnicas: Día Mundial de las Telecomunicaciones
DESCRIPTION:Inscríbase aquí
URL:https://ciemicr.org/eventosrefresh_css/conferencias-tecnicas-dia-mundial-de-las-telecomunicaciones-2/
LOCATION:CCCIEMI\, CIEMI\, CIEMI\, Costa Rica
CATEGORIES:Eventos
ATTACH;FMTTYPE=image/jpeg:https://ciemicr.org/wp-content/uploads/2024/04/Conferencias-tecnicas-Dia-Mundial-de-las-Telecomunicaciones-2.jpg
END:VEVENT
BEGIN:VEVENT
DTSTART;TZID=America/Costa_Rica:20240516T160000
DTEND;TZID=America/Costa_Rica:20240516T190000
DTSTAMP:20260420T014151
CREATED:20240422T231219Z
LAST-MODIFIED:20240425T213924Z
UID:10000822-1715875200-1715886000@ciemicr.org
SUMMARY:Conferencias Técnicas: Día Mundial de las Telecomunicaciones
DESCRIPTION:Inscríbase aquí
URL:https://ciemicr.org/eventosrefresh_css/conferencias-tecnicas-dia-mundial-de-las-telecomunicaciones/
LOCATION:CCCIEMI\, CIEMI\, CIEMI\, Costa Rica
CATEGORIES:Eventos
ATTACH;FMTTYPE=image/jpeg:https://ciemicr.org/wp-content/uploads/2024/04/Conferencias-tecnicas-Dia-Mundial-de-las-Telecomunicaciones-2.jpg
END:VEVENT
BEGIN:VEVENT
DTSTART;TZID=America/Costa_Rica:20240430T173000
DTEND;TZID=America/Costa_Rica:20240430T173000
DTSTAMP:20260420T014151
CREATED:20240411T203605Z
LAST-MODIFIED:20240422T225450Z
UID:10000814-1714498200-1714498200@ciemicr.org
SUMMARY:Seminario Cambio Climático: Impactos en el Trabajo
DESCRIPTION:Inscríbase aquí \nPrograma
URL:https://ciemicr.org/eventosrefresh_css/seminario-trabajo-seguro-y-saludable/
LOCATION:CCCIEMI\, CIEMI\, CIEMI\, Costa Rica
CATEGORIES:Eventos
ATTACH;FMTTYPE=image/jpeg:https://ciemicr.org/wp-content/uploads/2024/04/04.Seminario-Trabajo-Seguro-y-Saludable.jpg
END:VEVENT
BEGIN:VEVENT
DTSTART;TZID=America/Costa_Rica:20240430T173000
DTEND;TZID=America/Costa_Rica:20240430T173000
DTSTAMP:20260420T014151
CREATED:20240411T203605Z
LAST-MODIFIED:20240411T203605Z
UID:10001884-1714498200-1714498200@ciemicr.org
SUMMARY:Seminario Cambio Climático: Impactos en el Trabajo
DESCRIPTION:Inscríbase aquí \nPrograma
URL:https://ciemicr.org/eventosrefresh_css/seminario-trabajo-seguro-y-saludable-2/
LOCATION:CCCIEMI\, CIEMI\, CIEMI\, Costa Rica
CATEGORIES:Eventos
ATTACH;FMTTYPE=image/jpeg:https://ciemicr.org/wp-content/uploads/2024/04/04.Seminario-Trabajo-Seguro-y-Saludable.jpg
END:VEVENT
BEGIN:VEVENT
DTSTART;TZID=America/Costa_Rica:20240430T173000
DTEND;TZID=America/Costa_Rica:20240430T173000
DTSTAMP:20260420T014151
CREATED:20240411T203605Z
LAST-MODIFIED:20240411T203605Z
UID:10002302-1714498200-1714498200@ciemicr.org
SUMMARY:Seminario Cambio Climático: Impactos en el Trabajo
DESCRIPTION:Inscríbase aquí \nPrograma
URL:https://ciemicr.org/eventosrefresh_css/seminario-trabajo-seguro-y-saludable-3/
LOCATION:CCCIEMI\, CIEMI\, CIEMI\, Costa Rica
CATEGORIES:Eventos
ATTACH;FMTTYPE=image/jpeg:https://ciemicr.org/wp-content/uploads/2024/04/04.Seminario-Trabajo-Seguro-y-Saludable.jpg
END:VEVENT
BEGIN:VEVENT
DTSTART;TZID=America/Costa_Rica:20240313T080000
DTEND;TZID=America/Costa_Rica:20240313T170000
DTSTAMP:20260420T014151
CREATED:20231128T155458Z
LAST-MODIFIED:20240304T171455Z
UID:10000761-1710316800-1710349200@ciemicr.org
SUMMARY:Curso NFPA 101: Código de Seguridad Humana
DESCRIPTION:Inscríbase aquí \nPrograma
URL:https://ciemicr.org/eventosrefresh_css/curso-nfpa-101-codigo-de-seguridad-humana/
LOCATION:CCCIEMI\, CIEMI\, CIEMI\, Costa Rica
CATEGORIES:Capacitaciones
ATTACH;FMTTYPE=image/jpeg:https://ciemicr.org/wp-content/uploads/2023/11/NFPA-101-Codigo-de-Seguridad-Humana.jpg
END:VEVENT
BEGIN:VEVENT
DTSTART;TZID=America/Costa_Rica:20240313T080000
DTEND;TZID=America/Costa_Rica:20240313T170000
DTSTAMP:20260420T014151
CREATED:20231128T155458Z
LAST-MODIFIED:20231128T155458Z
UID:10002255-1710316800-1710349200@ciemicr.org
SUMMARY:Curso NFPA 101: Código de Seguridad Humana
DESCRIPTION:Inscríbase aquí \nPrograma
URL:https://ciemicr.org/eventosrefresh_css/curso-nfpa-101-codigo-de-seguridad-humana-4/
LOCATION:CCCIEMI\, CIEMI\, CIEMI\, Costa Rica
CATEGORIES:Capacitaciones
ATTACH;FMTTYPE=image/jpeg:https://ciemicr.org/wp-content/uploads/2023/11/NFPA-101-Codigo-de-Seguridad-Humana.jpg
END:VEVENT
BEGIN:VEVENT
DTSTART;TZID=America/Costa_Rica:20240313T080000
DTEND;TZID=America/Costa_Rica:20240313T170000
DTSTAMP:20260420T014151
CREATED:20231128T155458Z
LAST-MODIFIED:20231128T155458Z
UID:10001837-1710316800-1710349200@ciemicr.org
SUMMARY:Curso NFPA 101: Código de Seguridad Humana
DESCRIPTION:Inscríbase aquí \nPrograma
URL:https://ciemicr.org/eventosrefresh_css/curso-nfpa-101-codigo-de-seguridad-humana-3/
LOCATION:CCCIEMI\, CIEMI\, CIEMI\, Costa Rica
CATEGORIES:Capacitaciones
ATTACH;FMTTYPE=image/jpeg:https://ciemicr.org/wp-content/uploads/2023/11/NFPA-101-Codigo-de-Seguridad-Humana.jpg
END:VEVENT
BEGIN:VEVENT
DTSTART;TZID=America/Costa_Rica:20240224T080000
DTEND;TZID=America/Costa_Rica:20240224T170000
DTSTAMP:20260420T014151
CREATED:20240118T155948Z
LAST-MODIFIED:20240118T202739Z
UID:10000775-1708761600-1708794000@ciemicr.org
SUMMARY:Curso Actualización de requerimientos de diseño e inspección para instalaciones eléctricas residenciales
DESCRIPTION:Inscríbase aquí \nPrograma
URL:https://ciemicr.org/eventosrefresh_css/curso-actualizacion-de-requerimientos-de-diseno-e-inspeccion-para-instalaciones-electricas-residenciales-3/
LOCATION:CCCIEMI\, CIEMI\, CIEMI\, Costa Rica
CATEGORIES:Capacitaciones
ATTACH;FMTTYPE=image/jpeg:https://ciemicr.org/wp-content/uploads/2024/01/Curso-Actualizacion-requerimientos.jpg
END:VEVENT
BEGIN:VEVENT
DTSTART;TZID=America/Costa_Rica:20240224T080000
DTEND;TZID=America/Costa_Rica:20240224T170000
DTSTAMP:20260420T014151
CREATED:20240118T155948Z
LAST-MODIFIED:20240118T155948Z
UID:10002267-1708761600-1708794000@ciemicr.org
SUMMARY:Curso Actualización de requerimientos de diseño e inspección para instalaciones eléctricas residenciales
DESCRIPTION:Inscríbase aquí \nPrograma
URL:https://ciemicr.org/eventosrefresh_css/curso-actualizacion-de-requerimientos-de-diseno-e-inspeccion-para-instalaciones-electricas-residenciales-3-3/
LOCATION:CCCIEMI\, CIEMI\, CIEMI\, Costa Rica
CATEGORIES:Capacitaciones
ATTACH;FMTTYPE=image/jpeg:https://ciemicr.org/wp-content/uploads/2024/01/Curso-Actualizacion-requerimientos.jpg
END:VEVENT
BEGIN:VEVENT
DTSTART;TZID=America/Costa_Rica:20240224T080000
DTEND;TZID=America/Costa_Rica:20240224T170000
DTSTAMP:20260420T014151
CREATED:20240118T155948Z
LAST-MODIFIED:20240118T155948Z
UID:10001849-1708761600-1708794000@ciemicr.org
SUMMARY:Curso Actualización de requerimientos de diseño e inspección para instalaciones eléctricas residenciales
DESCRIPTION:Inscríbase aquí \nPrograma
URL:https://ciemicr.org/eventosrefresh_css/curso-actualizacion-de-requerimientos-de-diseno-e-inspeccion-para-instalaciones-electricas-residenciales-3-2/
LOCATION:CCCIEMI\, CIEMI\, CIEMI\, Costa Rica
CATEGORIES:Capacitaciones
ATTACH;FMTTYPE=image/jpeg:https://ciemicr.org/wp-content/uploads/2024/01/Curso-Actualizacion-requerimientos.jpg
END:VEVENT
BEGIN:VEVENT
DTSTART;TZID=America/Costa_Rica:20240120T080000
DTEND;TZID=America/Costa_Rica:20240120T170000
DTSTAMP:20260420T014151
CREATED:20231129T204553Z
LAST-MODIFIED:20231212T211832Z
UID:10000763-1705737600-1705770000@ciemicr.org
SUMMARY:Curso Actualización de requerimientos de diseño e inspección para instalaciones eléctricas residenciales
DESCRIPTION:Inscríbase aquí \nPrograma
URL:https://ciemicr.org/eventosrefresh_css/curso-actualizacion-de-requerimientos-de-diseno-e-inspeccion-para-instalaciones-electricas-residenciales/
LOCATION:CCCIEMI\, CIEMI\, CIEMI\, Costa Rica
CATEGORIES:Capacitaciones
ATTACH;FMTTYPE=image/jpeg:https://ciemicr.org/wp-content/uploads/2023/11/Curso-Actualizacion-de-requerimientos-de-diseno-e-inspeccion-para-instalaciones-electricas-residenciales-01-3.jpg
END:VEVENT
BEGIN:VEVENT
DTSTART;TZID=America/Costa_Rica:20240120T080000
DTEND;TZID=America/Costa_Rica:20240120T170000
DTSTAMP:20260420T014151
CREATED:20231129T204553Z
LAST-MODIFIED:20231129T204553Z
UID:10002257-1705737600-1705770000@ciemicr.org
SUMMARY:Curso Actualización de requerimientos de diseño e inspección para instalaciones eléctricas residenciales
DESCRIPTION:Inscríbase aquí \nPrograma
URL:https://ciemicr.org/eventosrefresh_css/curso-actualizacion-de-requerimientos-de-diseno-e-inspeccion-para-instalaciones-electricas-residenciales-6/
LOCATION:CCCIEMI\, CIEMI\, CIEMI\, Costa Rica
CATEGORIES:Capacitaciones
ATTACH;FMTTYPE=image/jpeg:https://ciemicr.org/wp-content/uploads/2023/11/Curso-Actualizacion-de-requerimientos-de-diseno-e-inspeccion-para-instalaciones-electricas-residenciales-01-3.jpg
END:VEVENT
BEGIN:VEVENT
DTSTART;TZID=America/Costa_Rica:20240120T080000
DTEND;TZID=America/Costa_Rica:20240120T170000
DTSTAMP:20260420T014151
CREATED:20231129T204553Z
LAST-MODIFIED:20231129T204553Z
UID:10001839-1705737600-1705770000@ciemicr.org
SUMMARY:Curso Actualización de requerimientos de diseño e inspección para instalaciones eléctricas residenciales
DESCRIPTION:Inscríbase aquí \nPrograma
URL:https://ciemicr.org/eventosrefresh_css/curso-actualizacion-de-requerimientos-de-diseno-e-inspeccion-para-instalaciones-electricas-residenciales-5/
LOCATION:CCCIEMI\, CIEMI\, CIEMI\, Costa Rica
CATEGORIES:Capacitaciones
ATTACH;FMTTYPE=image/jpeg:https://ciemicr.org/wp-content/uploads/2023/11/Curso-Actualizacion-de-requerimientos-de-diseno-e-inspeccion-para-instalaciones-electricas-residenciales-01-3.jpg
END:VEVENT
BEGIN:VEVENT
DTSTART;TZID=America/Costa_Rica:20231027T090000
DTEND;TZID=America/Costa_Rica:20231027T090000
DTSTAMP:20260420T014151
CREATED:20231005T233717Z
LAST-MODIFIED:20231005T233717Z
UID:10001805-1698397200-1698397200@ciemicr.org
SUMMARY:Desayuno técnico: Mejora de la eficiencia energética de HVAC\, a través de una medición precisa de la humedad y dióxido de carbono
DESCRIPTION:Regístrese aquí
URL:https://ciemicr.org/eventosrefresh_css/desayuno-tipico-mejora-de-la-eficiencia-energetica-de-hvac-a-traves-de-una-medicion-precisa-de-la-humedad-y-dioxido-de-carbono-3/
LOCATION:CCCIEMI\, CIEMI\, CIEMI\, Costa Rica
CATEGORIES:Conferencias
ATTACH;FMTTYPE=image/jpeg:https://ciemicr.org/wp-content/uploads/2023/10/Desayuno-Mejora-de-la-eficiencia-energetica-de-HVAC-a-traves-de-una-medicion-precisa-de-la-humedad-y-dioxido-de-carbono-3.jpg
END:VEVENT
BEGIN:VEVENT
DTSTART;TZID=America/Costa_Rica:20231027T090000
DTEND;TZID=America/Costa_Rica:20231027T090000
DTSTAMP:20260420T014151
CREATED:20231005T233717Z
LAST-MODIFIED:20231005T233717Z
UID:10002223-1698397200-1698397200@ciemicr.org
SUMMARY:Desayuno técnico: Mejora de la eficiencia energética de HVAC\, a través de una medición precisa de la humedad y dióxido de carbono
DESCRIPTION:Regístrese aquí
URL:https://ciemicr.org/eventosrefresh_css/desayuno-tipico-mejora-de-la-eficiencia-energetica-de-hvac-a-traves-de-una-medicion-precisa-de-la-humedad-y-dioxido-de-carbono-4/
LOCATION:CCCIEMI\, CIEMI\, CIEMI\, Costa Rica
CATEGORIES:Conferencias
ATTACH;FMTTYPE=image/jpeg:https://ciemicr.org/wp-content/uploads/2023/10/Desayuno-Mejora-de-la-eficiencia-energetica-de-HVAC-a-traves-de-una-medicion-precisa-de-la-humedad-y-dioxido-de-carbono-3.jpg
END:VEVENT
BEGIN:VEVENT
DTSTART;TZID=America/Costa_Rica:20231027T090000
DTEND;TZID=America/Costa_Rica:20231027T090000
DTSTAMP:20260420T014151
CREATED:20231005T233717Z
LAST-MODIFIED:20231012T004700Z
UID:10000721-1698397200-1698397200@ciemicr.org
SUMMARY:Desayuno técnico: Mejora de la eficiencia energética de HVAC\, a través de una medición precisa de la humedad y dióxido de carbono
DESCRIPTION:Regístrese aquí
URL:https://ciemicr.org/eventosrefresh_css/desayuno-tipico-mejora-de-la-eficiencia-energetica-de-hvac-a-traves-de-una-medicion-precisa-de-la-humedad-y-dioxido-de-carbono/
LOCATION:CCCIEMI\, CIEMI\, CIEMI\, Costa Rica
CATEGORIES:Conferencias
ATTACH;FMTTYPE=image/jpeg:https://ciemicr.org/wp-content/uploads/2023/10/Desayuno-Mejora-de-la-eficiencia-energetica-de-HVAC-a-traves-de-una-medicion-precisa-de-la-humedad-y-dioxido-de-carbono-3.jpg
END:VEVENT
BEGIN:VEVENT
DTSTART;TZID=America/Costa_Rica:20231003T180000
DTEND;TZID=America/Costa_Rica:20231003T180000
DTSTAMP:20260420T014151
CREATED:20230920T180142Z
LAST-MODIFIED:20230920T180142Z
UID:10001796-1696356000-1696356000@ciemicr.org
SUMMARY:Actualización de disposiciones con los trámites de proyectos en la CNFL
DESCRIPTION:Regístrese aquí
URL:https://ciemicr.org/eventosrefresh_css/actualizacion-de-criterios-constructivos-para-redes-aereas-y-expansion-del-sistema-138-kv-en-la-ciudad-de-san-jose-3/
LOCATION:CCCIEMI\, CIEMI\, CIEMI\, Costa Rica
CATEGORIES:Eventos
ATTACH;FMTTYPE=image/jpeg:https://ciemicr.org/wp-content/uploads/2023/09/Actualizacion-de-criterios-constructivos-para-redes-aereas-4.jpg
END:VEVENT
BEGIN:VEVENT
DTSTART;TZID=America/Costa_Rica:20231003T180000
DTEND;TZID=America/Costa_Rica:20231003T180000
DTSTAMP:20260420T014151
CREATED:20230920T180142Z
LAST-MODIFIED:20230927T000034Z
UID:10000710-1696356000-1696356000@ciemicr.org
SUMMARY:Actualización de disposiciones con los trámites de proyectos en la CNFL
DESCRIPTION:Regístrese aquí
URL:https://ciemicr.org/eventosrefresh_css/actualizacion-de-criterios-constructivos-para-redes-aereas-y-expansion-del-sistema-138-kv-en-la-ciudad-de-san-jose/
LOCATION:CCCIEMI\, CIEMI\, CIEMI\, Costa Rica
CATEGORIES:Eventos
ATTACH;FMTTYPE=image/jpeg:https://ciemicr.org/wp-content/uploads/2023/09/Actualizacion-de-criterios-constructivos-para-redes-aereas-4.jpg
END:VEVENT
END:VCALENDAR