BEGIN:VCALENDAR
VERSION:2.0
PRODID:-//CIEMI - ECPv6.15.13.1//NONSGML v1.0//EN
CALSCALE:GREGORIAN
METHOD:PUBLISH
X-WR-CALNAME:CIEMI
X-ORIGINAL-URL:https://ciemicr.org
X-WR-CALDESC:Eventos para CIEMI
REFRESH-INTERVAL;VALUE=DURATION:PT1H
X-Robots-Tag:noindex
X-PUBLISHED-TTL:PT1H
BEGIN:VTIMEZONE
TZID:America/Costa_Rica
BEGIN:STANDARD
TZOFFSETFROM:-0600
TZOFFSETTO:-0600
TZNAME:CST
DTSTART:20220101T000000
END:STANDARD
END:VTIMEZONE
BEGIN:VEVENT
DTSTART;TZID=America/Costa_Rica:20240418T180000
DTEND;TZID=America/Costa_Rica:20240418T210000
DTSTAMP:20260421T133411
CREATED:20231128T003925Z
LAST-MODIFIED:20240301T154118Z
UID:10000757-1713463200-1713474000@ciemicr.org
SUMMARY:Curso básico para el cultivo de orquídeas
DESCRIPTION:Inscríbase aquí \nPrograma
URL:https://ciemicr.org/eventosrefresh_css/curso-cultivo-de-orquideas/
LOCATION:Hibrido
CATEGORIES:Capacitaciones
ATTACH;FMTTYPE=image/jpeg:https://ciemicr.org/wp-content/uploads/2023/11/Curso-basico-para-el-cultivo-de-orquideas-1.jpg
END:VEVENT
BEGIN:VEVENT
DTSTART;TZID=America/Costa_Rica:20240418T180000
DTEND;TZID=America/Costa_Rica:20240418T210000
DTSTAMP:20260421T133411
CREATED:20231128T003925Z
LAST-MODIFIED:20231128T003925Z
UID:10001835-1713463200-1713474000@ciemicr.org
SUMMARY:Curso básico para el cultivo de orquídeas
DESCRIPTION:Inscríbase aquí \nPrograma
URL:https://ciemicr.org/eventosrefresh_css/curso-cultivo-de-orquideas-2/
LOCATION:Hibrido
CATEGORIES:Capacitaciones
ATTACH;FMTTYPE=image/jpeg:https://ciemicr.org/wp-content/uploads/2023/11/Curso-basico-para-el-cultivo-de-orquideas-1.jpg
END:VEVENT
BEGIN:VEVENT
DTSTART;TZID=America/Costa_Rica:20240418T180000
DTEND;TZID=America/Costa_Rica:20240418T210000
DTSTAMP:20260421T133411
CREATED:20231128T003925Z
LAST-MODIFIED:20231128T003925Z
UID:10002253-1713463200-1713474000@ciemicr.org
SUMMARY:Curso básico para el cultivo de orquídeas
DESCRIPTION:Inscríbase aquí \nPrograma
URL:https://ciemicr.org/eventosrefresh_css/curso-cultivo-de-orquideas-3/
LOCATION:Hibrido
CATEGORIES:Capacitaciones
ATTACH;FMTTYPE=image/jpeg:https://ciemicr.org/wp-content/uploads/2023/11/Curso-basico-para-el-cultivo-de-orquideas-1.jpg
END:VEVENT
BEGIN:VEVENT
DTSTART;TZID=America/Costa_Rica:20230824T180000
DTEND;TZID=America/Costa_Rica:20230824T193000
DTSTAMP:20260421T133411
CREATED:20230704T151703Z
LAST-MODIFIED:20230807T214430Z
UID:10000680-1692900000-1692905400@ciemicr.org
SUMMARY:Curso de Orquídeas
DESCRIPTION:Inscríbase aquí \nPrograma \n 
URL:https://ciemicr.org/eventosrefresh_css/curso-de-orquideas/
LOCATION:Hibrido
CATEGORIES:Capacitaciones
ATTACH;FMTTYPE=image/jpeg:https://ciemicr.org/wp-content/uploads/2023/07/Curso-de-Orquideas-1.jpg
END:VEVENT
BEGIN:VEVENT
DTSTART;TZID=America/Costa_Rica:20230824T180000
DTEND;TZID=America/Costa_Rica:20230824T193000
DTSTAMP:20260421T133411
CREATED:20230704T151703Z
LAST-MODIFIED:20230704T151703Z
UID:10001772-1692900000-1692905400@ciemicr.org
SUMMARY:Curso de Orquídeas
DESCRIPTION:Inscríbase aquí \nPrograma \n 
URL:https://ciemicr.org/eventosrefresh_css/curso-de-orquideas-3/
LOCATION:Hibrido
CATEGORIES:Capacitaciones
ATTACH;FMTTYPE=image/jpeg:https://ciemicr.org/wp-content/uploads/2023/07/Curso-de-Orquideas-1.jpg
END:VEVENT
BEGIN:VEVENT
DTSTART;TZID=America/Costa_Rica:20230824T180000
DTEND;TZID=America/Costa_Rica:20230824T193000
DTSTAMP:20260421T133411
CREATED:20230704T151703Z
LAST-MODIFIED:20230704T151703Z
UID:10002190-1692900000-1692905400@ciemicr.org
SUMMARY:Curso de Orquídeas
DESCRIPTION:Inscríbase aquí \nPrograma \n 
URL:https://ciemicr.org/eventosrefresh_css/curso-de-orquideas-4/
LOCATION:Hibrido
CATEGORIES:Capacitaciones
ATTACH;FMTTYPE=image/jpeg:https://ciemicr.org/wp-content/uploads/2023/07/Curso-de-Orquideas-1.jpg
END:VEVENT
BEGIN:VEVENT
DTSTART;TZID=America/Costa_Rica:20230628T183000
DTEND;TZID=America/Costa_Rica:20230628T203000
DTSTAMP:20260421T133411
CREATED:20230519T205834Z
LAST-MODIFIED:20230601T215657Z
UID:10000673-1687977000-1687984200@ciemicr.org
SUMMARY:Curso Auditor Interno Integral\, Estándares ISO 9001\, ISO 22000\, ISO 14000\, ISO 19011
DESCRIPTION:Programa aquí \nInscríbase Aquí
URL:https://ciemicr.org/eventosrefresh_css/curso-auditor-interno-integral/
LOCATION:Hibrido
CATEGORIES:Capacitaciones
ATTACH;FMTTYPE=image/jpeg:https://ciemicr.org/wp-content/uploads/2023/05/Afiche.jpg
END:VEVENT
BEGIN:VEVENT
DTSTART;TZID=America/Costa_Rica:20230628T183000
DTEND;TZID=America/Costa_Rica:20230628T203000
DTSTAMP:20260421T133411
CREATED:20230519T205834Z
LAST-MODIFIED:20230519T205834Z
UID:10001767-1687977000-1687984200@ciemicr.org
SUMMARY:Curso Auditor Interno Integral\, Estándares ISO 9001\, ISO 22000\, ISO 14000\, ISO 19011
DESCRIPTION:Programa aquí \nInscríbase Aquí
URL:https://ciemicr.org/eventosrefresh_css/curso-auditor-interno-integral-3/
LOCATION:Hibrido
CATEGORIES:Capacitaciones
ATTACH;FMTTYPE=image/jpeg:https://ciemicr.org/wp-content/uploads/2023/05/Afiche.jpg
END:VEVENT
BEGIN:VEVENT
DTSTART;TZID=America/Costa_Rica:20230628T183000
DTEND;TZID=America/Costa_Rica:20230628T203000
DTSTAMP:20260421T133411
CREATED:20230519T205834Z
LAST-MODIFIED:20230519T205834Z
UID:10002185-1687977000-1687984200@ciemicr.org
SUMMARY:Curso Auditor Interno Integral\, Estándares ISO 9001\, ISO 22000\, ISO 14000\, ISO 19011
DESCRIPTION:Programa aquí \nInscríbase Aquí
URL:https://ciemicr.org/eventosrefresh_css/curso-auditor-interno-integral-4/
LOCATION:Hibrido
CATEGORIES:Capacitaciones
ATTACH;FMTTYPE=image/jpeg:https://ciemicr.org/wp-content/uploads/2023/05/Afiche.jpg
END:VEVENT
END:VCALENDAR